BEGIN:VCALENDAR
VERSION:2.0
PRODID:-//ROSSS - ECPv6.15.20//NONSGML v1.0//EN
CALSCALE:GREGORIAN
METHOD:PUBLISH
X-WR-CALNAME:ROSSS
X-ORIGINAL-URL:https://rosss.ca
X-WR-CALDESC:Events for ROSSS
REFRESH-INTERVAL;VALUE=DURATION:PT1H
X-Robots-Tag:noindex
X-PUBLISHED-TTL:PT1H
BEGIN:VTIMEZONE
TZID:America/Toronto
BEGIN:DAYLIGHT
TZOFFSETFROM:-0500
TZOFFSETTO:-0400
TZNAME:EDT
DTSTART:20230312T070000
END:DAYLIGHT
BEGIN:STANDARD
TZOFFSETFROM:-0400
TZOFFSETTO:-0500
TZNAME:EST
DTSTART:20231105T060000
END:STANDARD
BEGIN:DAYLIGHT
TZOFFSETFROM:-0500
TZOFFSETTO:-0400
TZNAME:EDT
DTSTART:20240310T070000
END:DAYLIGHT
BEGIN:STANDARD
TZOFFSETFROM:-0400
TZOFFSETTO:-0500
TZNAME:EST
DTSTART:20241103T060000
END:STANDARD
BEGIN:DAYLIGHT
TZOFFSETFROM:-0500
TZOFFSETTO:-0400
TZNAME:EDT
DTSTART:20250309T070000
END:DAYLIGHT
BEGIN:STANDARD
TZOFFSETFROM:-0400
TZOFFSETTO:-0500
TZNAME:EST
DTSTART:20251102T060000
END:STANDARD
END:VTIMEZONE
BEGIN:VEVENT
DTSTART;TZID=America/Toronto:20241121T190000
DTEND;TZID=America/Toronto:20241121T213000
DTSTAMP:20260421T072733
CREATED:20241003T143215Z
LAST-MODIFIED:20241003T143215Z
UID:10000856-1732215600-1732224600@rosss.ca
SUMMARY:ROSSS Holiday Trivia Night
DESCRIPTION:ROSSS Holiday Trivia Night\nGet ready for some festive fun! The ROSSS Holiday Trivia Night is BACK! \nWhen: November 21st\, 7 PM – 9:30 PM\nWhere: Alfred Taylor Rec Centre\, 2300 Community Way\, North Gower\, ON K0A 2T0 \n\nJoin us for an evening of laughter and joy—all for a great cause! Enjoy a cash bar\, delicious chili\, games\, 50/50 draws\, raffle prizes\, and more! \n\nTickets: Only $15\nAll ages welcome!\nTrivia teams:  6 people. \n\nAll proceeds will benefit rural seniors and adults with disabilities.\n\n\nTickets can be purchased by clicking the button here or by visiting our office at 1096 Bridge Street\, Manotick\n\n\n\n\n\nPURCHASE TICKETS
URL:https://rosss.ca/event/rosss-holiday-trivia-night/
LOCATION:Alfred Taylor Rec Centre\, 2300 Community Way\, North Gower\, ON K0A 2T0\, 2300 Community Way ON\, North Gower\, Ontario\, K0A 2T0\, Canada
CATEGORIES:Community Events
ATTACH;FMTTYPE=image/png:https://rosss.ca/wp-content/uploads/2024/10/Copy-of-Trivia-Flyer.png
END:VEVENT
END:VCALENDAR