BEGIN:VCALENDAR
VERSION:2.0
PRODID:-//ROSSS - ECPv6.15.20//NONSGML v1.0//EN
CALSCALE:GREGORIAN
METHOD:PUBLISH
X-ORIGINAL-URL:https://rosss.ca
X-WR-CALDESC:Events for ROSSS
REFRESH-INTERVAL;VALUE=DURATION:PT1H
X-Robots-Tag:noindex
X-PUBLISHED-TTL:PT1H
BEGIN:VTIMEZONE
TZID:America/Toronto
BEGIN:DAYLIGHT
TZOFFSETFROM:-0500
TZOFFSETTO:-0400
TZNAME:EDT
DTSTART:20240310T070000
END:DAYLIGHT
BEGIN:STANDARD
TZOFFSETFROM:-0400
TZOFFSETTO:-0500
TZNAME:EST
DTSTART:20241103T060000
END:STANDARD
BEGIN:DAYLIGHT
TZOFFSETFROM:-0500
TZOFFSETTO:-0400
TZNAME:EDT
DTSTART:20250309T070000
END:DAYLIGHT
BEGIN:STANDARD
TZOFFSETFROM:-0400
TZOFFSETTO:-0500
TZNAME:EST
DTSTART:20251102T060000
END:STANDARD
BEGIN:DAYLIGHT
TZOFFSETFROM:-0500
TZOFFSETTO:-0400
TZNAME:EDT
DTSTART:20260308T070000
END:DAYLIGHT
BEGIN:STANDARD
TZOFFSETFROM:-0400
TZOFFSETTO:-0500
TZNAME:EST
DTSTART:20261101T060000
END:STANDARD
END:VTIMEZONE
BEGIN:VEVENT
DTSTART;TZID=America/Toronto:20250102T100000
DTEND;TZID=America/Toronto:20250102T150000
DTSTAMP:20260421T042707
CREATED:20250106T202337Z
LAST-MODIFIED:20250106T211750Z
UID:10000860-1735812000-1735830000@rosss.ca
SUMMARY:Adult Day Program
DESCRIPTION:Adult Day Program is by referral only by the HCCSS.\nTuesday ADP group is from 10am-2pm and the Caregivers is 10am- 12pm.\n\n****FOR DAYS WITH INCLEMENT WEATHER PLEASE CALL TO VERIFY IF PROGRAMS ARE RUNNING**** \n*For information regarding any of the programs noted on the calendar\, please contact Lyn Rorke 613- 692-4697 ext 224.
URL:https://rosss.ca/event/adult-day-program-3-2-2-2/2025-01-02/
LOCATION:ON
CATEGORIES:Community Events,ROSSS Fundraising Events,Social & Dining Programs
ATTACH;FMTTYPE=image/jpeg:https://rosss.ca/wp-content/uploads/2024/01/NEW-LGBTQ2-Adult-Day-Program.jpg
END:VEVENT
BEGIN:VEVENT
DTSTART;TZID=America/Toronto:20250103T100000
DTEND;TZID=America/Toronto:20250103T120000
DTSTAMP:20260421T042707
CREATED:20250106T202721Z
LAST-MODIFIED:20250326T160343Z
UID:10001121-1735898400-1735905600@rosss.ca
SUMMARY:Cultured Purls
DESCRIPTION:Cultured Purls Knitting Group: Hyfield in Manotick at 5581 Dr Leach Drive\, Open to all. \n****FOR DAYS WITH INCLEMENT WEATHER PLEASE CALL TO VERIFY IF PROGRAMS ARE RUNNING**** \n*For information regarding any of the programs noted on the calendar\, please contact Lyn Rorke 613- 692-4697 ext 224.
URL:https://rosss.ca/event/cultured-purls-2-2/2025-01-03/
LOCATION:Hyfield in Manotick\, 5581 Dr Leach Drive\, Manotick\, ON\, K4M 1J6\, Canada
CATEGORIES:Community Events,ROSSS Fundraising Events,Social & Dining Programs
ATTACH;FMTTYPE=image/jpeg:https://rosss.ca/wp-content/uploads/2024/12/Knitting-Group-ROSSS.jpg
END:VEVENT
BEGIN:VEVENT
DTSTART;TZID=America/Toronto:20250107T100000
DTEND;TZID=America/Toronto:20250107T140000
DTSTAMP:20260421T042707
CREATED:20241203T184109Z
LAST-MODIFIED:20250106T204605Z
UID:10001201-1736244000-1736258400@rosss.ca
SUMMARY:ADP/Caregivers #2
DESCRIPTION:Adult Day Program is by referral only by the HCCSS.\nTuesday ADP group is from 10am-2pm and the Caregivers is 10am- 12pm. \n****FOR DAYS WITH INCLEMENT WEATHER PLEASE CALL TO VERIFY IF PROGRAMS ARE RUNNING**** \n*For information regarding any of the programs noted on the calendar\, please contact Lyn Rorke 613- 692-4697 ext 224.\n–
URL:https://rosss.ca/event/adp-caregivers-2/
LOCATION:ON
CATEGORIES:Community Events,ROSSS Fundraising Events,Social & Dining Programs
ATTACH;FMTTYPE=image/png:https://rosss.ca/wp-content/uploads/2023/02/adult-day-program.png
END:VEVENT
BEGIN:VEVENT
DTSTART;TZID=America/Toronto:20250108T130000
DTEND;TZID=America/Toronto:20250108T150000
DTSTAMP:20260421T042707
CREATED:20241203T184915Z
LAST-MODIFIED:20250106T205258Z
UID:10001182-1736341200-1736348400@rosss.ca
SUMMARY:Richmond Bingo
DESCRIPTION:Richmond Bingo will be held at St.John’s Church Hall\, 67 Fowler St .. Event fee is $6. Registration is appreciated. \n****FOR DAYS WITH INCLEMENT WEATHER PLEASE CALL TO VERIFY IF PROGRAMS ARE RUNNING**** \n*For information regarding any of the programs noted on the calendar\, please contact Lyn Rorke 613- 692-4697 ext 224.
URL:https://rosss.ca/event/richmond-bingo/
LOCATION:Saint John the Baptist Anglican Church\, 67 Fowler St\, Richmond\, ON\, K0A 2Z0\, Canada
CATEGORIES:Community Events,ROSSS Fundraising Events,Social & Dining Programs
ATTACH;FMTTYPE=image/jpeg:https://rosss.ca/wp-content/uploads/2024/12/richmond-bingo.jpg
END:VEVENT
BEGIN:VEVENT
DTSTART;TZID=America/Toronto:20250109T100000
DTEND;TZID=America/Toronto:20250109T150000
DTSTAMP:20260421T042707
CREATED:20250106T202337Z
LAST-MODIFIED:20250106T211750Z
UID:10001466-1736416800-1736434800@rosss.ca
SUMMARY:Adult Day Program
DESCRIPTION:Adult Day Program is by referral only by the HCCSS.\nTuesday ADP group is from 10am-2pm and the Caregivers is 10am- 12pm.\n\n****FOR DAYS WITH INCLEMENT WEATHER PLEASE CALL TO VERIFY IF PROGRAMS ARE RUNNING**** \n*For information regarding any of the programs noted on the calendar\, please contact Lyn Rorke 613- 692-4697 ext 224.
URL:https://rosss.ca/event/adult-day-program-3-2-2-2/2025-01-09/
LOCATION:ON
CATEGORIES:Community Events,ROSSS Fundraising Events,Social & Dining Programs
ATTACH;FMTTYPE=image/jpeg:https://rosss.ca/wp-content/uploads/2024/01/NEW-LGBTQ2-Adult-Day-Program.jpg
END:VEVENT
BEGIN:VEVENT
DTSTART;TZID=America/Toronto:20250110T100000
DTEND;TZID=America/Toronto:20250110T120000
DTSTAMP:20260421T042707
CREATED:20250106T202721Z
LAST-MODIFIED:20250326T160343Z
UID:10001203-1736503200-1736510400@rosss.ca
SUMMARY:Cultured Purls
DESCRIPTION:Cultured Purls Knitting Group: Hyfield in Manotick at 5581 Dr Leach Drive\, Open to all. \n****FOR DAYS WITH INCLEMENT WEATHER PLEASE CALL TO VERIFY IF PROGRAMS ARE RUNNING**** \n*For information regarding any of the programs noted on the calendar\, please contact Lyn Rorke 613- 692-4697 ext 224.
URL:https://rosss.ca/event/cultured-purls-2-2/2025-01-10/
LOCATION:Hyfield in Manotick\, 5581 Dr Leach Drive\, Manotick\, ON\, K4M 1J6\, Canada
CATEGORIES:Community Events,ROSSS Fundraising Events,Social & Dining Programs
ATTACH;FMTTYPE=image/jpeg:https://rosss.ca/wp-content/uploads/2024/12/Knitting-Group-ROSSS.jpg
END:VEVENT
BEGIN:VEVENT
DTSTART;TZID=America/Toronto:20250110T120000
DTEND;TZID=America/Toronto:20250110T140000
DTSTAMP:20260421T042707
CREATED:20250108T191724Z
LAST-MODIFIED:20250227T163755Z
UID:10001728-1736510400-1736517600@rosss.ca
SUMMARY:Connections Lunch: Creekside
DESCRIPTION:*For all connections lunches reservations ARE REQUIRED. Please call Lyn at least 3 business days before the lunch to reserve your spot. \n****FOR DAYS WITH INCLEMENT WEATHER PLEASE CALL TO VERIFY IF PROGRAMS ARE RUNNING**** \n*For information regarding any of the programs noted on the calendar\, please contact Lyn Rorke 613- 692-4697 ext 224.
URL:https://rosss.ca/event/connections-lunch-creekside/
LOCATION:CreekSide Bar & Grill Manotick\, 5511 Manotick Main St\, Manotick\, ON\, K4M 1B2\, Canada
CATEGORIES:Community Events,ROSSS Fundraising Events,Social & Dining Programs
ATTACH;FMTTYPE=image/jpeg:https://rosss.ca/wp-content/uploads/2025/01/creekside-ROSSS-events.jpg
END:VEVENT
BEGIN:VEVENT
DTSTART;TZID=America/Toronto:20250116T100000
DTEND;TZID=America/Toronto:20250116T150000
DTSTAMP:20260421T042707
CREATED:20250106T202337Z
LAST-MODIFIED:20250106T211750Z
UID:10001467-1737021600-1737039600@rosss.ca
SUMMARY:Adult Day Program
DESCRIPTION:Adult Day Program is by referral only by the HCCSS.\nTuesday ADP group is from 10am-2pm and the Caregivers is 10am- 12pm.\n\n****FOR DAYS WITH INCLEMENT WEATHER PLEASE CALL TO VERIFY IF PROGRAMS ARE RUNNING**** \n*For information regarding any of the programs noted on the calendar\, please contact Lyn Rorke 613- 692-4697 ext 224.
URL:https://rosss.ca/event/adult-day-program-3-2-2-2/2025-01-16/
LOCATION:ON
CATEGORIES:Community Events,ROSSS Fundraising Events,Social & Dining Programs
ATTACH;FMTTYPE=image/jpeg:https://rosss.ca/wp-content/uploads/2024/01/NEW-LGBTQ2-Adult-Day-Program.jpg
END:VEVENT
BEGIN:VEVENT
DTSTART;TZID=America/Toronto:20250117T100000
DTEND;TZID=America/Toronto:20250117T120000
DTSTAMP:20260421T042707
CREATED:20250106T202721Z
LAST-MODIFIED:20250326T160343Z
UID:10001204-1737108000-1737115200@rosss.ca
SUMMARY:Cultured Purls
DESCRIPTION:Cultured Purls Knitting Group: Hyfield in Manotick at 5581 Dr Leach Drive\, Open to all. \n****FOR DAYS WITH INCLEMENT WEATHER PLEASE CALL TO VERIFY IF PROGRAMS ARE RUNNING**** \n*For information regarding any of the programs noted on the calendar\, please contact Lyn Rorke 613- 692-4697 ext 224.
URL:https://rosss.ca/event/cultured-purls-2-2/2025-01-17/
LOCATION:Hyfield in Manotick\, 5581 Dr Leach Drive\, Manotick\, ON\, K4M 1J6\, Canada
CATEGORIES:Community Events,ROSSS Fundraising Events,Social & Dining Programs
ATTACH;FMTTYPE=image/jpeg:https://rosss.ca/wp-content/uploads/2024/12/Knitting-Group-ROSSS.jpg
END:VEVENT
BEGIN:VEVENT
DTSTART;TZID=America/Toronto:20250123T100000
DTEND;TZID=America/Toronto:20250123T150000
DTSTAMP:20260421T042707
CREATED:20250106T202337Z
LAST-MODIFIED:20250106T211750Z
UID:10001468-1737626400-1737644400@rosss.ca
SUMMARY:Adult Day Program
DESCRIPTION:Adult Day Program is by referral only by the HCCSS.\nTuesday ADP group is from 10am-2pm and the Caregivers is 10am- 12pm.\n\n****FOR DAYS WITH INCLEMENT WEATHER PLEASE CALL TO VERIFY IF PROGRAMS ARE RUNNING**** \n*For information regarding any of the programs noted on the calendar\, please contact Lyn Rorke 613- 692-4697 ext 224.
URL:https://rosss.ca/event/adult-day-program-3-2-2-2/2025-01-23/
LOCATION:ON
CATEGORIES:Community Events,ROSSS Fundraising Events,Social & Dining Programs
ATTACH;FMTTYPE=image/jpeg:https://rosss.ca/wp-content/uploads/2024/01/NEW-LGBTQ2-Adult-Day-Program.jpg
END:VEVENT
BEGIN:VEVENT
DTSTART;TZID=America/Toronto:20250124T100000
DTEND;TZID=America/Toronto:20250124T120000
DTSTAMP:20260421T042707
CREATED:20250106T202721Z
LAST-MODIFIED:20250326T160343Z
UID:10001205-1737712800-1737720000@rosss.ca
SUMMARY:Cultured Purls
DESCRIPTION:Cultured Purls Knitting Group: Hyfield in Manotick at 5581 Dr Leach Drive\, Open to all. \n****FOR DAYS WITH INCLEMENT WEATHER PLEASE CALL TO VERIFY IF PROGRAMS ARE RUNNING**** \n*For information regarding any of the programs noted on the calendar\, please contact Lyn Rorke 613- 692-4697 ext 224.
URL:https://rosss.ca/event/cultured-purls-2-2/2025-01-24/
LOCATION:Hyfield in Manotick\, 5581 Dr Leach Drive\, Manotick\, ON\, K4M 1J6\, Canada
CATEGORIES:Community Events,ROSSS Fundraising Events,Social & Dining Programs
ATTACH;FMTTYPE=image/jpeg:https://rosss.ca/wp-content/uploads/2024/12/Knitting-Group-ROSSS.jpg
END:VEVENT
BEGIN:VEVENT
DTSTART;TZID=America/Toronto:20250130T100000
DTEND;TZID=America/Toronto:20250130T150000
DTSTAMP:20260421T042707
CREATED:20250106T202337Z
LAST-MODIFIED:20250106T211750Z
UID:10001469-1738231200-1738249200@rosss.ca
SUMMARY:Adult Day Program
DESCRIPTION:Adult Day Program is by referral only by the HCCSS.\nTuesday ADP group is from 10am-2pm and the Caregivers is 10am- 12pm.\n\n****FOR DAYS WITH INCLEMENT WEATHER PLEASE CALL TO VERIFY IF PROGRAMS ARE RUNNING**** \n*For information regarding any of the programs noted on the calendar\, please contact Lyn Rorke 613- 692-4697 ext 224.
URL:https://rosss.ca/event/adult-day-program-3-2-2-2/2025-01-30/
LOCATION:ON
CATEGORIES:Community Events,ROSSS Fundraising Events,Social & Dining Programs
ATTACH;FMTTYPE=image/jpeg:https://rosss.ca/wp-content/uploads/2024/01/NEW-LGBTQ2-Adult-Day-Program.jpg
END:VEVENT
BEGIN:VEVENT
DTSTART;TZID=America/Toronto:20250131T100000
DTEND;TZID=America/Toronto:20250131T120000
DTSTAMP:20260421T042707
CREATED:20250106T202721Z
LAST-MODIFIED:20250326T160343Z
UID:10001206-1738317600-1738324800@rosss.ca
SUMMARY:Cultured Purls
DESCRIPTION:Cultured Purls Knitting Group: Hyfield in Manotick at 5581 Dr Leach Drive\, Open to all. \n****FOR DAYS WITH INCLEMENT WEATHER PLEASE CALL TO VERIFY IF PROGRAMS ARE RUNNING**** \n*For information regarding any of the programs noted on the calendar\, please contact Lyn Rorke 613- 692-4697 ext 224.
URL:https://rosss.ca/event/cultured-purls-2-2/2025-01-31/
LOCATION:Hyfield in Manotick\, 5581 Dr Leach Drive\, Manotick\, ON\, K4M 1J6\, Canada
CATEGORIES:Community Events,ROSSS Fundraising Events,Social & Dining Programs
ATTACH;FMTTYPE=image/jpeg:https://rosss.ca/wp-content/uploads/2024/12/Knitting-Group-ROSSS.jpg
END:VEVENT
END:VCALENDAR