BEGIN:VCALENDAR
VERSION:2.0
PRODID:-//ROSSS - ECPv6.15.20//NONSGML v1.0//EN
CALSCALE:GREGORIAN
METHOD:PUBLISH
X-ORIGINAL-URL:https://rosss.ca
X-WR-CALDESC:Events for ROSSS
REFRESH-INTERVAL;VALUE=DURATION:PT1H
X-Robots-Tag:noindex
X-PUBLISHED-TTL:PT1H
BEGIN:VTIMEZONE
TZID:America/Toronto
BEGIN:DAYLIGHT
TZOFFSETFROM:-0500
TZOFFSETTO:-0400
TZNAME:EDT
DTSTART:20240310T070000
END:DAYLIGHT
BEGIN:STANDARD
TZOFFSETFROM:-0400
TZOFFSETTO:-0500
TZNAME:EST
DTSTART:20241103T060000
END:STANDARD
BEGIN:DAYLIGHT
TZOFFSETFROM:-0500
TZOFFSETTO:-0400
TZNAME:EDT
DTSTART:20250309T070000
END:DAYLIGHT
BEGIN:STANDARD
TZOFFSETFROM:-0400
TZOFFSETTO:-0500
TZNAME:EST
DTSTART:20251102T060000
END:STANDARD
BEGIN:DAYLIGHT
TZOFFSETFROM:-0500
TZOFFSETTO:-0400
TZNAME:EDT
DTSTART:20260308T070000
END:DAYLIGHT
BEGIN:STANDARD
TZOFFSETFROM:-0400
TZOFFSETTO:-0500
TZNAME:EST
DTSTART:20261101T060000
END:STANDARD
END:VTIMEZONE
BEGIN:VEVENT
DTSTART;TZID=America/Toronto:20250801T100000
DTEND;TZID=America/Toronto:20250801T120000
DTSTAMP:20260421T101353
CREATED:20250728T163516Z
LAST-MODIFIED:20250728T163516Z
UID:10003049-1754042400-1754049600@rosss.ca
SUMMARY:Cultured Purls
DESCRIPTION:Cultured Purls Knitting Group: Hyfield in Manotick at 5581 Dr Leach Drive\, Open to all. \n****FOR DAYS WITH INCLEMENT WEATHER PLEASE CALL TO VERIFY IF PROGRAMS ARE RUNNING**** \n*For information regarding any of the programs noted on the calendar\, please contact Lyn Rorke 613- 692-4697 ext 224. \n**For transportation requests to any of our programs please call Tina Brohart at 613-692-4697 ext 237
URL:https://rosss.ca/event/cultured-purls-10/
LOCATION:Hyfield in Manotick\, 5581 Dr Leach Drive\, Manotick\, ON\, K4M 1J6\, Canada
CATEGORIES:Community Events,ROSSS Fundraising Events,Social & Dining Programs
ATTACH;FMTTYPE=image/jpeg:https://rosss.ca/wp-content/uploads/2024/12/Knitting-Group-ROSSS.jpg
END:VEVENT
BEGIN:VEVENT
DTSTART;TZID=America/Toronto:20250805T100000
DTEND;TZID=America/Toronto:20250805T150000
DTSTAMP:20260421T101353
CREATED:20250728T165001Z
LAST-MODIFIED:20250728T165001Z
UID:10003051-1754388000-1754406000@rosss.ca
SUMMARY:Adult Day Program #1
DESCRIPTION:Adult Day Program is by referral only by the HCCSS.\nTuesday ADP group is from 10am-3pm and the Caregivers is 10am- 12pm.\n\n****FOR DAYS WITH INCLEMENT WEATHER PLEASE CALL TO VERIFY IF PROGRAMS ARE RUNNING**** \n*For information regarding any of the programs noted on the calendar\, please contact Lyn Rorke 613- 692-4697 ext 224. \n**For transportation requests to any of our programs please call Tina Brohart at 613-692-4697 ext 237
URL:https://rosss.ca/event/adult-day-program-1-5/
LOCATION:ON
CATEGORIES:Community Events,ROSSS Fundraising Events,Social & Dining Programs
ATTACH;FMTTYPE=image/jpeg:https://rosss.ca/wp-content/uploads/2024/01/NEW-LGBTQ2-Adult-Day-Program.jpg
END:VEVENT
BEGIN:VEVENT
DTSTART;TZID=America/Toronto:20250806T120000
DTEND;TZID=America/Toronto:20250806T140000
DTSTAMP:20260421T101353
CREATED:20250728T165506Z
LAST-MODIFIED:20250828T002853Z
UID:10003052-1754481600-1754488800@rosss.ca
SUMMARY:The Great Social Luncheon in Kars
DESCRIPTION:Formally known as Diners. \nMore of all your favorite things! More entertainment\, more chances to win prizes\, more gifts from local businesses! Plus\, exciting themes showcased through vibrant decor\, stunning flowers\, and engaging games! \nWhen: First Wednesday of every month from 12:00-2:00 PM (Starting April 3\, 2025)\nWhere: Location will rotate between Richmond\, Kars\, Osgoode\, and Greely.\nCost: $18 \n**** All breakfasts and the social luncheon will now have a $5 no show fee if you have not cancelled your reservation by the day before due to food being purchased.*** \nFor more information or to register please contact Lyn Rorke at 613- 692-4697 ext 224. \n**For transportation requests to any of our programs please call Tina Brohart at 613-692-4697 ext 237 \n****FOR DAYS WITH INCLEMENT WEATHER PLEASE CALL TO VERIFY IF PROGRAMS ARE RUNNING**** \n 
URL:https://rosss.ca/event/the-great-social-luncheon-in-kars-2/
LOCATION:Kars Community Recreation Association\, 1604 Old Wellington St\, Kars\, Ontario\, K0A 2E0\, Canada
CATEGORIES:Community Events,DINING PROGRAM,Social & Dining Programs
ATTACH;FMTTYPE=image/jpeg:https://rosss.ca/wp-content/uploads/2025/03/The-Great-Social-Luncheon-ROSSS-Events.jpg
END:VEVENT
BEGIN:VEVENT
DTSTART;TZID=America/Toronto:20250807T100000
DTEND;TZID=America/Toronto:20250807T150000
DTSTAMP:20260421T101353
CREATED:20250326T151244Z
LAST-MODIFIED:20250828T004753Z
UID:10002048-1754560800-1754578800@rosss.ca
SUMMARY:Adult Day Program
DESCRIPTION:Adult Day Program is by referral only by the HCCSS.\nTuesday ADP group is from 10am-3pm and the Caregivers is 10am- 12pm.\n\n****FOR DAYS WITH INCLEMENT WEATHER PLEASE CALL TO VERIFY IF PROGRAMS ARE RUNNING**** \n*For information regarding any of the programs noted on the calendar\, please contact Lyn Rorke 613- 692-4697 ext 224. \n**For transportation requests to any of our programs please call Tina Brohart at 613-692-4697 ext 237
URL:https://rosss.ca/event/adult-day-program-4-2-2/2025-08-07/
LOCATION:ON
CATEGORIES:CAREGIVERS,Community Events,ROSSS Fundraising Events,Social & Dining Programs
ATTACH;FMTTYPE=image/jpeg:https://rosss.ca/wp-content/uploads/2024/01/NEW-LGBTQ2-Adult-Day-Program.jpg
END:VEVENT
BEGIN:VEVENT
DTSTART;TZID=America/Toronto:20250808T100000
DTEND;TZID=America/Toronto:20250808T120000
DTSTAMP:20260421T101353
CREATED:20250728T165922Z
LAST-MODIFIED:20250728T165922Z
UID:10003053-1754647200-1754654400@rosss.ca
SUMMARY:Cultured Purls
DESCRIPTION:Cultured Purls Knitting Group: Hyfield in Manotick at 5581 Dr Leach Drive\, Open to all. \n****FOR DAYS WITH INCLEMENT WEATHER PLEASE CALL TO VERIFY IF PROGRAMS ARE RUNNING**** \n*For information regarding any of the programs noted on the calendar\, please contact Lyn Rorke 613- 692-4697 ext 224. \n**For transportation requests to any of our programs please call Tina Brohart at 613-692-4697 ext 237
URL:https://rosss.ca/event/cultured-purls-11/
LOCATION:Hyfield in Manotick\, 5581 Dr Leach Drive\, Manotick\, ON\, K4M 1J6\, Canada
CATEGORIES:Community Events,ROSSS Fundraising Events,Social & Dining Programs
ATTACH;FMTTYPE=image/jpeg:https://rosss.ca/wp-content/uploads/2024/12/Knitting-Group-ROSSS.jpg
END:VEVENT
BEGIN:VEVENT
DTSTART;TZID=America/Toronto:20250808T120000
DTEND;TZID=America/Toronto:20250808T140000
DTSTAMP:20260421T101353
CREATED:20250728T170055Z
LAST-MODIFIED:20250728T170055Z
UID:10003054-1754654400-1754661600@rosss.ca
SUMMARY:Connections Lunch: Pearl House in Manotick
DESCRIPTION:*For all connections lunches reservations ARE REQUIRED. Please call Lyn at least 3 business days before the lunch to reserve your spot. \n****FOR DAYS WITH INCLEMENT WEATHER PLEASE CALL TO VERIFY IF PROGRAMS ARE RUNNING**** \n*For information regarding any of the programs noted on the calendar\, please contact Lyn Rorke 613- 692-4697 ext 224. \n**For transportation requests to any of our programs please call Tina Brohart at 613-692-4697 ext 237
URL:https://rosss.ca/event/connections-lunch-pearl-house-in-manotick/
LOCATION:Pearl House Dining Lounge\, 1160 Beaverwood Rd\, Manotick\, ON\, K4M 1A9\, Canada
CATEGORIES:Community Events,DINING PROGRAM,ROSSS Fundraising Events,Social & Dining Programs
ATTACH;FMTTYPE=image/jpeg:https://rosss.ca/wp-content/uploads/2024/12/pearl-lounge.jpg
END:VEVENT
BEGIN:VEVENT
DTSTART;TZID=America/Toronto:20250811T090000
DTEND;TZID=America/Toronto:20250811T103000
DTSTAMP:20260421T101353
CREATED:20250728T170332Z
LAST-MODIFIED:20250728T170332Z
UID:10003055-1754902800-1754908200@rosss.ca
SUMMARY:Manotick Breakfast
DESCRIPTION:The Manotick Breakfast is back! The Breakfast takes place at the Manotick Legion located at 5550 Ann St. Breakfast is $12. \nNOTE: Registration is required to reserve a seat.  \n**** All breakfasts and the social luncheon will now have a $5 no show fee if you have not cancelled your reservation by\nthe day before due to food being purchased.*** \n*For information regarding any of the programs noted on the calendar\, please contact Lyn Rorke 613-692-4697 ext 224.\n**For transportation requests to any of our programs please call Tina Brohart at 613-692-4697 ext 237
URL:https://rosss.ca/event/manotick-breakfast-5/
LOCATION:ON
CATEGORIES:Community Events,DINING PROGRAM,Social & Dining Programs
ATTACH;FMTTYPE=image/jpeg:https://rosss.ca/wp-content/uploads/2025/05/manotick-legion.jpg
END:VEVENT
BEGIN:VEVENT
DTSTART;VALUE=DATE:20250812
DTEND;VALUE=DATE:20250813
DTSTAMP:20260421T101353
CREATED:20250703T191818Z
LAST-MODIFIED:20250728T175303Z
UID:10003029-1754956800-1755043199@rosss.ca
SUMMARY:Bus Trip: Lunch & Upper Canada Playhouse - Maggie's Getting Married
DESCRIPTION:Maggie’s Getting Married\n\nA Norm Foster Comedy\nPresented at the Upper Canada Playhouse \n📅 August 12th\, 2025\n📍 Lunch at The MacIntosh Inn\n🎟️ $65 Plus The Cost Of Lunch \n🏁 Bus Stop 1 Departs Manotick Community Centre at 10:45AM \n🏁 Bus Stop 2 Departs Greely Community Centre at 11:15AM \nFor more information or to register\, contact:  \nLyn Rorke\n613-692-4697 ext. 224\nlyn.rorke@rosss.ca \n 
URL:https://rosss.ca/event/bus-trip-lunch-upper-canada-playhouse-maggies-getting-married/
LOCATION:ROSSS\, 1096 Bridge Street\, Manotick\, Ontario\, K4M 1J2\, Canada
CATEGORIES:Community Events,ROSSS Fundraising Events,Social & Dining Programs
ATTACH;FMTTYPE=image/png:https://rosss.ca/wp-content/uploads/2025/07/Upper-canada-playhouse-3.png
END:VEVENT
BEGIN:VEVENT
DTSTART;TZID=America/Toronto:20250812T100000
DTEND;TZID=America/Toronto:20250812T150000
DTSTAMP:20260421T101353
CREATED:20250728T170715Z
LAST-MODIFIED:20250728T170715Z
UID:10003056-1754992800-1755010800@rosss.ca
SUMMARY:Adult Day Program #2
DESCRIPTION:Adult Day Program is by referral only by the HCCSS.\nTuesday ADP group is from 10am-3pm and the Caregivers is 10am- 12pm.\n\n****FOR DAYS WITH INCLEMENT WEATHER PLEASE CALL TO VERIFY IF PROGRAMS ARE RUNNING**** \n*For information regarding any of the programs noted on the calendar\, please contact Lyn Rorke 613- 692-4697 ext 224. \n**For transportation requests to any of our programs please call Tina Brohart at 613-692-4697 ext 237
URL:https://rosss.ca/event/adult-day-program-2-5/
LOCATION:ON
CATEGORIES:Community Events,ROSSS Fundraising Events,Social & Dining Programs
ATTACH;FMTTYPE=image/jpeg:https://rosss.ca/wp-content/uploads/2024/01/NEW-LGBTQ2-Adult-Day-Program.jpg
END:VEVENT
BEGIN:VEVENT
DTSTART;TZID=America/Toronto:20250813T100000
DTEND;TZID=America/Toronto:20250813T120000
DTSTAMP:20260421T101353
CREATED:20250728T171645Z
LAST-MODIFIED:20250728T171645Z
UID:10003057-1755079200-1755086400@rosss.ca
SUMMARY:Osgoode Bingo
DESCRIPTION:Osgoode Bingo will be held at 0 -YA\, 54 79 Osgoode Main Street. Event fee is $6. Registration is appreciated. \n****FOR DAYS WITH INCLEMENT WEATHER PLEASE CALL TO VERIFY IF PROGRAMS ARE RUNNING**** \n*For information regarding any of the programs noted on the calendar\, please contact Lyn Rorke 613- 692-4697 ext 224. \n**For transportation requests to any of our programs please call Tina Brohart at 613-692-4697 ext 237
URL:https://rosss.ca/event/osgoode-bingo-4/
LOCATION:Osgoode Legion\, 3284 Sunstrum St\,\, Osgoode\, ON\, K0A 2W0\, Canada
CATEGORIES:Community Events,ROSSS Fundraising Events,Social & Dining Programs
ATTACH;FMTTYPE=image/jpeg:https://rosss.ca/wp-content/uploads/2024/12/Osgoode-bingo.jpg
END:VEVENT
BEGIN:VEVENT
DTSTART;TZID=America/Toronto:20250814T100000
DTEND;TZID=America/Toronto:20250814T150000
DTSTAMP:20260421T101353
CREATED:20250326T151244Z
LAST-MODIFIED:20250828T004753Z
UID:10002049-1755165600-1755183600@rosss.ca
SUMMARY:Adult Day Program
DESCRIPTION:Adult Day Program is by referral only by the HCCSS.\nTuesday ADP group is from 10am-3pm and the Caregivers is 10am- 12pm.\n\n****FOR DAYS WITH INCLEMENT WEATHER PLEASE CALL TO VERIFY IF PROGRAMS ARE RUNNING**** \n*For information regarding any of the programs noted on the calendar\, please contact Lyn Rorke 613- 692-4697 ext 224. \n**For transportation requests to any of our programs please call Tina Brohart at 613-692-4697 ext 237
URL:https://rosss.ca/event/adult-day-program-4-2-2/2025-08-14/
LOCATION:ON
CATEGORIES:CAREGIVERS,Community Events,ROSSS Fundraising Events,Social & Dining Programs
ATTACH;FMTTYPE=image/jpeg:https://rosss.ca/wp-content/uploads/2024/01/NEW-LGBTQ2-Adult-Day-Program.jpg
END:VEVENT
BEGIN:VEVENT
DTSTART;TZID=America/Toronto:20250815T100000
DTEND;TZID=America/Toronto:20250815T120000
DTSTAMP:20260421T101353
CREATED:20250728T171915Z
LAST-MODIFIED:20250728T171915Z
UID:10003058-1755252000-1755259200@rosss.ca
SUMMARY:Cultured Purls
DESCRIPTION:Cultured Purls Knitting Group: Hyfield in Manotick at 5581 Dr Leach Drive\, Open to all. \n****FOR DAYS WITH INCLEMENT WEATHER PLEASE CALL TO VERIFY IF PROGRAMS ARE RUNNING**** \n*For information regarding any of the programs noted on the calendar\, please contact Lyn Rorke 613- 692-4697 ext 224. \n**For transportation requests to any of our programs please call Tina Brohart at 613-692-4697 ext 237
URL:https://rosss.ca/event/cultured-purls-12/
LOCATION:Hyfield in Manotick\, 5581 Dr Leach Drive\, Manotick\, ON\, K4M 1J6\, Canada
CATEGORIES:Community Events,ROSSS Fundraising Events,Social & Dining Programs
ATTACH;FMTTYPE=image/jpeg:https://rosss.ca/wp-content/uploads/2024/12/Knitting-Group-ROSSS.jpg
END:VEVENT
BEGIN:VEVENT
DTSTART;TZID=America/Toronto:20250819T100000
DTEND;TZID=America/Toronto:20250819T150000
DTSTAMP:20260421T101353
CREATED:20250728T172014Z
LAST-MODIFIED:20250728T172014Z
UID:10003059-1755597600-1755615600@rosss.ca
SUMMARY:Adult Day Program #1
DESCRIPTION:Adult Day Program is by referral only by the HCCSS.\nTuesday ADP group is from 10am-3pm and the Caregivers is 10am- 12pm.\n\n****FOR DAYS WITH INCLEMENT WEATHER PLEASE CALL TO VERIFY IF PROGRAMS ARE RUNNING**** \n*For information regarding any of the programs noted on the calendar\, please contact Lyn Rorke 613- 692-4697 ext 224. \n**For transportation requests to any of our programs please call Tina Brohart at 613-692-4697 ext 237
URL:https://rosss.ca/event/adult-day-program-1-6/
LOCATION:ON
CATEGORIES:Community Events,ROSSS Fundraising Events,Social & Dining Programs
ATTACH;FMTTYPE=image/jpeg:https://rosss.ca/wp-content/uploads/2024/01/NEW-LGBTQ2-Adult-Day-Program.jpg
END:VEVENT
BEGIN:VEVENT
DTSTART;TZID=America/Toronto:20250820T120000
DTEND;TZID=America/Toronto:20250820T140000
DTSTAMP:20260421T101353
CREATED:20250728T184633Z
LAST-MODIFIED:20250728T185156Z
UID:10003069-1755691200-1755698400@rosss.ca
SUMMARY:Connections Lunch: Swan on the Rideau
DESCRIPTION:*For all connections lunches reservations ARE REQUIRED. Please call Lyn at least 3 business days before the lunch to reserve your spot. \n****FOR DAYS WITH INCLEMENT WEATHER PLEASE CALL TO VERIFY IF PROGRAMS ARE RUNNING**** \n*For information regarding any of the programs noted on the calendar\, please contact Lyn Rorke 613- 692-4697 ext 224. \n**For transportation requests to any of our programs please call Tina Brohart at 613-692-4697 ext 237
URL:https://rosss.ca/event/connections-lunch-swan-on-the-rideau/
LOCATION:Swan on the Rideau\, 2730 River Rd\, Manotick\, Ontario\, K4M 1B4\, Canada
CATEGORIES:Community Events,DINING PROGRAM,ROSSS Fundraising Events,Social & Dining Programs
ATTACH;FMTTYPE=image/jpeg:https://rosss.ca/wp-content/uploads/2025/07/Swan.jpg
END:VEVENT
BEGIN:VEVENT
DTSTART;TZID=America/Toronto:20250821T100000
DTEND;TZID=America/Toronto:20250821T150000
DTSTAMP:20260421T101353
CREATED:20250326T151244Z
LAST-MODIFIED:20250828T004753Z
UID:10002050-1755770400-1755788400@rosss.ca
SUMMARY:Adult Day Program
DESCRIPTION:Adult Day Program is by referral only by the HCCSS.\nTuesday ADP group is from 10am-3pm and the Caregivers is 10am- 12pm.\n\n****FOR DAYS WITH INCLEMENT WEATHER PLEASE CALL TO VERIFY IF PROGRAMS ARE RUNNING**** \n*For information regarding any of the programs noted on the calendar\, please contact Lyn Rorke 613- 692-4697 ext 224. \n**For transportation requests to any of our programs please call Tina Brohart at 613-692-4697 ext 237
URL:https://rosss.ca/event/adult-day-program-4-2-2/2025-08-21/
LOCATION:ON
CATEGORIES:CAREGIVERS,Community Events,ROSSS Fundraising Events,Social & Dining Programs
ATTACH;FMTTYPE=image/jpeg:https://rosss.ca/wp-content/uploads/2024/01/NEW-LGBTQ2-Adult-Day-Program.jpg
END:VEVENT
BEGIN:VEVENT
DTSTART;TZID=America/Toronto:20250822T100000
DTEND;TZID=America/Toronto:20250822T120000
DTSTAMP:20260421T101353
CREATED:20250728T174813Z
LAST-MODIFIED:20250728T174813Z
UID:10003060-1755856800-1755864000@rosss.ca
SUMMARY:Cultured Purls
DESCRIPTION:Cultured Purls Knitting Group: Hyfield in Manotick at 5581 Dr Leach Drive\, Open to all. \n****FOR DAYS WITH INCLEMENT WEATHER PLEASE CALL TO VERIFY IF PROGRAMS ARE RUNNING**** \n*For information regarding any of the programs noted on the calendar\, please contact Lyn Rorke 613- 692-4697 ext 224. \n**For transportation requests to any of our programs please call Tina Brohart at 613-692-4697 ext 237
URL:https://rosss.ca/event/cultured-purls-13/
LOCATION:Hyfield in Manotick\, 5581 Dr Leach Drive\, Manotick\, ON\, K4M 1J6\, Canada
CATEGORIES:Community Events,ROSSS Fundraising Events,Social & Dining Programs
ATTACH;FMTTYPE=image/jpeg:https://rosss.ca/wp-content/uploads/2024/12/Knitting-Group-ROSSS.jpg
END:VEVENT
BEGIN:VEVENT
DTSTART;TZID=America/Toronto:20250825T120000
DTEND;TZID=America/Toronto:20250825T140000
DTSTAMP:20260421T101353
CREATED:20250728T175519Z
LAST-MODIFIED:20251109T061047Z
UID:10003063-1756123200-1756130400@rosss.ca
SUMMARY:Connections Lunch: The Marlborough
DESCRIPTION:*For all connections lunches reservations ARE REQUIRED. Please call Lyn at least 3 business days before the lunch to reserve your spot. \n****FOR DAYS WITH INCLEMENT WEATHER PLEASE CALL TO VERIFY IF PROGRAMS ARE RUNNING**** \n*For information regarding any of the programs noted on the calendar\, please contact Lyn Rorke 613- 692-4697 ext 224. \n**For transportation requests to any of our programs please call Tina Brohart at 613-692-4697 ext 237
URL:https://rosss.ca/event/connections-lunch-the-marlborough-2/2025-08-25/
LOCATION:The Marlborough Pub and Eatery\, 2364 Roger Stevens Dr\, North Gower\, ON\, K0A 2T0\, Canada
CATEGORIES:Community Events,DINING PROGRAM,ROSSS Fundraising Events,Social & Dining Programs
ATTACH;FMTTYPE=image/jpeg:https://rosss.ca/wp-content/uploads/2024/12/The-Marlborough.jpg
END:VEVENT
BEGIN:VEVENT
DTSTART;TZID=America/Toronto:20250826T100000
DTEND;TZID=America/Toronto:20250826T150000
DTSTAMP:20260421T101353
CREATED:20250728T175636Z
LAST-MODIFIED:20250728T175636Z
UID:10003064-1756202400-1756220400@rosss.ca
SUMMARY:Adult Day Program #2
DESCRIPTION:Adult Day Program is by referral only by the HCCSS.\nTuesday ADP group is from 10am-3pm and the Caregivers is 10am- 12pm.\n\n****FOR DAYS WITH INCLEMENT WEATHER PLEASE CALL TO VERIFY IF PROGRAMS ARE RUNNING**** \n*For information regarding any of the programs noted on the calendar\, please contact Lyn Rorke 613- 692-4697 ext 224. \n**For transportation requests to any of our programs please call Tina Brohart at 613-692-4697 ext 237
URL:https://rosss.ca/event/adult-day-program-2-6/
LOCATION:ON
CATEGORIES:Community Events,ROSSS Fundraising Events,Social & Dining Programs
ATTACH;FMTTYPE=image/jpeg:https://rosss.ca/wp-content/uploads/2024/01/NEW-LGBTQ2-Adult-Day-Program.jpg
END:VEVENT
BEGIN:VEVENT
DTSTART;TZID=America/Toronto:20250827T100000
DTEND;TZID=America/Toronto:20250827T120000
DTSTAMP:20260421T101353
CREATED:20250728T180033Z
LAST-MODIFIED:20250728T180033Z
UID:10003065-1756288800-1756296000@rosss.ca
SUMMARY:Osgoode Coffee and Cards
DESCRIPTION:A relaxed\, fun-filled event where you can enjoy a warm cup of coffee while diving into your favorite card games! Whether you’re a seasoned pro or a beginner\, bring your friends and challenge them to exciting rounds of Euchre and more. \nCoffee and Cards will be held at the O-YA\, 5479 Osgoode Main St. Event is $6. Registration is appreciated. \n****FOR DAYS WITH INCLEMENT WEATHER PLEASE CALL TO VERIFY IF PROGRAMS ARE RUNNING**** \n*For information regarding any of the programs noted on the calendar\, please contact Lyn Rorke 613- 692-4697 ext 224. \n**For transportation requests to any of our programs please call Tina Brohart at 613-692-4697 ext 237
URL:https://rosss.ca/event/osgoode-coffee-and-cards/
LOCATION:The Osgoode Youth Association\, 5479 Osgoode Main Street\, Osgoode\, Ontario\, K0A 2WO\, Canada
CATEGORIES:Community Events,ROSSS Fundraising Events,Social & Dining Programs
ATTACH;FMTTYPE=image/jpeg:https://rosss.ca/wp-content/uploads/2025/01/coffee-and-cards-event-ROSSS.jpg
END:VEVENT
BEGIN:VEVENT
DTSTART;TZID=America/Toronto:20250828T100000
DTEND;TZID=America/Toronto:20250828T150000
DTSTAMP:20260421T101353
CREATED:20250326T151244Z
LAST-MODIFIED:20250828T004753Z
UID:10002051-1756375200-1756393200@rosss.ca
SUMMARY:Adult Day Program
DESCRIPTION:Adult Day Program is by referral only by the HCCSS.\nTuesday ADP group is from 10am-3pm and the Caregivers is 10am- 12pm.\n\n****FOR DAYS WITH INCLEMENT WEATHER PLEASE CALL TO VERIFY IF PROGRAMS ARE RUNNING**** \n*For information regarding any of the programs noted on the calendar\, please contact Lyn Rorke 613- 692-4697 ext 224. \n**For transportation requests to any of our programs please call Tina Brohart at 613-692-4697 ext 237
URL:https://rosss.ca/event/adult-day-program-4-2-2/2025-08-28/
LOCATION:ON
CATEGORIES:CAREGIVERS,Community Events,ROSSS Fundraising Events,Social & Dining Programs
ATTACH;FMTTYPE=image/jpeg:https://rosss.ca/wp-content/uploads/2024/01/NEW-LGBTQ2-Adult-Day-Program.jpg
END:VEVENT
BEGIN:VEVENT
DTSTART;TZID=America/Toronto:20250829T090000
DTEND;TZID=America/Toronto:20250829T103000
DTSTAMP:20260421T101354
CREATED:20250728T180310Z
LAST-MODIFIED:20250728T180310Z
UID:10003066-1756458000-1756463400@rosss.ca
SUMMARY:Metcalfe Breakfast
DESCRIPTION:Metcalfe Breakfast: Lions Den at 2821 8th Line Rd. Registration is required. Breakfast is $12. \n**** All breakfasts and the social luncheon will now have a $5 no show fee if you have not cancelled your reservation by\nthe day before due to food being purchased.*** \n****FOR DAYS WITH INCLEMENT WEATHER PLEASE CALL TO VERIFY IF PROGRAMS ARE RUNNING**** \n*For information regarding any of the programs noted on the calendar\, please contact Lyn Rorke 613- 692-4697 ext 224. \n**For transportation requests to any of our programs please call Tina Brohart at 613-692-4697 ext 237
URL:https://rosss.ca/event/metcalfe-breakfast-4/
LOCATION:Lions Den\, 2821 8th Line Rd\, Metcalfe\, ON\, K0A 2P0\, Canada
CATEGORIES:Community Events,DINING PROGRAM,ROSSS Fundraising Events,Social & Dining Programs
ATTACH;FMTTYPE=image/jpeg:https://rosss.ca/wp-content/uploads/2024/12/metcalfe-breakfast.jpg
END:VEVENT
BEGIN:VEVENT
DTSTART;TZID=America/Toronto:20250829T100000
DTEND;TZID=America/Toronto:20250829T120000
DTSTAMP:20260421T101354
CREATED:20250728T180415Z
LAST-MODIFIED:20250728T180415Z
UID:10003067-1756461600-1756468800@rosss.ca
SUMMARY:Cultured Purls
DESCRIPTION:Cultured Purls Knitting Group: Hyfield in Manotick at 5581 Dr Leach Drive\, Open to all. \n****FOR DAYS WITH INCLEMENT WEATHER PLEASE CALL TO VERIFY IF PROGRAMS ARE RUNNING**** \n*For information regarding any of the programs noted on the calendar\, please contact Lyn Rorke 613- 692-4697 ext 224. \n**For transportation requests to any of our programs please call Tina Brohart at 613-692-4697 ext 237
URL:https://rosss.ca/event/cultured-purls-14/
LOCATION:Hyfield in Manotick\, 5581 Dr Leach Drive\, Manotick\, ON\, K4M 1J6\, Canada
CATEGORIES:Community Events,ROSSS Fundraising Events,Social & Dining Programs
ATTACH;FMTTYPE=image/jpeg:https://rosss.ca/wp-content/uploads/2024/12/Knitting-Group-ROSSS.jpg
END:VEVENT
END:VCALENDAR