BEGIN:VCALENDAR
VERSION:2.0
PRODID:-//ROSSS - ECPv6.15.20//NONSGML v1.0//EN
CALSCALE:GREGORIAN
METHOD:PUBLISH
X-ORIGINAL-URL:https://rosss.ca
X-WR-CALDESC:Events for ROSSS
REFRESH-INTERVAL;VALUE=DURATION:PT1H
X-Robots-Tag:noindex
X-PUBLISHED-TTL:PT1H
BEGIN:VTIMEZONE
TZID:America/Toronto
BEGIN:DAYLIGHT
TZOFFSETFROM:-0500
TZOFFSETTO:-0400
TZNAME:EDT
DTSTART:20250309T070000
END:DAYLIGHT
BEGIN:STANDARD
TZOFFSETFROM:-0400
TZOFFSETTO:-0500
TZNAME:EST
DTSTART:20251102T060000
END:STANDARD
BEGIN:DAYLIGHT
TZOFFSETFROM:-0500
TZOFFSETTO:-0400
TZNAME:EDT
DTSTART:20260308T070000
END:DAYLIGHT
BEGIN:STANDARD
TZOFFSETFROM:-0400
TZOFFSETTO:-0500
TZNAME:EST
DTSTART:20261101T060000
END:STANDARD
BEGIN:DAYLIGHT
TZOFFSETFROM:-0500
TZOFFSETTO:-0400
TZNAME:EDT
DTSTART:20270314T070000
END:DAYLIGHT
BEGIN:STANDARD
TZOFFSETFROM:-0400
TZOFFSETTO:-0500
TZNAME:EST
DTSTART:20271107T060000
END:STANDARD
END:VTIMEZONE
BEGIN:VEVENT
DTSTART;TZID=America/Toronto:20260423T100000
DTEND;TZID=America/Toronto:20260423T150000
DTSTAMP:20260423T175718
CREATED:20250326T151244Z
LAST-MODIFIED:20250828T004753Z
UID:10002085-1776938400-1776956400@rosss.ca
SUMMARY:Adult Day Program
DESCRIPTION:Adult Day Program is by referral only by the HCCSS.\nTuesday ADP group is from 10am-3pm and the Caregivers is 10am- 12pm.\n\n****FOR DAYS WITH INCLEMENT WEATHER PLEASE CALL TO VERIFY IF PROGRAMS ARE RUNNING**** \n*For information regarding any of the programs noted on the calendar\, please contact Lyn Rorke 613- 692-4697 ext 224. \n**For transportation requests to any of our programs please call Tina Brohart at 613-692-4697 ext 237
URL:https://rosss.ca/event/adult-day-program-4-2-2/2026-04-23/
LOCATION:ON
CATEGORIES:CAREGIVERS,Community Events,ROSSS Fundraising Events,Social & Dining Programs
ATTACH;FMTTYPE=image/jpeg:https://rosss.ca/wp-content/uploads/2024/01/NEW-LGBTQ2-Adult-Day-Program.jpg
END:VEVENT
BEGIN:VEVENT
DTSTART;TZID=America/Toronto:20260423T133000
DTEND;TZID=America/Toronto:20260423T153000
DTSTAMP:20260423T175718
CREATED:20260331T202227Z
LAST-MODIFIED:20260331T202227Z
UID:10003369-1776951000-1776958200@rosss.ca
SUMMARY:Pickleball
DESCRIPTION:Join ROSSS for an exciting pickleball event filled with fun\, friendly competition\, and community spirit! Don’t miss this chance to connect\, play\, and enjoy a great day on the court. \n*Pickleball is by registration only. \n****FOR DAYS WITH INCLEMENT WEATHER PLEASE CALL TO VERIFY IF PROGRAMS ARE RUNNING**** \n*For information regarding any of the programs noted on the calendar\, please contact Lyn Rorke 613-692-4697 ext 224.\n**For transportation requests to any of our programs please call Tina Brohart at 613-692-4697 ext 237.
URL:https://rosss.ca/event/pickleball-28/
LOCATION:Greely Community Centre\, 1448 Meadow Dr\, Greely\, ON\, Canada
CATEGORIES:Community Events,FITNESS & RECREATION,Social & Dining Programs
ATTACH;FMTTYPE=image/jpeg:https://rosss.ca/wp-content/uploads/2024/12/Pickleball-ROSSS-events.jpg
END:VEVENT
BEGIN:VEVENT
DTSTART;TZID=America/Toronto:20260423T163000
DTEND;TZID=America/Toronto:20260423T173000
DTSTAMP:20260423T175718
CREATED:20260331T202520Z
LAST-MODIFIED:20260331T202520Z
UID:10003370-1776961800-1776965400@rosss.ca
SUMMARY:Line Dancing Week #3
DESCRIPTION:Line Dancing at the Greely Community Centre. Registration is required. Cost is $10. \n****FOR DAYS WITH INCLEMENT WEATHER PLEASE CALL TO VERIFY IF PROGRAMS ARE RUNNING**** \n*For information regarding any of the programs noted on the calendar\, please contact Lyn Rorke 613- 692-4697 ext 224. \n**For transportation requests to any of our programs please call Tina Brohart at 613-692-4697 ext 237.
URL:https://rosss.ca/event/line-dancing-week-3/
LOCATION:Greely Community Centre\, 1448 Meadow Dr\, Greely\, ON\, Canada
CATEGORIES:Community Events,FITNESS & RECREATION,ROSSS Fundraising Events,Social & Dining Programs
ATTACH;FMTTYPE=image/jpeg:https://rosss.ca/wp-content/uploads/2026/01/dancing.jpg
END:VEVENT
BEGIN:VEVENT
DTSTART;TZID=America/Toronto:20260424T090000
DTEND;TZID=America/Toronto:20260424T103000
DTSTAMP:20260423T175718
CREATED:20260331T202746Z
LAST-MODIFIED:20260331T202746Z
UID:10003371-1777021200-1777026600@rosss.ca
SUMMARY:Metcalfe Breakfast
DESCRIPTION:Metcalfe Breakfast: Kenmore Community Hall\, 3242 Yorks Corner Road. Registration is required. Breakfast is $12. \n**** All breakfasts and the Great Social Luncheon will now have a $5 no show fee if you have not cancelled your reservation by\nthe morning of due to food being purchased prepared.*** \n****FOR DAYS WITH INCLEMENT WEATHER PLEASE CALL TO VERIFY IF PROGRAMS ARE RUNNING**** \n*For information regarding any of the programs noted on the calendar\, please contact Lyn Rorke 613- 692-4697 ext 224. \n**For transportation requests to any of our programs please call Tina Brohart at 613-692-4697 ext 237.
URL:https://rosss.ca/event/metcalfe-breakfast-12/
LOCATION:Kenmore Community Hall\, 3242 York's Corner Road\, Osgoode\, Ontario\, K0A 2P0\, Canada
CATEGORIES:Community Events,DINING PROGRAM,ROSSS Fundraising Events,Social & Dining Programs
ATTACH;FMTTYPE=image/jpeg:https://rosss.ca/wp-content/uploads/2024/12/metcalfe-breakfast.jpg
END:VEVENT
BEGIN:VEVENT
DTSTART;TZID=America/Toronto:20260424T100000
DTEND;TZID=America/Toronto:20260424T120000
DTSTAMP:20260423T175718
CREATED:20260331T202850Z
LAST-MODIFIED:20260331T202850Z
UID:10003372-1777024800-1777032000@rosss.ca
SUMMARY:Cultured Purls
DESCRIPTION:Cultured Purls Knitting Group: Hyfield in Manotick at 5581 Dr Leach Drive\, Open to all. \n****FOR DAYS WITH INCLEMENT WEATHER PLEASE CALL TO VERIFY IF PROGRAMS ARE RUNNING**** \n*For information regarding any of the programs noted on the calendar\, please contact Lyn Rorke 613- 692-4697 ext 224. \n**For transportation requests to any of our programs please call Tina Brohart at 613-692-4697 ext 237.
URL:https://rosss.ca/event/cultured-purls-45/
LOCATION:Hyfield in Manotick\, 5581 Dr Leach Drive\, Manotick\, ON\, K4M 1J6\, Canada
CATEGORIES:Community Events,ROSSS Fundraising Events,Social & Dining Programs
ATTACH;FMTTYPE=image/jpeg:https://rosss.ca/wp-content/uploads/2024/12/Knitting-Group-ROSSS.jpg
END:VEVENT
BEGIN:VEVENT
DTSTART;TZID=America/Toronto:20260424T123000
DTEND;TZID=America/Toronto:20260424T140000
DTSTAMP:20260423T175718
CREATED:20260331T203008Z
LAST-MODIFIED:20260331T203008Z
UID:10003373-1777033800-1777039200@rosss.ca
SUMMARY:Pickleball
DESCRIPTION:Join ROSSS for an exciting pickleball event filled with fun\, friendly competition\, and community spirit! Don’t miss this chance to connect\, play\, and enjoy a great day on the court. \n*Pickleball is by registration only. \n****FOR DAYS WITH INCLEMENT WEATHER PLEASE CALL TO VERIFY IF PROGRAMS ARE RUNNING**** \n*For information regarding any of the programs noted on the calendar\, please contact Lyn Rorke 613-692-4697 ext 224.\n**For transportation requests to any of our programs please call Tina Brohart at 613-692-4697 ext 237.
URL:https://rosss.ca/event/pickleball-29/
LOCATION:Greely Community Centre\, 1448 Meadow Dr\, Greely\, ON\, Canada
CATEGORIES:Community Events,FITNESS & RECREATION,Social & Dining Programs
ATTACH;FMTTYPE=image/jpeg:https://rosss.ca/wp-content/uploads/2024/12/Pickleball-ROSSS-events.jpg
END:VEVENT
BEGIN:VEVENT
DTSTART;TZID=America/Toronto:20260424T140000
DTEND;TZID=America/Toronto:20260424T153000
DTSTAMP:20260423T175718
CREATED:20260331T203046Z
LAST-MODIFIED:20260331T203046Z
UID:10003374-1777039200-1777044600@rosss.ca
SUMMARY:Pickleball
DESCRIPTION:Join ROSSS for an exciting pickleball event filled with fun\, friendly competition\, and community spirit! Don’t miss this chance to connect\, play\, and enjoy a great day on the court. \n*Pickleball is by registration only. \n****FOR DAYS WITH INCLEMENT WEATHER PLEASE CALL TO VERIFY IF PROGRAMS ARE RUNNING**** \n*For information regarding any of the programs noted on the calendar\, please contact Lyn Rorke 613-692-4697 ext 224.\n**For transportation requests to any of our programs please call Tina Brohart at 613-692-4697 ext 237.
URL:https://rosss.ca/event/pickleball-30/
LOCATION:Greely Community Centre\, 1448 Meadow Dr\, Greely\, ON\, Canada
CATEGORIES:Community Events,FITNESS & RECREATION,Social & Dining Programs
ATTACH;FMTTYPE=image/jpeg:https://rosss.ca/wp-content/uploads/2024/12/Pickleball-ROSSS-events.jpg
END:VEVENT
BEGIN:VEVENT
DTSTART;TZID=America/Toronto:20260427T123000
DTEND;TZID=America/Toronto:20260427T140000
DTSTAMP:20260423T175718
CREATED:20260331T203148Z
LAST-MODIFIED:20260331T203148Z
UID:10003375-1777293000-1777298400@rosss.ca
SUMMARY:Pickleball
DESCRIPTION:Join ROSSS for an exciting pickleball event filled with fun\, friendly competition\, and community spirit! Don’t miss this chance to connect\, play\, and enjoy a great day on the court. \n*Pickleball is by registration only. \n****FOR DAYS WITH INCLEMENT WEATHER PLEASE CALL TO VERIFY IF PROGRAMS ARE RUNNING**** \n*For information regarding any of the programs noted on the calendar\, please contact Lyn Rorke 613-692-4697 ext 224.\n**For transportation requests to any of our programs please call Tina Brohart at 613-692-4697 ext 237.
URL:https://rosss.ca/event/pickleball-31/
LOCATION:Greely Community Centre\, 1448 Meadow Dr\, Greely\, ON\, Canada
CATEGORIES:Community Events,FITNESS & RECREATION,Social & Dining Programs
ATTACH;FMTTYPE=image/jpeg:https://rosss.ca/wp-content/uploads/2024/12/Pickleball-ROSSS-events.jpg
END:VEVENT
BEGIN:VEVENT
DTSTART;TZID=America/Toronto:20260427T140000
DTEND;TZID=America/Toronto:20260427T153000
DTSTAMP:20260423T175718
CREATED:20260331T203218Z
LAST-MODIFIED:20260331T203218Z
UID:10003376-1777298400-1777303800@rosss.ca
SUMMARY:Pickleball
DESCRIPTION:Join ROSSS for an exciting pickleball event filled with fun\, friendly competition\, and community spirit! Don’t miss this chance to connect\, play\, and enjoy a great day on the court. \n*Pickleball is by registration only. \n****FOR DAYS WITH INCLEMENT WEATHER PLEASE CALL TO VERIFY IF PROGRAMS ARE RUNNING**** \n*For information regarding any of the programs noted on the calendar\, please contact Lyn Rorke 613-692-4697 ext 224.\n**For transportation requests to any of our programs please call Tina Brohart at 613-692-4697 ext 237.
URL:https://rosss.ca/event/pickleball-32/
LOCATION:Greely Community Centre\, 1448 Meadow Dr\, Greely\, ON\, Canada
CATEGORIES:Community Events,FITNESS & RECREATION,Social & Dining Programs
ATTACH;FMTTYPE=image/jpeg:https://rosss.ca/wp-content/uploads/2024/12/Pickleball-ROSSS-events.jpg
END:VEVENT
BEGIN:VEVENT
DTSTART;TZID=America/Toronto:20260428T100000
DTEND;TZID=America/Toronto:20260428T140000
DTSTAMP:20260423T175718
CREATED:20260331T203326Z
LAST-MODIFIED:20260331T203340Z
UID:10003377-1777370400-1777384800@rosss.ca
SUMMARY:Adult Day Program #1
DESCRIPTION:Adult Day Program is by referral only by the HCCSS.\nTuesday ADP group is from 10am-3pm and the Caregivers is 10am- 12pm.\n\n****FOR DAYS WITH INCLEMENT WEATHER PLEASE CALL TO VERIFY IF PROGRAMS ARE RUNNING**** \n*For information regarding any of the programs noted on the calendar\, please contact Lyn Rorke 613- 692-4697 ext 224. \n**For transportation requests to any of our programs please call Tina Brohart at 613-692-4697 ext 237.
URL:https://rosss.ca/event/adult-day-program-1-23/
LOCATION:ON
CATEGORIES:CAREGIVERS,Community Events,ROSSS Fundraising Events,Social & Dining Programs
ATTACH;FMTTYPE=image/jpeg:https://rosss.ca/wp-content/uploads/2024/01/NEW-LGBTQ2-Adult-Day-Program.jpg
END:VEVENT
BEGIN:VEVENT
DTSTART;TZID=America/Toronto:20260429T120000
DTEND;TZID=America/Toronto:20260429T140000
DTSTAMP:20260423T175718
CREATED:20260331T203727Z
LAST-MODIFIED:20260331T203727Z
UID:10003378-1777464000-1777471200@rosss.ca
SUMMARY:Connections Lunch: The Red Dot
DESCRIPTION:*For all connections lunches\, reservation is REQUIRED. Please call Lyn at least 3 business days before the lunch to reserve your spot. \n****FOR DAYS WITH INCLEMENT WEATHER PLEASE CALL TO VERIFY IF PROGRAMS ARE RUNNING**** \n*For information regarding any of the programs noted on the calendar\, please contact Lyn Rorke 613- 692-4697 ext 224. \n**For transportation requests to any of our programs please call Tina Brohart at 613-692-4697 ext 237.
URL:https://rosss.ca/event/connections-lunch-the-red-dot-3/
LOCATION:The Red Dot Cafe\, 5673 Osgoode Main St\,\, Osgoode\, ON\, K0A 2W0\, Canada
CATEGORIES:Community Events,ROSSS Fundraising Events,Social & Dining Programs
ATTACH;FMTTYPE=image/jpeg:https://rosss.ca/wp-content/uploads/2025/02/the-red-dot-cafe.jpg
ORGANIZER;CN="Rural Ottawa South Support Services":MAILTO:info@rosss.ca
END:VEVENT
BEGIN:VEVENT
DTSTART;TZID=America/Toronto:20260430T100000
DTEND;TZID=America/Toronto:20260430T150000
DTSTAMP:20260423T175718
CREATED:20250326T151244Z
LAST-MODIFIED:20250828T004753Z
UID:10002086-1777543200-1777561200@rosss.ca
SUMMARY:Adult Day Program
DESCRIPTION:Adult Day Program is by referral only by the HCCSS.\nTuesday ADP group is from 10am-3pm and the Caregivers is 10am- 12pm.\n\n****FOR DAYS WITH INCLEMENT WEATHER PLEASE CALL TO VERIFY IF PROGRAMS ARE RUNNING**** \n*For information regarding any of the programs noted on the calendar\, please contact Lyn Rorke 613- 692-4697 ext 224. \n**For transportation requests to any of our programs please call Tina Brohart at 613-692-4697 ext 237
URL:https://rosss.ca/event/adult-day-program-4-2-2/2026-04-30/
LOCATION:ON
CATEGORIES:CAREGIVERS,Community Events,ROSSS Fundraising Events,Social & Dining Programs
ATTACH;FMTTYPE=image/jpeg:https://rosss.ca/wp-content/uploads/2024/01/NEW-LGBTQ2-Adult-Day-Program.jpg
END:VEVENT
BEGIN:VEVENT
DTSTART;TZID=America/Toronto:20260430T133000
DTEND;TZID=America/Toronto:20260430T153000
DTSTAMP:20260423T175718
CREATED:20260331T203847Z
LAST-MODIFIED:20260331T203847Z
UID:10003379-1777555800-1777563000@rosss.ca
SUMMARY:Pickleball
DESCRIPTION:Join ROSSS for an exciting pickleball event filled with fun\, friendly competition\, and community spirit! Don’t miss this chance to connect\, play\, and enjoy a great day on the court. \n*Pickleball is by registration only. \n****FOR DAYS WITH INCLEMENT WEATHER PLEASE CALL TO VERIFY IF PROGRAMS ARE RUNNING**** \n*For information regarding any of the programs noted on the calendar\, please contact Lyn Rorke 613-692-4697 ext 224.\n**For transportation requests to any of our programs please call Tina Brohart at 613-692-4697 ext 237.
URL:https://rosss.ca/event/pickleball-33/
LOCATION:Greely Community Centre\, 1448 Meadow Dr\, Greely\, ON\, Canada
CATEGORIES:Community Events,FITNESS & RECREATION,Social & Dining Programs
ATTACH;FMTTYPE=image/jpeg:https://rosss.ca/wp-content/uploads/2024/12/Pickleball-ROSSS-events.jpg
END:VEVENT
BEGIN:VEVENT
DTSTART;TZID=America/Toronto:20260430T163000
DTEND;TZID=America/Toronto:20260430T173000
DTSTAMP:20260423T175718
CREATED:20260331T203946Z
LAST-MODIFIED:20260331T203946Z
UID:10003380-1777566600-1777570200@rosss.ca
SUMMARY:Line Dancing Week #4
DESCRIPTION:Line Dancing at the Greely Community Centre. Registration is required. Cost is $10. \n****FOR DAYS WITH INCLEMENT WEATHER PLEASE CALL TO VERIFY IF PROGRAMS ARE RUNNING**** \n*For information regarding any of the programs noted on the calendar\, please contact Lyn Rorke 613- 692-4697 ext 224. \n**For transportation requests to any of our programs please call Tina Brohart at 613-692-4697 ext 237.
URL:https://rosss.ca/event/line-dancing-week-4/
LOCATION:Greely Community Centre\, 1448 Meadow Dr\, Greely\, ON\, Canada
CATEGORIES:Community Events,FITNESS & RECREATION,ROSSS Fundraising Events,Social & Dining Programs
ATTACH;FMTTYPE=image/jpeg:https://rosss.ca/wp-content/uploads/2026/01/dancing.jpg
END:VEVENT
END:VCALENDAR