BEGIN:VCALENDAR
VERSION:2.0
PRODID:-//ROSSS - ECPv6.15.20//NONSGML v1.0//EN
CALSCALE:GREGORIAN
METHOD:PUBLISH
X-ORIGINAL-URL:https://rosss.ca
X-WR-CALDESC:Events for ROSSS
REFRESH-INTERVAL;VALUE=DURATION:PT1H
X-Robots-Tag:noindex
X-PUBLISHED-TTL:PT1H
BEGIN:VTIMEZONE
TZID:America/Toronto
BEGIN:DAYLIGHT
TZOFFSETFROM:-0500
TZOFFSETTO:-0400
TZNAME:EDT
DTSTART:20230312T070000
END:DAYLIGHT
BEGIN:STANDARD
TZOFFSETFROM:-0400
TZOFFSETTO:-0500
TZNAME:EST
DTSTART:20231105T060000
END:STANDARD
BEGIN:DAYLIGHT
TZOFFSETFROM:-0500
TZOFFSETTO:-0400
TZNAME:EDT
DTSTART:20240310T070000
END:DAYLIGHT
BEGIN:STANDARD
TZOFFSETFROM:-0400
TZOFFSETTO:-0500
TZNAME:EST
DTSTART:20241103T060000
END:STANDARD
BEGIN:DAYLIGHT
TZOFFSETFROM:-0500
TZOFFSETTO:-0400
TZNAME:EDT
DTSTART:20250309T070000
END:DAYLIGHT
BEGIN:STANDARD
TZOFFSETFROM:-0400
TZOFFSETTO:-0500
TZNAME:EST
DTSTART:20251102T060000
END:STANDARD
END:VTIMEZONE
BEGIN:VEVENT
DTSTART;TZID=America/Toronto:20240922T130000
DTEND;TZID=America/Toronto:20240922T150000
DTSTAMP:20260423T131525
CREATED:20240712T142515Z
LAST-MODIFIED:20240919T193142Z
UID:10000854-1727010000-1727017200@rosss.ca
SUMMARY:ROSSS Presents:  Afternoon Tea
DESCRIPTION:You’re invited to our 2nd Annual Afternoon Tea!\nJoin us for an afternoon of elegance and fun all for a good cause. \nSunday\, September 22nd\, 2024\nOrchard View Wedding & Event Centre\n6346 Deermeadow Dr\, Greely ON\n1PM – 3PM \nLive Music\, Raffles\, Silent Auction\, Door Prizes and More!\n$35/Per Person \nTickets can be purchased by clicking the button here or by visiting our office at: \n1096 Bridge Street\, Manotick \nPURCHASE TICKETS
URL:https://rosss.ca/event/rosss-presents-afternoon-tea/
LOCATION:Orchard Way Wedding and Events\, 6346 Deermeadow Drive\, Greely\, Ontario\, Canada
CATEGORIES:ROSSS Fundraising Events,Social & Dining Programs
ATTACH;FMTTYPE=image/jpeg:https://rosss.ca/wp-content/uploads/2024/07/High-Tea-Fundraiser-Poster-24-1-scaled.jpg
ORGANIZER;CN="Rural Ottawa South Support Services":MAILTO:info@rosss.ca
END:VEVENT
END:VCALENDAR