BEGIN:VCALENDAR
VERSION:2.0
PRODID:-//ROSSS - ECPv6.15.20//NONSGML v1.0//EN
CALSCALE:GREGORIAN
METHOD:PUBLISH
X-WR-CALNAME:ROSSS
X-ORIGINAL-URL:https://rosss.ca
X-WR-CALDESC:Events for ROSSS
REFRESH-INTERVAL;VALUE=DURATION:PT1H
X-Robots-Tag:noindex
X-PUBLISHED-TTL:PT1H
BEGIN:VTIMEZONE
TZID:America/Toronto
BEGIN:DAYLIGHT
TZOFFSETFROM:-0500
TZOFFSETTO:-0400
TZNAME:EDT
DTSTART:20270314T070000
END:DAYLIGHT
BEGIN:STANDARD
TZOFFSETFROM:-0400
TZOFFSETTO:-0500
TZNAME:EST
DTSTART:20271107T060000
END:STANDARD
BEGIN:DAYLIGHT
TZOFFSETFROM:-0500
TZOFFSETTO:-0400
TZNAME:EDT
DTSTART:20280312T070000
END:DAYLIGHT
BEGIN:STANDARD
TZOFFSETFROM:-0400
TZOFFSETTO:-0500
TZNAME:EST
DTSTART:20281105T060000
END:STANDARD
BEGIN:DAYLIGHT
TZOFFSETFROM:-0500
TZOFFSETTO:-0400
TZNAME:EDT
DTSTART:20290311T070000
END:DAYLIGHT
BEGIN:STANDARD
TZOFFSETFROM:-0400
TZOFFSETTO:-0500
TZNAME:EST
DTSTART:20291104T060000
END:STANDARD
END:VTIMEZONE
BEGIN:VEVENT
DTSTART;TZID=America/Toronto:20280601T100000
DTEND;TZID=America/Toronto:20280601T150000
DTSTAMP:20260421T115940
CREATED:20250326T151244Z
LAST-MODIFIED:20250828T004753Z
UID:10002195-1843466400-1843484400@rosss.ca
SUMMARY:Adult Day Program
DESCRIPTION:Adult Day Program is by referral only by the HCCSS.\nTuesday ADP group is from 10am-3pm and the Caregivers is 10am- 12pm.\n\n****FOR DAYS WITH INCLEMENT WEATHER PLEASE CALL TO VERIFY IF PROGRAMS ARE RUNNING**** \n*For information regarding any of the programs noted on the calendar\, please contact Lyn Rorke 613- 692-4697 ext 224. \n**For transportation requests to any of our programs please call Tina Brohart at 613-692-4697 ext 237
URL:https://rosss.ca/event/adult-day-program-4-2-2/2028-06-01/
LOCATION:ON
CATEGORIES:CAREGIVERS,Community Events,ROSSS Fundraising Events,Social & Dining Programs
ATTACH;FMTTYPE=image/jpeg:https://rosss.ca/wp-content/uploads/2024/01/NEW-LGBTQ2-Adult-Day-Program.jpg
END:VEVENT
BEGIN:VEVENT
DTSTART;TZID=America/Toronto:20280608T100000
DTEND;TZID=America/Toronto:20280608T150000
DTSTAMP:20260421T115940
CREATED:20250326T151244Z
LAST-MODIFIED:20250828T004753Z
UID:10002196-1844071200-1844089200@rosss.ca
SUMMARY:Adult Day Program
DESCRIPTION:Adult Day Program is by referral only by the HCCSS.\nTuesday ADP group is from 10am-3pm and the Caregivers is 10am- 12pm.\n\n****FOR DAYS WITH INCLEMENT WEATHER PLEASE CALL TO VERIFY IF PROGRAMS ARE RUNNING**** \n*For information regarding any of the programs noted on the calendar\, please contact Lyn Rorke 613- 692-4697 ext 224. \n**For transportation requests to any of our programs please call Tina Brohart at 613-692-4697 ext 237
URL:https://rosss.ca/event/adult-day-program-4-2-2/2028-06-08/
LOCATION:ON
CATEGORIES:CAREGIVERS,Community Events,ROSSS Fundraising Events,Social & Dining Programs
ATTACH;FMTTYPE=image/jpeg:https://rosss.ca/wp-content/uploads/2024/01/NEW-LGBTQ2-Adult-Day-Program.jpg
END:VEVENT
BEGIN:VEVENT
DTSTART;TZID=America/Toronto:20280615T100000
DTEND;TZID=America/Toronto:20280615T150000
DTSTAMP:20260421T115940
CREATED:20250326T151244Z
LAST-MODIFIED:20250828T004753Z
UID:10002197-1844676000-1844694000@rosss.ca
SUMMARY:Adult Day Program
DESCRIPTION:Adult Day Program is by referral only by the HCCSS.\nTuesday ADP group is from 10am-3pm and the Caregivers is 10am- 12pm.\n\n****FOR DAYS WITH INCLEMENT WEATHER PLEASE CALL TO VERIFY IF PROGRAMS ARE RUNNING**** \n*For information regarding any of the programs noted on the calendar\, please contact Lyn Rorke 613- 692-4697 ext 224. \n**For transportation requests to any of our programs please call Tina Brohart at 613-692-4697 ext 237
URL:https://rosss.ca/event/adult-day-program-4-2-2/2028-06-15/
LOCATION:ON
CATEGORIES:CAREGIVERS,Community Events,ROSSS Fundraising Events,Social & Dining Programs
ATTACH;FMTTYPE=image/jpeg:https://rosss.ca/wp-content/uploads/2024/01/NEW-LGBTQ2-Adult-Day-Program.jpg
END:VEVENT
BEGIN:VEVENT
DTSTART;TZID=America/Toronto:20280622T100000
DTEND;TZID=America/Toronto:20280622T150000
DTSTAMP:20260421T115940
CREATED:20250326T151244Z
LAST-MODIFIED:20250828T004753Z
UID:10002198-1845280800-1845298800@rosss.ca
SUMMARY:Adult Day Program
DESCRIPTION:Adult Day Program is by referral only by the HCCSS.\nTuesday ADP group is from 10am-3pm and the Caregivers is 10am- 12pm.\n\n****FOR DAYS WITH INCLEMENT WEATHER PLEASE CALL TO VERIFY IF PROGRAMS ARE RUNNING**** \n*For information regarding any of the programs noted on the calendar\, please contact Lyn Rorke 613- 692-4697 ext 224. \n**For transportation requests to any of our programs please call Tina Brohart at 613-692-4697 ext 237
URL:https://rosss.ca/event/adult-day-program-4-2-2/2028-06-22/
LOCATION:ON
CATEGORIES:CAREGIVERS,Community Events,ROSSS Fundraising Events,Social & Dining Programs
ATTACH;FMTTYPE=image/jpeg:https://rosss.ca/wp-content/uploads/2024/01/NEW-LGBTQ2-Adult-Day-Program.jpg
END:VEVENT
BEGIN:VEVENT
DTSTART;TZID=America/Toronto:20280629T100000
DTEND;TZID=America/Toronto:20280629T150000
DTSTAMP:20260421T115940
CREATED:20250326T151244Z
LAST-MODIFIED:20250828T004753Z
UID:10002199-1845885600-1845903600@rosss.ca
SUMMARY:Adult Day Program
DESCRIPTION:Adult Day Program is by referral only by the HCCSS.\nTuesday ADP group is from 10am-3pm and the Caregivers is 10am- 12pm.\n\n****FOR DAYS WITH INCLEMENT WEATHER PLEASE CALL TO VERIFY IF PROGRAMS ARE RUNNING**** \n*For information regarding any of the programs noted on the calendar\, please contact Lyn Rorke 613- 692-4697 ext 224. \n**For transportation requests to any of our programs please call Tina Brohart at 613-692-4697 ext 237
URL:https://rosss.ca/event/adult-day-program-4-2-2/2028-06-29/
LOCATION:ON
CATEGORIES:CAREGIVERS,Community Events,ROSSS Fundraising Events,Social & Dining Programs
ATTACH;FMTTYPE=image/jpeg:https://rosss.ca/wp-content/uploads/2024/01/NEW-LGBTQ2-Adult-Day-Program.jpg
END:VEVENT
END:VCALENDAR