BEGIN:VCALENDAR
VERSION:2.0
PRODID:-//ROSSS - ECPv6.15.20//NONSGML v1.0//EN
CALSCALE:GREGORIAN
METHOD:PUBLISH
X-ORIGINAL-URL:https://rosss.ca
X-WR-CALDESC:Events for ROSSS
REFRESH-INTERVAL;VALUE=DURATION:PT1H
X-Robots-Tag:noindex
X-PUBLISHED-TTL:PT1H
BEGIN:VTIMEZONE
TZID:America/Toronto
BEGIN:DAYLIGHT
TZOFFSETFROM:-0500
TZOFFSETTO:-0400
TZNAME:EDT
DTSTART:20290311T070000
END:DAYLIGHT
BEGIN:STANDARD
TZOFFSETFROM:-0400
TZOFFSETTO:-0500
TZNAME:EST
DTSTART:20291104T060000
END:STANDARD
BEGIN:DAYLIGHT
TZOFFSETFROM:-0500
TZOFFSETTO:-0400
TZNAME:EDT
DTSTART:20300310T070000
END:DAYLIGHT
BEGIN:STANDARD
TZOFFSETFROM:-0400
TZOFFSETTO:-0500
TZNAME:EST
DTSTART:20301103T060000
END:STANDARD
BEGIN:DAYLIGHT
TZOFFSETFROM:-0500
TZOFFSETTO:-0400
TZNAME:EDT
DTSTART:20310309T070000
END:DAYLIGHT
BEGIN:STANDARD
TZOFFSETFROM:-0400
TZOFFSETTO:-0500
TZNAME:EST
DTSTART:20311102T060000
END:STANDARD
END:VTIMEZONE
BEGIN:VEVENT
DTSTART;TZID=America/Toronto:20300502T100000
DTEND;TZID=America/Toronto:20300502T150000
DTSTAMP:20260422T231219
CREATED:20250326T151244Z
LAST-MODIFIED:20250828T004753Z
UID:10002706-1903946400-1903964400@rosss.ca
SUMMARY:Adult Day Program
DESCRIPTION:Adult Day Program is by referral only by the HCCSS.\nTuesday ADP group is from 10am-3pm and the Caregivers is 10am- 12pm.\n\n****FOR DAYS WITH INCLEMENT WEATHER PLEASE CALL TO VERIFY IF PROGRAMS ARE RUNNING**** \n*For information regarding any of the programs noted on the calendar\, please contact Lyn Rorke 613- 692-4697 ext 224. \n**For transportation requests to any of our programs please call Tina Brohart at 613-692-4697 ext 237
URL:https://rosss.ca/event/adult-day-program-4-2-2/2030-05-02/
LOCATION:ON
CATEGORIES:CAREGIVERS,Community Events,ROSSS Fundraising Events,Social & Dining Programs
ATTACH;FMTTYPE=image/jpeg:https://rosss.ca/wp-content/uploads/2024/01/NEW-LGBTQ2-Adult-Day-Program.jpg
END:VEVENT
BEGIN:VEVENT
DTSTART;TZID=America/Toronto:20300509T100000
DTEND;TZID=America/Toronto:20300509T150000
DTSTAMP:20260422T231219
CREATED:20250326T151244Z
LAST-MODIFIED:20250828T004753Z
UID:10002707-1904551200-1904569200@rosss.ca
SUMMARY:Adult Day Program
DESCRIPTION:Adult Day Program is by referral only by the HCCSS.\nTuesday ADP group is from 10am-3pm and the Caregivers is 10am- 12pm.\n\n****FOR DAYS WITH INCLEMENT WEATHER PLEASE CALL TO VERIFY IF PROGRAMS ARE RUNNING**** \n*For information regarding any of the programs noted on the calendar\, please contact Lyn Rorke 613- 692-4697 ext 224. \n**For transportation requests to any of our programs please call Tina Brohart at 613-692-4697 ext 237
URL:https://rosss.ca/event/adult-day-program-4-2-2/2030-05-09/
LOCATION:ON
CATEGORIES:CAREGIVERS,Community Events,ROSSS Fundraising Events,Social & Dining Programs
ATTACH;FMTTYPE=image/jpeg:https://rosss.ca/wp-content/uploads/2024/01/NEW-LGBTQ2-Adult-Day-Program.jpg
END:VEVENT
BEGIN:VEVENT
DTSTART;TZID=America/Toronto:20300516T100000
DTEND;TZID=America/Toronto:20300516T150000
DTSTAMP:20260422T231219
CREATED:20250326T151244Z
LAST-MODIFIED:20250828T004753Z
UID:10002708-1905156000-1905174000@rosss.ca
SUMMARY:Adult Day Program
DESCRIPTION:Adult Day Program is by referral only by the HCCSS.\nTuesday ADP group is from 10am-3pm and the Caregivers is 10am- 12pm.\n\n****FOR DAYS WITH INCLEMENT WEATHER PLEASE CALL TO VERIFY IF PROGRAMS ARE RUNNING**** \n*For information regarding any of the programs noted on the calendar\, please contact Lyn Rorke 613- 692-4697 ext 224. \n**For transportation requests to any of our programs please call Tina Brohart at 613-692-4697 ext 237
URL:https://rosss.ca/event/adult-day-program-4-2-2/2030-05-16/
LOCATION:ON
CATEGORIES:CAREGIVERS,Community Events,ROSSS Fundraising Events,Social & Dining Programs
ATTACH;FMTTYPE=image/jpeg:https://rosss.ca/wp-content/uploads/2024/01/NEW-LGBTQ2-Adult-Day-Program.jpg
END:VEVENT
BEGIN:VEVENT
DTSTART;TZID=America/Toronto:20300523T100000
DTEND;TZID=America/Toronto:20300523T150000
DTSTAMP:20260422T231219
CREATED:20250326T151244Z
LAST-MODIFIED:20250828T004753Z
UID:10002709-1905760800-1905778800@rosss.ca
SUMMARY:Adult Day Program
DESCRIPTION:Adult Day Program is by referral only by the HCCSS.\nTuesday ADP group is from 10am-3pm and the Caregivers is 10am- 12pm.\n\n****FOR DAYS WITH INCLEMENT WEATHER PLEASE CALL TO VERIFY IF PROGRAMS ARE RUNNING**** \n*For information regarding any of the programs noted on the calendar\, please contact Lyn Rorke 613- 692-4697 ext 224. \n**For transportation requests to any of our programs please call Tina Brohart at 613-692-4697 ext 237
URL:https://rosss.ca/event/adult-day-program-4-2-2/2030-05-23/
LOCATION:ON
CATEGORIES:CAREGIVERS,Community Events,ROSSS Fundraising Events,Social & Dining Programs
ATTACH;FMTTYPE=image/jpeg:https://rosss.ca/wp-content/uploads/2024/01/NEW-LGBTQ2-Adult-Day-Program.jpg
END:VEVENT
BEGIN:VEVENT
DTSTART;TZID=America/Toronto:20300530T100000
DTEND;TZID=America/Toronto:20300530T150000
DTSTAMP:20260422T231219
CREATED:20250326T151244Z
LAST-MODIFIED:20250828T004753Z
UID:10003027-1906365600-1906383600@rosss.ca
SUMMARY:Adult Day Program
DESCRIPTION:Adult Day Program is by referral only by the HCCSS.\nTuesday ADP group is from 10am-3pm and the Caregivers is 10am- 12pm.\n\n****FOR DAYS WITH INCLEMENT WEATHER PLEASE CALL TO VERIFY IF PROGRAMS ARE RUNNING**** \n*For information regarding any of the programs noted on the calendar\, please contact Lyn Rorke 613- 692-4697 ext 224. \n**For transportation requests to any of our programs please call Tina Brohart at 613-692-4697 ext 237
URL:https://rosss.ca/event/adult-day-program-4-2-2/2030-05-30/
LOCATION:ON
CATEGORIES:CAREGIVERS,Community Events,ROSSS Fundraising Events,Social & Dining Programs
ATTACH;FMTTYPE=image/jpeg:https://rosss.ca/wp-content/uploads/2024/01/NEW-LGBTQ2-Adult-Day-Program.jpg
END:VEVENT
END:VCALENDAR