BEGIN:VCALENDAR
VERSION:2.0
PRODID:-//ROSSS - ECPv6.15.20//NONSGML v1.0//EN
CALSCALE:GREGORIAN
METHOD:PUBLISH
X-ORIGINAL-URL:https://rosss.ca
X-WR-CALDESC:Events for ROSSS
REFRESH-INTERVAL;VALUE=DURATION:PT1H
X-Robots-Tag:noindex
X-PUBLISHED-TTL:PT1H
BEGIN:VTIMEZONE
TZID:America/Toronto
BEGIN:DAYLIGHT
TZOFFSETFROM:-0500
TZOFFSETTO:-0400
TZNAME:EDT
DTSTART:20240310T070000
END:DAYLIGHT
BEGIN:STANDARD
TZOFFSETFROM:-0400
TZOFFSETTO:-0500
TZNAME:EST
DTSTART:20241103T060000
END:STANDARD
BEGIN:DAYLIGHT
TZOFFSETFROM:-0500
TZOFFSETTO:-0400
TZNAME:EDT
DTSTART:20250309T070000
END:DAYLIGHT
BEGIN:STANDARD
TZOFFSETFROM:-0400
TZOFFSETTO:-0500
TZNAME:EST
DTSTART:20251102T060000
END:STANDARD
BEGIN:DAYLIGHT
TZOFFSETFROM:-0500
TZOFFSETTO:-0400
TZNAME:EDT
DTSTART:20260308T070000
END:DAYLIGHT
BEGIN:STANDARD
TZOFFSETFROM:-0400
TZOFFSETTO:-0500
TZNAME:EST
DTSTART:20261101T060000
END:STANDARD
END:VTIMEZONE
BEGIN:VEVENT
DTSTART;TZID=America/Toronto:20251202T100000
DTEND;TZID=America/Toronto:20251202T150000
DTSTAMP:20260422T123421
CREATED:20251204T181702Z
LAST-MODIFIED:20251204T181702Z
UID:10003183-1764669600-1764687600@rosss.ca
SUMMARY:Adult Day Program #2
DESCRIPTION:Adult Day Program is by referral only by the HCCSS.\nTuesday ADP group is from 10am-3pm and the Caregivers is 10am- 12pm.\n\n****FOR DAYS WITH INCLEMENT WEATHER PLEASE CALL TO VERIFY IF PROGRAMS ARE RUNNING**** \n*For information regarding any of the programs noted on the calendar\, please contact Lyn Rorke 613- 692-4697 ext 224. \n**For transportation requests to any of our programs please call Tina Brohart at 613-692-4697 ext 237
URL:https://rosss.ca/event/adult-day-program-2-13/
CATEGORIES:CAREGIVERS,Community Events,ROSSS Fundraising Events,Social & Dining Programs
ATTACH;FMTTYPE=image/jpeg:https://rosss.ca/wp-content/uploads/2024/01/NEW-LGBTQ2-Adult-Day-Program.jpg
END:VEVENT
BEGIN:VEVENT
DTSTART;TZID=America/Toronto:20251204T100000
DTEND;TZID=America/Toronto:20251204T150000
DTSTAMP:20260422T123421
CREATED:20250326T151244Z
LAST-MODIFIED:20250828T004753Z
UID:10002065-1764842400-1764860400@rosss.ca
SUMMARY:Adult Day Program
DESCRIPTION:Adult Day Program is by referral only by the HCCSS.\nTuesday ADP group is from 10am-3pm and the Caregivers is 10am- 12pm.\n\n****FOR DAYS WITH INCLEMENT WEATHER PLEASE CALL TO VERIFY IF PROGRAMS ARE RUNNING**** \n*For information regarding any of the programs noted on the calendar\, please contact Lyn Rorke 613- 692-4697 ext 224. \n**For transportation requests to any of our programs please call Tina Brohart at 613-692-4697 ext 237
URL:https://rosss.ca/event/adult-day-program-4-2-2/2025-12-04/
CATEGORIES:CAREGIVERS,Community Events,ROSSS Fundraising Events,Social & Dining Programs
ATTACH;FMTTYPE=image/jpeg:https://rosss.ca/wp-content/uploads/2024/01/NEW-LGBTQ2-Adult-Day-Program.jpg
END:VEVENT
BEGIN:VEVENT
DTSTART;TZID=America/Toronto:20251209T100000
DTEND;TZID=America/Toronto:20251209T150000
DTSTAMP:20260422T123421
CREATED:20251204T184327Z
LAST-MODIFIED:20251204T184327Z
UID:10003194-1765274400-1765292400@rosss.ca
SUMMARY:Adult Day Program #1
DESCRIPTION:Adult Day Program is by referral only by the HCCSS.\nTuesday ADP group is from 10am-3pm and the Caregivers is 10am- 12pm.\n\n****FOR DAYS WITH INCLEMENT WEATHER PLEASE CALL TO VERIFY IF PROGRAMS ARE RUNNING**** \n*For information regarding any of the programs noted on the calendar\, please contact Lyn Rorke 613- 692-4697 ext 224. \n**For transportation requests to any of our programs please call Tina Brohart at 613-692-4697 ext 237
URL:https://rosss.ca/event/adult-day-program-1-14/
CATEGORIES:CAREGIVERS,Community Events,ROSSS Fundraising Events,Social & Dining Programs
ATTACH;FMTTYPE=image/jpeg:https://rosss.ca/wp-content/uploads/2024/01/NEW-LGBTQ2-Adult-Day-Program.jpg
END:VEVENT
BEGIN:VEVENT
DTSTART;TZID=America/Toronto:20251211T100000
DTEND;TZID=America/Toronto:20251211T150000
DTSTAMP:20260422T123421
CREATED:20250326T151244Z
LAST-MODIFIED:20250828T004753Z
UID:10002066-1765447200-1765465200@rosss.ca
SUMMARY:Adult Day Program
DESCRIPTION:Adult Day Program is by referral only by the HCCSS.\nTuesday ADP group is from 10am-3pm and the Caregivers is 10am- 12pm.\n\n****FOR DAYS WITH INCLEMENT WEATHER PLEASE CALL TO VERIFY IF PROGRAMS ARE RUNNING**** \n*For information regarding any of the programs noted on the calendar\, please contact Lyn Rorke 613- 692-4697 ext 224. \n**For transportation requests to any of our programs please call Tina Brohart at 613-692-4697 ext 237
URL:https://rosss.ca/event/adult-day-program-4-2-2/2025-12-11/
CATEGORIES:CAREGIVERS,Community Events,ROSSS Fundraising Events,Social & Dining Programs
ATTACH;FMTTYPE=image/jpeg:https://rosss.ca/wp-content/uploads/2024/01/NEW-LGBTQ2-Adult-Day-Program.jpg
END:VEVENT
BEGIN:VEVENT
DTSTART;TZID=America/Toronto:20251216T100000
DTEND;TZID=America/Toronto:20251216T150000
DTSTAMP:20260422T123421
CREATED:20251204T191809Z
LAST-MODIFIED:20251204T191809Z
UID:10003205-1765879200-1765897200@rosss.ca
SUMMARY:Adult Day Program #2
DESCRIPTION:Adult Day Program is by referral only by the HCCSS.\nTuesday ADP group is from 10am-3pm and the Caregivers is 10am- 12pm.\n\n****FOR DAYS WITH INCLEMENT WEATHER PLEASE CALL TO VERIFY IF PROGRAMS ARE RUNNING**** \n*For information regarding any of the programs noted on the calendar\, please contact Lyn Rorke 613- 692-4697 ext 224. \n**For transportation requests to any of our programs please call Tina Brohart at 613-692-4697 ext 237
URL:https://rosss.ca/event/adult-day-program-2-14/
CATEGORIES:CAREGIVERS,Community Events,ROSSS Fundraising Events,Social & Dining Programs
ATTACH;FMTTYPE=image/jpeg:https://rosss.ca/wp-content/uploads/2024/01/NEW-LGBTQ2-Adult-Day-Program.jpg
END:VEVENT
BEGIN:VEVENT
DTSTART;TZID=America/Toronto:20251218T100000
DTEND;TZID=America/Toronto:20251218T150000
DTSTAMP:20260422T123421
CREATED:20250326T151244Z
LAST-MODIFIED:20250828T004753Z
UID:10002067-1766052000-1766070000@rosss.ca
SUMMARY:Adult Day Program
DESCRIPTION:Adult Day Program is by referral only by the HCCSS.\nTuesday ADP group is from 10am-3pm and the Caregivers is 10am- 12pm.\n\n****FOR DAYS WITH INCLEMENT WEATHER PLEASE CALL TO VERIFY IF PROGRAMS ARE RUNNING**** \n*For information regarding any of the programs noted on the calendar\, please contact Lyn Rorke 613- 692-4697 ext 224. \n**For transportation requests to any of our programs please call Tina Brohart at 613-692-4697 ext 237
URL:https://rosss.ca/event/adult-day-program-4-2-2/2025-12-18/
CATEGORIES:CAREGIVERS,Community Events,ROSSS Fundraising Events,Social & Dining Programs
ATTACH;FMTTYPE=image/jpeg:https://rosss.ca/wp-content/uploads/2024/01/NEW-LGBTQ2-Adult-Day-Program.jpg
END:VEVENT
END:VCALENDAR