BEGIN:VCALENDAR
VERSION:2.0
PRODID:-//ROSSS - ECPv6.15.20//NONSGML v1.0//EN
CALSCALE:GREGORIAN
METHOD:PUBLISH
X-ORIGINAL-URL:https://rosss.ca
X-WR-CALDESC:Events for ROSSS
REFRESH-INTERVAL;VALUE=DURATION:PT1H
X-Robots-Tag:noindex
X-PUBLISHED-TTL:PT1H
BEGIN:VTIMEZONE
TZID:America/Toronto
BEGIN:DAYLIGHT
TZOFFSETFROM:-0500
TZOFFSETTO:-0400
TZNAME:EDT
DTSTART:20220313T070000
END:DAYLIGHT
BEGIN:STANDARD
TZOFFSETFROM:-0400
TZOFFSETTO:-0500
TZNAME:EST
DTSTART:20221106T060000
END:STANDARD
BEGIN:DAYLIGHT
TZOFFSETFROM:-0500
TZOFFSETTO:-0400
TZNAME:EDT
DTSTART:20230312T070000
END:DAYLIGHT
BEGIN:STANDARD
TZOFFSETFROM:-0400
TZOFFSETTO:-0500
TZNAME:EST
DTSTART:20231105T060000
END:STANDARD
BEGIN:DAYLIGHT
TZOFFSETFROM:-0500
TZOFFSETTO:-0400
TZNAME:EDT
DTSTART:20240310T070000
END:DAYLIGHT
BEGIN:STANDARD
TZOFFSETFROM:-0400
TZOFFSETTO:-0500
TZNAME:EST
DTSTART:20241103T060000
END:STANDARD
END:VTIMEZONE
BEGIN:VEVENT
DTSTART;TZID=America/Toronto:20230302T100000
DTEND;TZID=America/Toronto:20230302T150000
DTSTAMP:20260422T212351
CREATED:20230131T193857Z
LAST-MODIFIED:20230209T154211Z
UID:10000467-1677751200-1677769200@rosss.ca
SUMMARY:Adult Day Program
DESCRIPTION:The Adult Day Program provides supervised individual programming in a group setting for older adults\, who may be physically frail\, cognitively impaired and/or socially isolated. Our program is designed to assist participants in achieving and maintaining their maximum level of functioning\, to prevent premature and inappropriate institutionalization and to provide respite and information for caregivers. Program elements include planned social\, recreational and physical activities\, snacks and lunch. Transportation is available upon request. NOTE: The Adult Day Program is open to registered clients only.
URL:https://rosss.ca/event/adult-day-program/2023-03-02/
END:VEVENT
BEGIN:VEVENT
DTSTART;TZID=America/Toronto:20230301T123000
DTEND;TZID=America/Toronto:20230301T140000
DTSTAMP:20260422T212351
CREATED:20230131T193025Z
LAST-MODIFIED:20230131T193025Z
UID:10000436-1677673800-1677679200@rosss.ca
SUMMARY:Connections Lunch (Richmond)
DESCRIPTION:Enjoy good food and even better company at our favourite restaurants in Richmond! Connections lunches provide an opportunity to connect with friends and meet new people in the community. Groups will be notified a week in advance to register for lunches.
URL:https://rosss.ca/event/connections-lunch-richmond/2023-03-01/
END:VEVENT
BEGIN:VEVENT
DTSTART;TZID=America/Toronto:20230301T100000
DTEND;TZID=America/Toronto:20230301T140000
DTSTAMP:20260422T212351
CREATED:20230131T191227Z
LAST-MODIFIED:20230209T154323Z
UID:10000347-1677664800-1677679200@rosss.ca
SUMMARY:Combined Adult Day/Caregiver Support Program
DESCRIPTION:Caregivers come together and support one another through their caregiving journey\, while your loved one attends the Adult Day Program. This program includes group discussions\, professional speakers and support resources. Open to registered participants only. \nFor more information\, please contact the ROSSS office 613-692-4697 ext. 226 or email info@rosss.ca to register.
URL:https://rosss.ca/event/combined-adult-day-caregiver-support-program/2023-03-01/
END:VEVENT
BEGIN:VEVENT
DTSTART;TZID=America/Toronto:20230301T100000
DTEND;TZID=America/Toronto:20230301T120000
DTSTAMP:20260422T212351
CREATED:20230131T192810Z
LAST-MODIFIED:20230209T153921Z
UID:10000378-1677664800-1677672000@rosss.ca
SUMMARY:Manotick Drop-in
DESCRIPTION:Drop-in for a sociable chat\, game of bingo and various fun topics and presenters.
URL:https://rosss.ca/event/manotick-drop-in/2023-03-01/
END:VEVENT
BEGIN:VEVENT
DTSTART;TZID=America/Toronto:20230228T130000
DTEND;TZID=America/Toronto:20230228T143000
DTSTAMP:20260422T212351
CREATED:20230131T185520Z
LAST-MODIFIED:20231107T123256Z
UID:10000332-1677589200-1677594600@rosss.ca
SUMMARY:Stanley Apartments Drop-in
DESCRIPTION:Drop-in for a sociable chat\, game of bingo and various fun topics and presenters. NOTE: this program is open to residents of the Stanley Apartments only.
URL:https://rosss.ca/event/stanley-apartments-drop-in-2/
END:VEVENT
BEGIN:VEVENT
DTSTART;TZID=America/Toronto:20230228T100000
DTEND;TZID=America/Toronto:20230228T120000
DTSTAMP:20260422T212351
CREATED:20230131T184331Z
LAST-MODIFIED:20230209T154935Z
UID:10000201-1677578400-1677585600@rosss.ca
SUMMARY:Osgoode Drop-in
DESCRIPTION:Drop-in for a sociable chat\, game of bingo and various fun topics and presenters.
URL:https://rosss.ca/event/osgoode-drop-in/2023-02-28/
END:VEVENT
BEGIN:VEVENT
DTSTART;TZID=America/Toronto:20230228T100000
DTEND;TZID=America/Toronto:20230228T110000
DTSTAMP:20260422T212351
CREATED:20230131T184648Z
LAST-MODIFIED:20230209T154902Z
UID:10000261-1677578400-1677582000@rosss.ca
SUMMARY:Hyfield Fitness
DESCRIPTION:Please join us for a fun\, active morning at Hyfield Place in Manotick.
URL:https://rosss.ca/event/hyfield-fitness/2023-02-28/
END:VEVENT
BEGIN:VEVENT
DTSTART;TZID=America/Toronto:20230227T120000
DTEND;TZID=America/Toronto:20230227T140000
DTSTAMP:20260422T212351
CREATED:20230127T180533Z
LAST-MODIFIED:20230203T170131Z
UID:10000024-1677499200-1677506400@rosss.ca
SUMMARY:Pickleball
DESCRIPTION:Please join us for a fun and active drop-in program playing pickleball. Please note there is a drop-in fee of $4.00 for this program.
URL:https://rosss.ca/event/pickleball/2023-02-27/
LOCATION:Greely Community Centre\, 1448 Meadow Dr\, Greely\, ON\, Canada
END:VEVENT
BEGIN:VEVENT
DTSTART;TZID=America/Toronto:20230227T120000
DTEND;TZID=America/Toronto:20230227T133000
DTSTAMP:20260422T212351
CREATED:20230131T183556Z
LAST-MODIFIED:20230209T155627Z
UID:10000141-1677499200-1677504600@rosss.ca
SUMMARY:Connections Lunch
DESCRIPTION:Enjoy good food and even better company at our favourite restaurants in Manotick\, Richmond\, Metcalfe\, and North Gower! Connections lunches provide an opportunity to connect with friends and meet new people in the community. Groups will be notified a week in advance to register for lunches.
URL:https://rosss.ca/event/connections-lunch/2023-02-27/
END:VEVENT
BEGIN:VEVENT
DTSTART;TZID=America/Toronto:20230224T120000
DTEND;TZID=America/Toronto:20230224T140000
DTSTAMP:20260422T212351
CREATED:20230127T180533Z
LAST-MODIFIED:20230203T170131Z
UID:10000023-1677240000-1677247200@rosss.ca
SUMMARY:Pickleball
DESCRIPTION:Please join us for a fun and active drop-in program playing pickleball. Please note there is a drop-in fee of $4.00 for this program.
URL:https://rosss.ca/event/pickleball/2023-02-24/
LOCATION:Greely Community Centre\, 1448 Meadow Dr\, Greely\, ON\, Canada
END:VEVENT
BEGIN:VEVENT
DTSTART;TZID=America/Toronto:20230224T100000
DTEND;TZID=America/Toronto:20230224T120000
DTSTAMP:20260422T212351
CREATED:20230131T194009Z
LAST-MODIFIED:20230209T154459Z
UID:10000527-1677232800-1677240000@rosss.ca
SUMMARY:Cultured Purls
DESCRIPTION:Calling all knitters! Join us for good conversation while you finish your latest projects.
URL:https://rosss.ca/event/cultured-purls/2023-02-24/
END:VEVENT
BEGIN:VEVENT
DTSTART;TZID=America/Toronto:20230223T100000
DTEND;TZID=America/Toronto:20230223T150000
DTSTAMP:20260422T212351
CREATED:20230131T193857Z
LAST-MODIFIED:20230209T154211Z
UID:10000466-1677146400-1677164400@rosss.ca
SUMMARY:Adult Day Program
DESCRIPTION:The Adult Day Program provides supervised individual programming in a group setting for older adults\, who may be physically frail\, cognitively impaired and/or socially isolated. Our program is designed to assist participants in achieving and maintaining their maximum level of functioning\, to prevent premature and inappropriate institutionalization and to provide respite and information for caregivers. Program elements include planned social\, recreational and physical activities\, snacks and lunch. Transportation is available upon request. NOTE: The Adult Day Program is open to registered clients only.
URL:https://rosss.ca/event/adult-day-program/2023-02-23/
END:VEVENT
BEGIN:VEVENT
DTSTART;TZID=America/Toronto:20230222T100000
DTEND;TZID=America/Toronto:20230222T120000
DTSTAMP:20260422T212351
CREATED:20230131T192810Z
LAST-MODIFIED:20230209T153921Z
UID:10000377-1677060000-1677067200@rosss.ca
SUMMARY:Manotick Drop-in
DESCRIPTION:Drop-in for a sociable chat\, game of bingo and various fun topics and presenters.
URL:https://rosss.ca/event/manotick-drop-in/2023-02-22/
END:VEVENT
BEGIN:VEVENT
DTSTART;TZID=America/Toronto:20230221T100000
DTEND;TZID=America/Toronto:20230221T120000
DTSTAMP:20260422T212351
CREATED:20230131T184331Z
LAST-MODIFIED:20230209T154935Z
UID:10000200-1676973600-1676980800@rosss.ca
SUMMARY:Osgoode Drop-in
DESCRIPTION:Drop-in for a sociable chat\, game of bingo and various fun topics and presenters.
URL:https://rosss.ca/event/osgoode-drop-in/2023-02-21/
END:VEVENT
BEGIN:VEVENT
DTSTART;TZID=America/Toronto:20230221T100000
DTEND;TZID=America/Toronto:20230221T110000
DTSTAMP:20260422T212351
CREATED:20230131T184648Z
LAST-MODIFIED:20230209T154902Z
UID:10000260-1676973600-1676977200@rosss.ca
SUMMARY:Hyfield Fitness
DESCRIPTION:Please join us for a fun\, active morning at Hyfield Place in Manotick.
URL:https://rosss.ca/event/hyfield-fitness/2023-02-21/
END:VEVENT
BEGIN:VEVENT
DTSTART;TZID=America/Toronto:20230217T100000
DTEND;TZID=America/Toronto:20230217T120000
DTSTAMP:20260422T212351
CREATED:20230131T194009Z
LAST-MODIFIED:20230209T154459Z
UID:10000526-1676628000-1676635200@rosss.ca
SUMMARY:Cultured Purls
DESCRIPTION:Calling all knitters! Join us for good conversation while you finish your latest projects.
URL:https://rosss.ca/event/cultured-purls/2023-02-17/
END:VEVENT
BEGIN:VEVENT
DTSTART;TZID=America/Toronto:20230216T100000
DTEND;TZID=America/Toronto:20230216T150000
DTSTAMP:20260422T212351
CREATED:20230131T193857Z
LAST-MODIFIED:20230209T154211Z
UID:10000465-1676541600-1676559600@rosss.ca
SUMMARY:Adult Day Program
DESCRIPTION:The Adult Day Program provides supervised individual programming in a group setting for older adults\, who may be physically frail\, cognitively impaired and/or socially isolated. Our program is designed to assist participants in achieving and maintaining their maximum level of functioning\, to prevent premature and inappropriate institutionalization and to provide respite and information for caregivers. Program elements include planned social\, recreational and physical activities\, snacks and lunch. Transportation is available upon request. NOTE: The Adult Day Program is open to registered clients only.
URL:https://rosss.ca/event/adult-day-program/2023-02-16/
END:VEVENT
BEGIN:VEVENT
DTSTART;TZID=America/Toronto:20230215T130000
DTEND;TZID=America/Toronto:20230215T143000
DTSTAMP:20260422T212351
CREATED:20230131T193323Z
LAST-MODIFIED:20231107T121238Z
UID:10000449-1676466000-1676471400@rosss.ca
SUMMARY:Goodwood Apartments Drop-in
DESCRIPTION:Drop-in for a sociable chat\, game of bingo and various fun topics and presenters.
URL:https://rosss.ca/event/goodwood-apartments-drop-in/2023-02-15/
END:VEVENT
BEGIN:VEVENT
DTSTART;TZID=America/Toronto:20230215T100000
DTEND;TZID=America/Toronto:20230215T140000
DTSTAMP:20260422T212351
CREATED:20230131T191418Z
LAST-MODIFIED:20230206T145205Z
UID:10000360-1676455200-1676469600@rosss.ca
SUMMARY:Combined Adult Day/Caregiver Support Program
DESCRIPTION:Caregivers come together and support one another through their caregiving journey\, while your loved one attends the Adult Day Program. This program includes group discussions\, professional speakers and support resources. Open to registered participants only. \nFor more information\, please contact the ROSSS office 613-692-4697 ext. 226 or email info@rosss.ca to register.
URL:https://rosss.ca/event/combined-adult-day-caregiver-support-program-2/2023-02-15/
END:VEVENT
BEGIN:VEVENT
DTSTART;TZID=America/Toronto:20230215T100000
DTEND;TZID=America/Toronto:20230215T120000
DTSTAMP:20260422T212351
CREATED:20230131T192810Z
LAST-MODIFIED:20230209T153921Z
UID:10000376-1676455200-1676462400@rosss.ca
SUMMARY:Manotick Drop-in
DESCRIPTION:Drop-in for a sociable chat\, game of bingo and various fun topics and presenters.
URL:https://rosss.ca/event/manotick-drop-in/2023-02-15/
END:VEVENT
BEGIN:VEVENT
DTSTART;TZID=America/Toronto:20230214T130000
DTEND;TZID=America/Toronto:20230214T143000
DTSTAMP:20260422T212351
CREATED:20230131T185305Z
LAST-MODIFIED:20231107T123513Z
UID:10000318-1676379600-1676385000@rosss.ca
SUMMARY:Stanley Apartments Drop-In
DESCRIPTION:Drop-in for a sociable chat\, game of bingo and various fun topics and presenters. NOTE: this program is open to residents of the Stanley Apartments only.
URL:https://rosss.ca/event/stanley-apartments-drop-in/
END:VEVENT
BEGIN:VEVENT
DTSTART;TZID=America/Toronto:20230214T100000
DTEND;TZID=America/Toronto:20230214T120000
DTSTAMP:20260422T212351
CREATED:20230131T184331Z
LAST-MODIFIED:20230209T154935Z
UID:10000199-1676368800-1676376000@rosss.ca
SUMMARY:Osgoode Drop-in
DESCRIPTION:Drop-in for a sociable chat\, game of bingo and various fun topics and presenters.
URL:https://rosss.ca/event/osgoode-drop-in/2023-02-14/
END:VEVENT
BEGIN:VEVENT
DTSTART;TZID=America/Toronto:20230214T100000
DTEND;TZID=America/Toronto:20230214T110000
DTSTAMP:20260422T212351
CREATED:20230131T184648Z
LAST-MODIFIED:20230209T154902Z
UID:10000259-1676368800-1676372400@rosss.ca
SUMMARY:Hyfield Fitness
DESCRIPTION:Please join us for a fun\, active morning at Hyfield Place in Manotick.
URL:https://rosss.ca/event/hyfield-fitness/2023-02-14/
END:VEVENT
BEGIN:VEVENT
DTSTART;TZID=America/Toronto:20230213T120000
DTEND;TZID=America/Toronto:20230213T140000
DTSTAMP:20260422T212351
CREATED:20230127T180533Z
LAST-MODIFIED:20230203T170131Z
UID:10000020-1676289600-1676296800@rosss.ca
SUMMARY:Pickleball
DESCRIPTION:Please join us for a fun and active drop-in program playing pickleball. Please note there is a drop-in fee of $4.00 for this program.
URL:https://rosss.ca/event/pickleball/2023-02-13/
LOCATION:Greely Community Centre\, 1448 Meadow Dr\, Greely\, ON\, Canada
END:VEVENT
BEGIN:VEVENT
DTSTART;TZID=America/Toronto:20230213T120000
DTEND;TZID=America/Toronto:20230213T133000
DTSTAMP:20260422T212351
CREATED:20230131T183556Z
LAST-MODIFIED:20230209T155627Z
UID:10000139-1676289600-1676295000@rosss.ca
SUMMARY:Connections Lunch
DESCRIPTION:Enjoy good food and even better company at our favourite restaurants in Manotick\, Richmond\, Metcalfe\, and North Gower! Connections lunches provide an opportunity to connect with friends and meet new people in the community. Groups will be notified a week in advance to register for lunches.
URL:https://rosss.ca/event/connections-lunch/2023-02-13/
END:VEVENT
BEGIN:VEVENT
DTSTART;TZID=America/Toronto:20230210T120000
DTEND;TZID=America/Toronto:20230210T140000
DTSTAMP:20260422T212351
CREATED:20230127T180533Z
LAST-MODIFIED:20230203T170131Z
UID:10000019-1676030400-1676037600@rosss.ca
SUMMARY:Pickleball
DESCRIPTION:Please join us for a fun and active drop-in program playing pickleball. Please note there is a drop-in fee of $4.00 for this program.
URL:https://rosss.ca/event/pickleball/2023-02-10/
LOCATION:Greely Community Centre\, 1448 Meadow Dr\, Greely\, ON\, Canada
END:VEVENT
BEGIN:VEVENT
DTSTART;TZID=America/Toronto:20230210T100000
DTEND;TZID=America/Toronto:20230210T120000
DTSTAMP:20260422T212351
CREATED:20230131T194009Z
LAST-MODIFIED:20230209T154459Z
UID:10000525-1676023200-1676030400@rosss.ca
SUMMARY:Cultured Purls
DESCRIPTION:Calling all knitters! Join us for good conversation while you finish your latest projects.
URL:https://rosss.ca/event/cultured-purls/2023-02-10/
END:VEVENT
BEGIN:VEVENT
DTSTART;TZID=America/Toronto:20230209T100000
DTEND;TZID=America/Toronto:20230209T150000
DTSTAMP:20260422T212351
CREATED:20230131T193857Z
LAST-MODIFIED:20230209T154211Z
UID:10000464-1675936800-1675954800@rosss.ca
SUMMARY:Adult Day Program
DESCRIPTION:The Adult Day Program provides supervised individual programming in a group setting for older adults\, who may be physically frail\, cognitively impaired and/or socially isolated. Our program is designed to assist participants in achieving and maintaining their maximum level of functioning\, to prevent premature and inappropriate institutionalization and to provide respite and information for caregivers. Program elements include planned social\, recreational and physical activities\, snacks and lunch. Transportation is available upon request. NOTE: The Adult Day Program is open to registered clients only.
URL:https://rosss.ca/event/adult-day-program/2023-02-09/
END:VEVENT
BEGIN:VEVENT
DTSTART;TZID=America/Toronto:20230208T100000
DTEND;TZID=America/Toronto:20230208T120000
DTSTAMP:20260422T212351
CREATED:20230131T192810Z
LAST-MODIFIED:20230209T153921Z
UID:10000375-1675850400-1675857600@rosss.ca
SUMMARY:Manotick Drop-in
DESCRIPTION:Drop-in for a sociable chat\, game of bingo and various fun topics and presenters.
URL:https://rosss.ca/event/manotick-drop-in/2023-02-08/
END:VEVENT
BEGIN:VEVENT
DTSTART;TZID=America/Toronto:20230207T100000
DTEND;TZID=America/Toronto:20230207T120000
DTSTAMP:20260422T212351
CREATED:20230131T184331Z
LAST-MODIFIED:20230209T154935Z
UID:10000198-1675764000-1675771200@rosss.ca
SUMMARY:Osgoode Drop-in
DESCRIPTION:Drop-in for a sociable chat\, game of bingo and various fun topics and presenters.
URL:https://rosss.ca/event/osgoode-drop-in/2023-02-07/
END:VEVENT
END:VCALENDAR