BEGIN:VCALENDAR
VERSION:2.0
PRODID:-//ROSSS - ECPv6.15.20//NONSGML v1.0//EN
CALSCALE:GREGORIAN
METHOD:PUBLISH
X-WR-CALNAME:ROSSS
X-ORIGINAL-URL:https://rosss.ca
X-WR-CALDESC:Events for ROSSS
REFRESH-INTERVAL;VALUE=DURATION:PT1H
X-Robots-Tag:noindex
X-PUBLISHED-TTL:PT1H
BEGIN:VTIMEZONE
TZID:America/Toronto
BEGIN:DAYLIGHT
TZOFFSETFROM:-0500
TZOFFSETTO:-0400
TZNAME:EDT
DTSTART:20230312T070000
END:DAYLIGHT
BEGIN:STANDARD
TZOFFSETFROM:-0400
TZOFFSETTO:-0500
TZNAME:EST
DTSTART:20231105T060000
END:STANDARD
BEGIN:DAYLIGHT
TZOFFSETFROM:-0500
TZOFFSETTO:-0400
TZNAME:EDT
DTSTART:20240310T070000
END:DAYLIGHT
BEGIN:STANDARD
TZOFFSETFROM:-0400
TZOFFSETTO:-0500
TZNAME:EST
DTSTART:20241103T060000
END:STANDARD
BEGIN:DAYLIGHT
TZOFFSETFROM:-0500
TZOFFSETTO:-0400
TZNAME:EDT
DTSTART:20250309T070000
END:DAYLIGHT
BEGIN:STANDARD
TZOFFSETFROM:-0400
TZOFFSETTO:-0500
TZNAME:EST
DTSTART:20251102T060000
END:STANDARD
END:VTIMEZONE
BEGIN:VEVENT
DTSTART;TZID=America/Toronto:20241218T100000
DTEND;TZID=America/Toronto:20241218T120000
DTSTAMP:20260423T060054
CREATED:20241203T193109Z
LAST-MODIFIED:20241203T193109Z
UID:10001186-1734516000-1734523200@rosss.ca
SUMMARY:ROSSS Client Christmas Party
DESCRIPTION:ROSSS client Christmas party will be held at O-YA\, 5479 Osgoode Main St. Event fee is $6. Registration is appreciated. \n****FOR DAYS WITH INCLEMENT WEATHER PLEASE CALL TO VERIFY IF PROGRAMS ARE RUNNING**** \nFor information regarding any of the programs noted on the calendar\, please contact Lyn Rorke 613- 692-4697 ext 224.
URL:https://rosss.ca/event/rosss-client-christmas-party/
LOCATION:O-YA\, 5479 Osgoode Main St\, Osgoode\, ON\, K0A 2W0\, Canada
CATEGORIES:Social & Dining Programs
ATTACH;FMTTYPE=image/jpeg:https://rosss.ca/wp-content/uploads/2024/12/ROSSS-Christmas-party-event.jpg
END:VEVENT
BEGIN:VEVENT
DTSTART;TZID=America/Toronto:20241217T120000
DTEND;TZID=America/Toronto:20241217T140000
DTSTAMP:20260423T060054
CREATED:20241203T192458Z
LAST-MODIFIED:20250428T203403Z
UID:10001185-1734436800-1734444000@rosss.ca
SUMMARY:Connections Lunch: Danby’s
DESCRIPTION:*For all connections lunches reservations ARE REQUIRED. Please call Lyn at least 3 business days before the lunch to reserve your spot. \n****FOR DAYS WITH INCLEMENT WEATHER PLEASE CALL TO VERIFY IF PROGRAMS ARE RUNNING**** \n*For information regarding any of the programs noted on the calendar\, please contact Lyn Rorke 613- 692-4697 ext 224.
URL:https://rosss.ca/event/connections-lunch-danbys/2024-12-17/
LOCATION:Danby’s Roadhouse\, 6127 Perth St\, Richmond\, ON\, K0A 2Z0\, Canada
CATEGORIES:Community Events,ROSSS Fundraising Events,Social & Dining Programs
ATTACH;FMTTYPE=image/jpeg:https://rosss.ca/wp-content/uploads/2024/12/Danbys-roadhouse.jpg
END:VEVENT
BEGIN:VEVENT
DTSTART;TZID=America/Toronto:20241212T100000
DTEND;TZID=America/Toronto:20241212T150000
DTSTAMP:20260423T060054
CREATED:20241203T185201Z
LAST-MODIFIED:20241203T185202Z
UID:10000859-1733997600-1734015600@rosss.ca
SUMMARY:Adult Day Program
DESCRIPTION:Adult Day Program is by referral only by the HCCSS.\nTuesday ADP group is from 10am-2pm and the Caregivers is 10am- 12pm.\n\n****FOR DAYS WITH INCLEMENT WEATHER PLEASE CALL TO VERIFY IF PROGRAMS ARE RUNNING**** \n*For information regarding any of the programs noted on the calendar\, please contact Lyn Rorke 613- 692-4697 ext 224.
URL:https://rosss.ca/event/adult-day-program-3-2/
LOCATION:ON
CATEGORIES:Community Events,ROSSS Fundraising Events,Social & Dining Programs
ATTACH;FMTTYPE=image/jpeg:https://rosss.ca/wp-content/uploads/2024/01/NEW-LGBTQ2-Adult-Day-Program.jpg
END:VEVENT
BEGIN:VEVENT
DTSTART;TZID=America/Toronto:20241206T133000
DTEND;TZID=America/Toronto:20241206T153000
DTSTAMP:20260423T060054
CREATED:20241203T182616Z
LAST-MODIFIED:20250326T160438Z
UID:10001178-1733491800-1733499000@rosss.ca
SUMMARY:Ladies Tea Talk
DESCRIPTION:Highfields in Manotick – Open to all with Registration – First Friday of the month 1:30-3:30. \n****FOR DAYS WITH INCLEMENT WEATHER PLEASE CALL TO VERIFY IF PROGRAMS ARE RUNNING**** \n*For information regarding any of the programs noted on the calendar\, please contact Lyn Rorke 613- 692-4697 ext 224.
URL:https://rosss.ca/event/ladies-tea-talk-3/2024-12-06/
LOCATION:ON
CATEGORIES:Community Events
ATTACH;FMTTYPE=image/jpeg:https://rosss.ca/wp-content/uploads/2024/12/ladies-tea-talk-ROSSS-events.jpg
END:VEVENT
BEGIN:VEVENT
DTSTART;TZID=America/Toronto:20241206T100000
DTEND;TZID=America/Toronto:20241206T120000
DTSTAMP:20260423T060054
CREATED:20241203T181631Z
LAST-MODIFIED:20241203T185324Z
UID:10001119-1733479200-1733486400@rosss.ca
SUMMARY:Cultured Purls
DESCRIPTION:Cultured Purls Knitting Group: Hyfield in Manotick at 5581 Dr Leach Drive\, Open to all. \n****FOR DAYS WITH INCLEMENT WEATHER PLEASE CALL TO VERIFY IF PROGRAMS ARE RUNNING**** \n*For information regarding any of the programs noted on the calendar\, please contact Lyn Rorke 613- 692-4697 ext 224.
URL:https://rosss.ca/event/cultured-purls-2/2024-12-06/
LOCATION:Hyfield in Manotick\, 5581 Dr Leach Drive\, Manotick\, ON\, K4M 1J6\, Canada
CATEGORIES:Community Events,ROSSS Fundraising Events,Social & Dining Programs
ATTACH;FMTTYPE=image/jpeg:https://rosss.ca/wp-content/uploads/2024/12/Knitting-Group-ROSSS.jpg
END:VEVENT
BEGIN:VEVENT
DTSTART;TZID=America/Toronto:20241205T100000
DTEND;TZID=America/Toronto:20241205T150000
DTSTAMP:20260423T060054
CREATED:20241203T170819Z
LAST-MODIFIED:20241203T172031Z
UID:10000858-1733392800-1733410800@rosss.ca
SUMMARY:Adult Day Program
DESCRIPTION:Adult Day Program is by referral only by the HCCSS.\nTuesday ADP group is from 10am-2pm and the Caregivers is 10am- 12pm.
URL:https://rosss.ca/event/adult-day-program-3/
LOCATION:ON
CATEGORIES:Community Events,ROSSS Fundraising Events,Social & Dining Programs
ATTACH;FMTTYPE=image/jpeg:https://rosss.ca/wp-content/uploads/2024/01/NEW-LGBTQ2-Adult-Day-Program.jpg
END:VEVENT
BEGIN:VEVENT
DTSTART;TZID=America/Toronto:20241204T120000
DTEND;TZID=America/Toronto:20241204T140000
DTSTAMP:20260423T060054
CREATED:20231002T160048Z
LAST-MODIFIED:20250428T182241Z
UID:10002703-1733313600-1733320800@rosss.ca
SUMMARY:Richmond Diners
DESCRIPTION:Held once a month\, this luncheon provides a hot meal\, dessert\, entertainment and raffle. What better way to join and gather the community together. Come on out! \nNOTE: Registration is required to reserve a seat. All breakfast and diners will now have a $5 no show fee if you have not cancelled your reservation before due to food being purchased. \n****FOR DAYS WITH INCLEMENT WEATHER PLEASE CALL TO VERIFY IF PROGRAMS ARE RUNNING**** \n*For information regarding any of the programs noted on the calendar\, please contact Lyn Rorke 613- 692-4697 ext 224.
URL:https://rosss.ca/event/richmond-diners/2024-12-04/
LOCATION:Saint John the Baptist Anglican Church\, 67 Fowler St\, Richmond\, ON\, K0A 2Z0\, Canada
CATEGORIES:DINING PROGRAM
ATTACH;FMTTYPE=image/jpeg:https://rosss.ca/wp-content/uploads/2023/10/67-Fowler-St-Richmond-ON-K0A-2Z0.jpg
END:VEVENT
BEGIN:VEVENT
DTSTART;TZID=America/Toronto:20241121T190000
DTEND;TZID=America/Toronto:20241121T213000
DTSTAMP:20260423T060054
CREATED:20241003T143215Z
LAST-MODIFIED:20241003T143215Z
UID:10000856-1732215600-1732224600@rosss.ca
SUMMARY:ROSSS Holiday Trivia Night
DESCRIPTION:ROSSS Holiday Trivia Night\nGet ready for some festive fun! The ROSSS Holiday Trivia Night is BACK! \nWhen: November 21st\, 7 PM – 9:30 PM\nWhere: Alfred Taylor Rec Centre\, 2300 Community Way\, North Gower\, ON K0A 2T0 \n\nJoin us for an evening of laughter and joy—all for a great cause! Enjoy a cash bar\, delicious chili\, games\, 50/50 draws\, raffle prizes\, and more! \n\nTickets: Only $15\nAll ages welcome!\nTrivia teams:  6 people. \n\nAll proceeds will benefit rural seniors and adults with disabilities.\n\n\nTickets can be purchased by clicking the button here or by visiting our office at 1096 Bridge Street\, Manotick\n\n\n\n\n\nPURCHASE TICKETS
URL:https://rosss.ca/event/rosss-holiday-trivia-night/
LOCATION:Alfred Taylor Rec Centre\, 2300 Community Way\, North Gower\, ON K0A 2T0\, 2300 Community Way ON\, North Gower\, Ontario\, K0A 2T0\, Canada
CATEGORIES:Community Events
ATTACH;FMTTYPE=image/png:https://rosss.ca/wp-content/uploads/2024/10/Copy-of-Trivia-Flyer.png
END:VEVENT
BEGIN:VEVENT
DTSTART;TZID=America/Toronto:20241106T120000
DTEND;TZID=America/Toronto:20241106T140000
DTSTAMP:20260423T060054
CREATED:20231002T160048Z
LAST-MODIFIED:20250428T182241Z
UID:10002702-1730894400-1730901600@rosss.ca
SUMMARY:Richmond Diners
DESCRIPTION:Held once a month\, this luncheon provides a hot meal\, dessert\, entertainment and raffle. What better way to join and gather the community together. Come on out! \nNOTE: Registration is required to reserve a seat. All breakfast and diners will now have a $5 no show fee if you have not cancelled your reservation before due to food being purchased. \n****FOR DAYS WITH INCLEMENT WEATHER PLEASE CALL TO VERIFY IF PROGRAMS ARE RUNNING**** \n*For information regarding any of the programs noted on the calendar\, please contact Lyn Rorke 613- 692-4697 ext 224.
URL:https://rosss.ca/event/richmond-diners/2024-11-06/
LOCATION:Saint John the Baptist Anglican Church\, 67 Fowler St\, Richmond\, ON\, K0A 2Z0\, Canada
CATEGORIES:DINING PROGRAM
ATTACH;FMTTYPE=image/jpeg:https://rosss.ca/wp-content/uploads/2023/10/67-Fowler-St-Richmond-ON-K0A-2Z0.jpg
END:VEVENT
BEGIN:VEVENT
DTSTART;TZID=America/Toronto:20241002T120000
DTEND;TZID=America/Toronto:20241002T140000
DTSTAMP:20260423T060054
CREATED:20231002T160048Z
LAST-MODIFIED:20250428T182241Z
UID:10002701-1727870400-1727877600@rosss.ca
SUMMARY:Richmond Diners
DESCRIPTION:Held once a month\, this luncheon provides a hot meal\, dessert\, entertainment and raffle. What better way to join and gather the community together. Come on out! \nNOTE: Registration is required to reserve a seat. All breakfast and diners will now have a $5 no show fee if you have not cancelled your reservation before due to food being purchased. \n****FOR DAYS WITH INCLEMENT WEATHER PLEASE CALL TO VERIFY IF PROGRAMS ARE RUNNING**** \n*For information regarding any of the programs noted on the calendar\, please contact Lyn Rorke 613- 692-4697 ext 224.
URL:https://rosss.ca/event/richmond-diners/2024-10-02/
LOCATION:Saint John the Baptist Anglican Church\, 67 Fowler St\, Richmond\, ON\, K0A 2Z0\, Canada
CATEGORIES:DINING PROGRAM
ATTACH;FMTTYPE=image/jpeg:https://rosss.ca/wp-content/uploads/2023/10/67-Fowler-St-Richmond-ON-K0A-2Z0.jpg
END:VEVENT
BEGIN:VEVENT
DTSTART;TZID=America/Toronto:20240922T130000
DTEND;TZID=America/Toronto:20240922T150000
DTSTAMP:20260423T060054
CREATED:20240712T142515Z
LAST-MODIFIED:20240919T193142Z
UID:10000854-1727010000-1727017200@rosss.ca
SUMMARY:ROSSS Presents:  Afternoon Tea
DESCRIPTION:You’re invited to our 2nd Annual Afternoon Tea!\nJoin us for an afternoon of elegance and fun all for a good cause. \nSunday\, September 22nd\, 2024\nOrchard View Wedding & Event Centre\n6346 Deermeadow Dr\, Greely ON\n1PM – 3PM \nLive Music\, Raffles\, Silent Auction\, Door Prizes and More!\n$35/Per Person \nTickets can be purchased by clicking the button here or by visiting our office at: \n1096 Bridge Street\, Manotick \nPURCHASE TICKETS
URL:https://rosss.ca/event/rosss-presents-afternoon-tea/
LOCATION:Orchard Way Wedding and Events\, 6346 Deermeadow Drive\, Greely\, Ontario\, Canada
CATEGORIES:ROSSS Fundraising Events,Social & Dining Programs
ATTACH;FMTTYPE=image/jpeg:https://rosss.ca/wp-content/uploads/2024/07/High-Tea-Fundraiser-Poster-24-1-scaled.jpg
ORGANIZER;CN="Rural Ottawa South Support Services":MAILTO:info@rosss.ca
END:VEVENT
BEGIN:VEVENT
DTSTART;TZID=America/Toronto:20240904T120000
DTEND;TZID=America/Toronto:20240904T140000
DTSTAMP:20260423T060054
CREATED:20231002T160048Z
LAST-MODIFIED:20250428T182241Z
UID:10002700-1725451200-1725458400@rosss.ca
SUMMARY:Richmond Diners
DESCRIPTION:Held once a month\, this luncheon provides a hot meal\, dessert\, entertainment and raffle. What better way to join and gather the community together. Come on out! \nNOTE: Registration is required to reserve a seat. All breakfast and diners will now have a $5 no show fee if you have not cancelled your reservation before due to food being purchased. \n****FOR DAYS WITH INCLEMENT WEATHER PLEASE CALL TO VERIFY IF PROGRAMS ARE RUNNING**** \n*For information regarding any of the programs noted on the calendar\, please contact Lyn Rorke 613- 692-4697 ext 224.
URL:https://rosss.ca/event/richmond-diners/2024-09-04/
LOCATION:Saint John the Baptist Anglican Church\, 67 Fowler St\, Richmond\, ON\, K0A 2Z0\, Canada
CATEGORIES:DINING PROGRAM
ATTACH;FMTTYPE=image/jpeg:https://rosss.ca/wp-content/uploads/2023/10/67-Fowler-St-Richmond-ON-K0A-2Z0.jpg
END:VEVENT
BEGIN:VEVENT
DTSTART;TZID=America/Toronto:20240823T180000
DTEND;TZID=America/Toronto:20240823T210000
DTSTAMP:20260423T060054
CREATED:20240712T143243Z
LAST-MODIFIED:20240712T143741Z
UID:10000855-1724436000-1724446800@rosss.ca
SUMMARY:Riverwalk Community Block Party Fundraiser
DESCRIPTION:Join in true community spirit at and 2nd annual Riverwalk Block Party and Fundraising BBQ! \nROSSS has been chosen to be the beneficiary of funds raised at this years Block Party on Artemis Circle in Manotick. \nAll are welcome to join. The evening will feature live music from The Chesterfields. \nFriday\, August 23rd\, 2024 \n6PM \nAdmission is FREE! BBQ and 50/50 are available for purchase. \nPlease join and enjoy community spirit\, live music and good food all for a good cause.
URL:https://rosss.ca/event/riverwalk-community-block-party-fundraiser/
LOCATION:Artemis Circle\, Artemis Circle\, Manotick\, Ontario\, Canada
CATEGORIES:ROSSS Fundraising Events
ATTACH;FMTTYPE=image/png:https://rosss.ca/wp-content/uploads/2024/07/riverwalk-community-party.png
ORGANIZER;CN="Rural Ottawa South Support Services":MAILTO:info@rosss.ca
END:VEVENT
BEGIN:VEVENT
DTSTART;TZID=America/Toronto:20240807T120000
DTEND;TZID=America/Toronto:20240807T140000
DTSTAMP:20260423T060054
CREATED:20231002T160048Z
LAST-MODIFIED:20250428T182241Z
UID:10002699-1723032000-1723039200@rosss.ca
SUMMARY:Richmond Diners
DESCRIPTION:Held once a month\, this luncheon provides a hot meal\, dessert\, entertainment and raffle. What better way to join and gather the community together. Come on out! \nNOTE: Registration is required to reserve a seat. All breakfast and diners will now have a $5 no show fee if you have not cancelled your reservation before due to food being purchased. \n****FOR DAYS WITH INCLEMENT WEATHER PLEASE CALL TO VERIFY IF PROGRAMS ARE RUNNING**** \n*For information regarding any of the programs noted on the calendar\, please contact Lyn Rorke 613- 692-4697 ext 224.
URL:https://rosss.ca/event/richmond-diners/2024-08-07/
LOCATION:Saint John the Baptist Anglican Church\, 67 Fowler St\, Richmond\, ON\, K0A 2Z0\, Canada
CATEGORIES:DINING PROGRAM
ATTACH;FMTTYPE=image/jpeg:https://rosss.ca/wp-content/uploads/2023/10/67-Fowler-St-Richmond-ON-K0A-2Z0.jpg
END:VEVENT
BEGIN:VEVENT
DTSTART;TZID=America/Toronto:20240703T120000
DTEND;TZID=America/Toronto:20240703T140000
DTSTAMP:20260423T060054
CREATED:20231002T160048Z
LAST-MODIFIED:20250428T182241Z
UID:10002698-1720008000-1720015200@rosss.ca
SUMMARY:Richmond Diners
DESCRIPTION:Held once a month\, this luncheon provides a hot meal\, dessert\, entertainment and raffle. What better way to join and gather the community together. Come on out! \nNOTE: Registration is required to reserve a seat. All breakfast and diners will now have a $5 no show fee if you have not cancelled your reservation before due to food being purchased. \n****FOR DAYS WITH INCLEMENT WEATHER PLEASE CALL TO VERIFY IF PROGRAMS ARE RUNNING**** \n*For information regarding any of the programs noted on the calendar\, please contact Lyn Rorke 613- 692-4697 ext 224.
URL:https://rosss.ca/event/richmond-diners/2024-07-03/
LOCATION:Saint John the Baptist Anglican Church\, 67 Fowler St\, Richmond\, ON\, K0A 2Z0\, Canada
CATEGORIES:DINING PROGRAM
ATTACH;FMTTYPE=image/jpeg:https://rosss.ca/wp-content/uploads/2023/10/67-Fowler-St-Richmond-ON-K0A-2Z0.jpg
END:VEVENT
BEGIN:VEVENT
DTSTART;TZID=America/Toronto:20240628T123000
DTEND;TZID=America/Toronto:20240628T143000
DTSTAMP:20260423T060054
CREATED:20231107T120221Z
LAST-MODIFIED:20231107T143839Z
UID:10000809-1719577800-1719585000@rosss.ca
SUMMARY:Pickleball
DESCRIPTION:Join us for a fun and active program playing pickleball! Bring your running shoes! \nNOTE: Registration is required.
URL:https://rosss.ca/event/pickleball-5/2024-06-28/
LOCATION:ON
END:VEVENT
BEGIN:VEVENT
DTSTART;TZID=America/Toronto:20240627T133000
DTEND;TZID=America/Toronto:20240627T153000
DTSTAMP:20260423T060054
CREATED:20231107T120034Z
LAST-MODIFIED:20231107T120034Z
UID:10000726-1719495000-1719502200@rosss.ca
SUMMARY:Pickleball
DESCRIPTION:Join us for a fun and active program playing pickleball! Bring your running shoes! \nNOTE: Registration is required.
URL:https://rosss.ca/event/pickleball-4/2024-06-27/
LOCATION:ON
END:VEVENT
BEGIN:VEVENT
DTSTART;TZID=America/Toronto:20240624T123000
DTEND;TZID=America/Toronto:20240624T143000
DTSTAMP:20260423T060054
CREATED:20231107T115906Z
LAST-MODIFIED:20231107T115906Z
UID:10000692-1719232200-1719239400@rosss.ca
SUMMARY:Pickleball
DESCRIPTION:Join us for a fun and active program playing pickleball! Bring your running shoes! \nNOTE: Registration is required.
URL:https://rosss.ca/event/pickleball-3/2024-06-24/
LOCATION:ON
END:VEVENT
BEGIN:VEVENT
DTSTART;TZID=America/Toronto:20240621T123000
DTEND;TZID=America/Toronto:20240621T143000
DTSTAMP:20260423T060054
CREATED:20231107T120221Z
LAST-MODIFIED:20231107T143839Z
UID:10000808-1718973000-1718980200@rosss.ca
SUMMARY:Pickleball
DESCRIPTION:Join us for a fun and active program playing pickleball! Bring your running shoes! \nNOTE: Registration is required.
URL:https://rosss.ca/event/pickleball-5/2024-06-21/
LOCATION:ON
END:VEVENT
BEGIN:VEVENT
DTSTART;TZID=America/Toronto:20240620T133000
DTEND;TZID=America/Toronto:20240620T153000
DTSTAMP:20260423T060054
CREATED:20231107T120034Z
LAST-MODIFIED:20231107T120034Z
UID:10000725-1718890200-1718897400@rosss.ca
SUMMARY:Pickleball
DESCRIPTION:Join us for a fun and active program playing pickleball! Bring your running shoes! \nNOTE: Registration is required.
URL:https://rosss.ca/event/pickleball-4/2024-06-20/
LOCATION:ON
END:VEVENT
BEGIN:VEVENT
DTSTART;TZID=America/Toronto:20240617T123000
DTEND;TZID=America/Toronto:20240617T143000
DTSTAMP:20260423T060054
CREATED:20231107T115906Z
LAST-MODIFIED:20231107T115906Z
UID:10000691-1718627400-1718634600@rosss.ca
SUMMARY:Pickleball
DESCRIPTION:Join us for a fun and active program playing pickleball! Bring your running shoes! \nNOTE: Registration is required.
URL:https://rosss.ca/event/pickleball-3/2024-06-17/
LOCATION:ON
END:VEVENT
BEGIN:VEVENT
DTSTART;TZID=America/Toronto:20240615T080000
DTEND;TZID=America/Toronto:20240615T123000
DTSTAMP:20260423T060054
CREATED:20240318T145242Z
LAST-MODIFIED:20240318T172710Z
UID:10000853-1718438400-1718454600@rosss.ca
SUMMARY:Ride for ROSSS
DESCRIPTION:ROSSS is excited to invite you to participate in Lagois third annual Ride for ROSSS Poker Run a charity motorcycle ride. \nWhen: Saturday\, June 15th 2024\nWhere: 1096 Bridge Street\, Manotick ON K4M 1J2\nNotes: Registration\, Coffee and Refreshments 8AM \nRide begins at 9AM and will finish around 12:30PM \nRegistration is $30\, additional rider $20. \nRegister by visiting ROSSS office at 1096 Bridge Street\, Manotick or by clicking the button below: \nREGISTER NOW \nThe route will takes riders around rural Ottawa south\, with poker run stops along the way and culminates at Lagois 5921 Prince of Wales Dr\, North Gower\, ON for lunch\, entertainment and prizes.
URL:https://rosss.ca/event/ride-for-rosss/
LOCATION:ON
CATEGORIES:ROSSS Fundraising Events
ATTACH;FMTTYPE=image/png:https://rosss.ca/wp-content/uploads/2024/03/Ride-for-ROSSS-poster-2024-for-digital-1.png
END:VEVENT
BEGIN:VEVENT
DTSTART;TZID=America/Toronto:20240614T123000
DTEND;TZID=America/Toronto:20240614T143000
DTSTAMP:20260423T060054
CREATED:20231107T120221Z
LAST-MODIFIED:20231107T143839Z
UID:10000807-1718368200-1718375400@rosss.ca
SUMMARY:Pickleball
DESCRIPTION:Join us for a fun and active program playing pickleball! Bring your running shoes! \nNOTE: Registration is required.
URL:https://rosss.ca/event/pickleball-5/2024-06-14/
LOCATION:ON
END:VEVENT
BEGIN:VEVENT
DTSTART;TZID=America/Toronto:20240613T133000
DTEND;TZID=America/Toronto:20240613T153000
DTSTAMP:20260423T060055
CREATED:20231107T120034Z
LAST-MODIFIED:20231107T120034Z
UID:10000724-1718285400-1718292600@rosss.ca
SUMMARY:Pickleball
DESCRIPTION:Join us for a fun and active program playing pickleball! Bring your running shoes! \nNOTE: Registration is required.
URL:https://rosss.ca/event/pickleball-4/2024-06-13/
LOCATION:ON
END:VEVENT
BEGIN:VEVENT
DTSTART;TZID=America/Toronto:20240610T123000
DTEND;TZID=America/Toronto:20240610T143000
DTSTAMP:20260423T060055
CREATED:20231107T115906Z
LAST-MODIFIED:20231107T115906Z
UID:10000690-1718022600-1718029800@rosss.ca
SUMMARY:Pickleball
DESCRIPTION:Join us for a fun and active program playing pickleball! Bring your running shoes! \nNOTE: Registration is required.
URL:https://rosss.ca/event/pickleball-3/2024-06-10/
LOCATION:ON
END:VEVENT
BEGIN:VEVENT
DTSTART;TZID=America/Toronto:20240607T123000
DTEND;TZID=America/Toronto:20240607T143000
DTSTAMP:20260423T060055
CREATED:20231107T120221Z
LAST-MODIFIED:20231107T143839Z
UID:10000806-1717763400-1717770600@rosss.ca
SUMMARY:Pickleball
DESCRIPTION:Join us for a fun and active program playing pickleball! Bring your running shoes! \nNOTE: Registration is required.
URL:https://rosss.ca/event/pickleball-5/2024-06-07/
LOCATION:ON
END:VEVENT
BEGIN:VEVENT
DTSTART;TZID=America/Toronto:20240606T133000
DTEND;TZID=America/Toronto:20240606T153000
DTSTAMP:20260423T060055
CREATED:20231107T120034Z
LAST-MODIFIED:20231107T120034Z
UID:10000723-1717680600-1717687800@rosss.ca
SUMMARY:Pickleball
DESCRIPTION:Join us for a fun and active program playing pickleball! Bring your running shoes! \nNOTE: Registration is required.
URL:https://rosss.ca/event/pickleball-4/2024-06-06/
LOCATION:ON
END:VEVENT
BEGIN:VEVENT
DTSTART;TZID=America/Toronto:20240605T120000
DTEND;TZID=America/Toronto:20240605T140000
DTSTAMP:20260423T060055
CREATED:20231002T160048Z
LAST-MODIFIED:20250428T182241Z
UID:10002697-1717588800-1717596000@rosss.ca
SUMMARY:Richmond Diners
DESCRIPTION:Held once a month\, this luncheon provides a hot meal\, dessert\, entertainment and raffle. What better way to join and gather the community together. Come on out! \nNOTE: Registration is required to reserve a seat. All breakfast and diners will now have a $5 no show fee if you have not cancelled your reservation before due to food being purchased. \n****FOR DAYS WITH INCLEMENT WEATHER PLEASE CALL TO VERIFY IF PROGRAMS ARE RUNNING**** \n*For information regarding any of the programs noted on the calendar\, please contact Lyn Rorke 613- 692-4697 ext 224.
URL:https://rosss.ca/event/richmond-diners/2024-06-05/
LOCATION:Saint John the Baptist Anglican Church\, 67 Fowler St\, Richmond\, ON\, K0A 2Z0\, Canada
CATEGORIES:DINING PROGRAM
ATTACH;FMTTYPE=image/jpeg:https://rosss.ca/wp-content/uploads/2023/10/67-Fowler-St-Richmond-ON-K0A-2Z0.jpg
END:VEVENT
BEGIN:VEVENT
DTSTART;TZID=America/Toronto:20240603T123000
DTEND;TZID=America/Toronto:20240603T143000
DTSTAMP:20260423T060055
CREATED:20231107T115906Z
LAST-MODIFIED:20231107T115906Z
UID:10000689-1717417800-1717425000@rosss.ca
SUMMARY:Pickleball
DESCRIPTION:Join us for a fun and active program playing pickleball! Bring your running shoes! \nNOTE: Registration is required.
URL:https://rosss.ca/event/pickleball-3/2024-06-03/
LOCATION:ON
END:VEVENT
BEGIN:VEVENT
DTSTART;TZID=America/Toronto:20240531T123000
DTEND;TZID=America/Toronto:20240531T143000
DTSTAMP:20260423T060055
CREATED:20231107T120221Z
LAST-MODIFIED:20231107T143839Z
UID:10000805-1717158600-1717165800@rosss.ca
SUMMARY:Pickleball
DESCRIPTION:Join us for a fun and active program playing pickleball! Bring your running shoes! \nNOTE: Registration is required.
URL:https://rosss.ca/event/pickleball-5/2024-05-31/
LOCATION:ON
END:VEVENT
END:VCALENDAR