BEGIN:VCALENDAR
VERSION:2.0
PRODID:-//ROSSS - ECPv6.15.20//NONSGML v1.0//EN
CALSCALE:GREGORIAN
METHOD:PUBLISH
X-WR-CALNAME:ROSSS
X-ORIGINAL-URL:https://rosss.ca
X-WR-CALDESC:Events for ROSSS
REFRESH-INTERVAL;VALUE=DURATION:PT1H
X-Robots-Tag:noindex
X-PUBLISHED-TTL:PT1H
BEGIN:VTIMEZONE
TZID:America/Toronto
BEGIN:DAYLIGHT
TZOFFSETFROM:-0500
TZOFFSETTO:-0400
TZNAME:EDT
DTSTART:20220313T070000
END:DAYLIGHT
BEGIN:STANDARD
TZOFFSETFROM:-0400
TZOFFSETTO:-0500
TZNAME:EST
DTSTART:20221106T060000
END:STANDARD
BEGIN:DAYLIGHT
TZOFFSETFROM:-0500
TZOFFSETTO:-0400
TZNAME:EDT
DTSTART:20230312T070000
END:DAYLIGHT
BEGIN:STANDARD
TZOFFSETFROM:-0400
TZOFFSETTO:-0500
TZNAME:EST
DTSTART:20231105T060000
END:STANDARD
BEGIN:DAYLIGHT
TZOFFSETFROM:-0500
TZOFFSETTO:-0400
TZNAME:EDT
DTSTART:20240310T070000
END:DAYLIGHT
BEGIN:STANDARD
TZOFFSETFROM:-0400
TZOFFSETTO:-0500
TZNAME:EST
DTSTART:20241103T060000
END:STANDARD
END:VTIMEZONE
BEGIN:VEVENT
DTSTART;TZID=America/Toronto:20230809T100000
DTEND;TZID=America/Toronto:20230809T120000
DTSTAMP:20260423T213541
CREATED:20230131T192810Z
LAST-MODIFIED:20230209T153921Z
UID:10000401-1691575200-1691582400@rosss.ca
SUMMARY:Manotick Drop-in
DESCRIPTION:Drop-in for a sociable chat\, game of bingo and various fun topics and presenters.
URL:https://rosss.ca/event/manotick-drop-in/2023-08-09/
LOCATION:ON
END:VEVENT
BEGIN:VEVENT
DTSTART;VALUE=DATE:20230807
DTEND;VALUE=DATE:20230808
DTSTAMP:20260423T213541
CREATED:20230209T160911Z
LAST-MODIFIED:20230209T160911Z
UID:10000608-1691366400-1691452799@rosss.ca
SUMMARY:CIVIC HOLIDAY
DESCRIPTION:
URL:https://rosss.ca/event/civic-holiday/
LOCATION:ON
END:VEVENT
BEGIN:VEVENT
DTSTART;TZID=America/Toronto:20230804T100000
DTEND;TZID=America/Toronto:20230804T120000
DTSTAMP:20260423T213541
CREATED:20230131T194009Z
LAST-MODIFIED:20230209T154459Z
UID:10000550-1691143200-1691150400@rosss.ca
SUMMARY:Cultured Purls
DESCRIPTION:Calling all knitters! Join us for good conversation while you finish your latest projects.
URL:https://rosss.ca/event/cultured-purls/2023-08-04/
LOCATION:ON
END:VEVENT
BEGIN:VEVENT
DTSTART;TZID=America/Toronto:20230803T100000
DTEND;TZID=America/Toronto:20230803T150000
DTSTAMP:20260423T213541
CREATED:20230131T193857Z
LAST-MODIFIED:20230209T154211Z
UID:10000489-1691056800-1691074800@rosss.ca
SUMMARY:Adult Day Program
DESCRIPTION:The Adult Day Program provides supervised individual programming in a group setting for older adults\, who may be physically frail\, cognitively impaired and/or socially isolated. Our program is designed to assist participants in achieving and maintaining their maximum level of functioning\, to prevent premature and inappropriate institutionalization and to provide respite and information for caregivers. Program elements include planned social\, recreational and physical activities\, snacks and lunch. Transportation is available upon request. NOTE: The Adult Day Program is open to registered clients only.
URL:https://rosss.ca/event/adult-day-program/2023-08-03/
LOCATION:ON
END:VEVENT
BEGIN:VEVENT
DTSTART;TZID=America/Toronto:20230802T100000
DTEND;TZID=America/Toronto:20230802T120000
DTSTAMP:20260423T213541
CREATED:20230131T192810Z
LAST-MODIFIED:20230209T153921Z
UID:10000400-1690970400-1690977600@rosss.ca
SUMMARY:Manotick Drop-in
DESCRIPTION:Drop-in for a sociable chat\, game of bingo and various fun topics and presenters.
URL:https://rosss.ca/event/manotick-drop-in/2023-08-02/
LOCATION:ON
END:VEVENT
BEGIN:VEVENT
DTSTART;TZID=America/Toronto:20230731T120000
DTEND;TZID=America/Toronto:20230731T133000
DTSTAMP:20260423T213541
CREATED:20230526T153647Z
LAST-MODIFIED:20230526T153648Z
UID:10000163-1690804800-1690810200@rosss.ca
SUMMARY:Connections Lunch
DESCRIPTION:Enjoy good food and even better company at our favourite restaurants in Manotick\, Richmond\, Metcalfe\, and North Gower! Connections lunches provide an opportunity to connect with friends and meet new people in the community. Groups will be notified a week in advance to register for lunches.
URL:https://rosss.ca/event/connections-lunch-2/2023-07-31/
LOCATION:ON
END:VEVENT
BEGIN:VEVENT
DTSTART;TZID=America/Toronto:20230728T100000
DTEND;TZID=America/Toronto:20230728T120000
DTSTAMP:20260423T213541
CREATED:20230131T194009Z
LAST-MODIFIED:20230209T154459Z
UID:10000549-1690538400-1690545600@rosss.ca
SUMMARY:Cultured Purls
DESCRIPTION:Calling all knitters! Join us for good conversation while you finish your latest projects.
URL:https://rosss.ca/event/cultured-purls/2023-07-28/
LOCATION:ON
END:VEVENT
BEGIN:VEVENT
DTSTART;TZID=America/Toronto:20230727T100000
DTEND;TZID=America/Toronto:20230727T150000
DTSTAMP:20260423T213541
CREATED:20230131T193857Z
LAST-MODIFIED:20230209T154211Z
UID:10000488-1690452000-1690470000@rosss.ca
SUMMARY:Adult Day Program
DESCRIPTION:The Adult Day Program provides supervised individual programming in a group setting for older adults\, who may be physically frail\, cognitively impaired and/or socially isolated. Our program is designed to assist participants in achieving and maintaining their maximum level of functioning\, to prevent premature and inappropriate institutionalization and to provide respite and information for caregivers. Program elements include planned social\, recreational and physical activities\, snacks and lunch. Transportation is available upon request. NOTE: The Adult Day Program is open to registered clients only.
URL:https://rosss.ca/event/adult-day-program/2023-07-27/
LOCATION:ON
END:VEVENT
BEGIN:VEVENT
DTSTART;TZID=America/Toronto:20230726T100000
DTEND;TZID=America/Toronto:20230726T120000
DTSTAMP:20260423T213541
CREATED:20230131T192810Z
LAST-MODIFIED:20230209T153921Z
UID:10000399-1690365600-1690372800@rosss.ca
SUMMARY:Manotick Drop-in
DESCRIPTION:Drop-in for a sociable chat\, game of bingo and various fun topics and presenters.
URL:https://rosss.ca/event/manotick-drop-in/2023-07-26/
LOCATION:ON
END:VEVENT
BEGIN:VEVENT
DTSTART;TZID=America/Toronto:20230724T120000
DTEND;TZID=America/Toronto:20230724T133000
DTSTAMP:20260423T213541
CREATED:20230526T153647Z
LAST-MODIFIED:20230526T153648Z
UID:10000162-1690200000-1690205400@rosss.ca
SUMMARY:Connections Lunch
DESCRIPTION:Enjoy good food and even better company at our favourite restaurants in Manotick\, Richmond\, Metcalfe\, and North Gower! Connections lunches provide an opportunity to connect with friends and meet new people in the community. Groups will be notified a week in advance to register for lunches.
URL:https://rosss.ca/event/connections-lunch-2/2023-07-24/
LOCATION:ON
END:VEVENT
BEGIN:VEVENT
DTSTART;TZID=America/Toronto:20230721T100000
DTEND;TZID=America/Toronto:20230721T120000
DTSTAMP:20260423T213541
CREATED:20230131T194009Z
LAST-MODIFIED:20230209T154459Z
UID:10000548-1689933600-1689940800@rosss.ca
SUMMARY:Cultured Purls
DESCRIPTION:Calling all knitters! Join us for good conversation while you finish your latest projects.
URL:https://rosss.ca/event/cultured-purls/2023-07-21/
LOCATION:ON
END:VEVENT
BEGIN:VEVENT
DTSTART;TZID=America/Toronto:20230720T100000
DTEND;TZID=America/Toronto:20230720T150000
DTSTAMP:20260423T213541
CREATED:20230131T193857Z
LAST-MODIFIED:20230209T154211Z
UID:10000487-1689847200-1689865200@rosss.ca
SUMMARY:Adult Day Program
DESCRIPTION:The Adult Day Program provides supervised individual programming in a group setting for older adults\, who may be physically frail\, cognitively impaired and/or socially isolated. Our program is designed to assist participants in achieving and maintaining their maximum level of functioning\, to prevent premature and inappropriate institutionalization and to provide respite and information for caregivers. Program elements include planned social\, recreational and physical activities\, snacks and lunch. Transportation is available upon request. NOTE: The Adult Day Program is open to registered clients only.
URL:https://rosss.ca/event/adult-day-program/2023-07-20/
LOCATION:ON
END:VEVENT
BEGIN:VEVENT
DTSTART;TZID=America/Toronto:20230719T130000
DTEND;TZID=America/Toronto:20230719T143000
DTSTAMP:20260423T213541
CREATED:20230131T193323Z
LAST-MODIFIED:20231107T121238Z
UID:10000454-1689771600-1689777000@rosss.ca
SUMMARY:Goodwood Apartments Drop-in
DESCRIPTION:Drop-in for a sociable chat\, game of bingo and various fun topics and presenters.
URL:https://rosss.ca/event/goodwood-apartments-drop-in/2023-07-19/
LOCATION:ON
END:VEVENT
BEGIN:VEVENT
DTSTART;TZID=America/Toronto:20230719T100000
DTEND;TZID=America/Toronto:20230719T120000
DTSTAMP:20260423T213541
CREATED:20230131T192810Z
LAST-MODIFIED:20230209T153921Z
UID:10000398-1689760800-1689768000@rosss.ca
SUMMARY:Manotick Drop-in
DESCRIPTION:Drop-in for a sociable chat\, game of bingo and various fun topics and presenters.
URL:https://rosss.ca/event/manotick-drop-in/2023-07-19/
LOCATION:ON
END:VEVENT
BEGIN:VEVENT
DTSTART;TZID=America/Toronto:20230717T120000
DTEND;TZID=America/Toronto:20230717T133000
DTSTAMP:20260423T213541
CREATED:20230526T153647Z
LAST-MODIFIED:20230526T153648Z
UID:10000161-1689595200-1689600600@rosss.ca
SUMMARY:Connections Lunch
DESCRIPTION:Enjoy good food and even better company at our favourite restaurants in Manotick\, Richmond\, Metcalfe\, and North Gower! Connections lunches provide an opportunity to connect with friends and meet new people in the community. Groups will be notified a week in advance to register for lunches.
URL:https://rosss.ca/event/connections-lunch-2/2023-07-17/
LOCATION:ON
END:VEVENT
BEGIN:VEVENT
DTSTART;TZID=America/Toronto:20230714T100000
DTEND;TZID=America/Toronto:20230714T120000
DTSTAMP:20260423T213541
CREATED:20230131T194009Z
LAST-MODIFIED:20230209T154459Z
UID:10000547-1689328800-1689336000@rosss.ca
SUMMARY:Cultured Purls
DESCRIPTION:Calling all knitters! Join us for good conversation while you finish your latest projects.
URL:https://rosss.ca/event/cultured-purls/2023-07-14/
LOCATION:ON
END:VEVENT
BEGIN:VEVENT
DTSTART;TZID=America/Toronto:20230714T083000
DTEND;TZID=America/Toronto:20230714T103000
DTSTAMP:20260423T213541
CREATED:20230321T120630Z
LAST-MODIFIED:20230321T120630Z
UID:10000625-1689323400-1689330600@rosss.ca
SUMMARY:Manotick Breakfast
DESCRIPTION:The Manotick Breakfast is back! The Breakfast will take place at the Manotick Legion on the second Friday of each month. Registration is required. Please contact Merry Parkinson at 613-692-4697 ext. 226.
URL:https://rosss.ca/event/manotick-breakfast/2023-07-14/
LOCATION:ON
END:VEVENT
BEGIN:VEVENT
DTSTART;TZID=America/Toronto:20230713T100000
DTEND;TZID=America/Toronto:20230713T150000
DTSTAMP:20260423T213541
CREATED:20230131T193857Z
LAST-MODIFIED:20230209T154211Z
UID:10000486-1689242400-1689260400@rosss.ca
SUMMARY:Adult Day Program
DESCRIPTION:The Adult Day Program provides supervised individual programming in a group setting for older adults\, who may be physically frail\, cognitively impaired and/or socially isolated. Our program is designed to assist participants in achieving and maintaining their maximum level of functioning\, to prevent premature and inappropriate institutionalization and to provide respite and information for caregivers. Program elements include planned social\, recreational and physical activities\, snacks and lunch. Transportation is available upon request. NOTE: The Adult Day Program is open to registered clients only.
URL:https://rosss.ca/event/adult-day-program/2023-07-13/
LOCATION:ON
END:VEVENT
BEGIN:VEVENT
DTSTART;TZID=America/Toronto:20230712T123000
DTEND;TZID=America/Toronto:20230712T140000
DTSTAMP:20260423T213541
CREATED:20230417T170901Z
LAST-MODIFIED:20231107T145131Z
UID:10000636-1689165000-1689170400@rosss.ca
SUMMARY:Connections Lunch (Richmond)
DESCRIPTION:Enjoy good food and even better company at our favourite restaurants in Richmond! Connections lunches provide an opportunity to connect with friends and meet new people in the community. Groups will be notified a week in advance to register for lunches.
URL:https://rosss.ca/event/connections-lunch-richmond-2/2023-07-12/
LOCATION:ON
END:VEVENT
BEGIN:VEVENT
DTSTART;TZID=America/Toronto:20230712T100000
DTEND;TZID=America/Toronto:20230712T120000
DTSTAMP:20260423T213541
CREATED:20230131T192810Z
LAST-MODIFIED:20230209T153921Z
UID:10000397-1689156000-1689163200@rosss.ca
SUMMARY:Manotick Drop-in
DESCRIPTION:Drop-in for a sociable chat\, game of bingo and various fun topics and presenters.
URL:https://rosss.ca/event/manotick-drop-in/2023-07-12/
LOCATION:ON
END:VEVENT
BEGIN:VEVENT
DTSTART;TZID=America/Toronto:20230710T120000
DTEND;TZID=America/Toronto:20230710T133000
DTSTAMP:20260423T213541
CREATED:20230526T153647Z
LAST-MODIFIED:20230526T153648Z
UID:10000160-1688990400-1688995800@rosss.ca
SUMMARY:Connections Lunch
DESCRIPTION:Enjoy good food and even better company at our favourite restaurants in Manotick\, Richmond\, Metcalfe\, and North Gower! Connections lunches provide an opportunity to connect with friends and meet new people in the community. Groups will be notified a week in advance to register for lunches.
URL:https://rosss.ca/event/connections-lunch-2/2023-07-10/
LOCATION:ON
END:VEVENT
BEGIN:VEVENT
DTSTART;TZID=America/Toronto:20230707T100000
DTEND;TZID=America/Toronto:20230707T120000
DTSTAMP:20260423T213541
CREATED:20230131T194009Z
LAST-MODIFIED:20230209T154459Z
UID:10000546-1688724000-1688731200@rosss.ca
SUMMARY:Cultured Purls
DESCRIPTION:Calling all knitters! Join us for good conversation while you finish your latest projects.
URL:https://rosss.ca/event/cultured-purls/2023-07-07/
LOCATION:ON
END:VEVENT
BEGIN:VEVENT
DTSTART;TZID=America/Toronto:20230706T100000
DTEND;TZID=America/Toronto:20230706T150000
DTSTAMP:20260423T213541
CREATED:20230131T193857Z
LAST-MODIFIED:20230209T154211Z
UID:10000485-1688637600-1688655600@rosss.ca
SUMMARY:Adult Day Program
DESCRIPTION:The Adult Day Program provides supervised individual programming in a group setting for older adults\, who may be physically frail\, cognitively impaired and/or socially isolated. Our program is designed to assist participants in achieving and maintaining their maximum level of functioning\, to prevent premature and inappropriate institutionalization and to provide respite and information for caregivers. Program elements include planned social\, recreational and physical activities\, snacks and lunch. Transportation is available upon request. NOTE: The Adult Day Program is open to registered clients only.
URL:https://rosss.ca/event/adult-day-program/2023-07-06/
LOCATION:ON
END:VEVENT
BEGIN:VEVENT
DTSTART;TZID=America/Toronto:20230705T100000
DTEND;TZID=America/Toronto:20230705T120000
DTSTAMP:20260423T213541
CREATED:20230131T192810Z
LAST-MODIFIED:20230209T153921Z
UID:10000396-1688551200-1688558400@rosss.ca
SUMMARY:Manotick Drop-in
DESCRIPTION:Drop-in for a sociable chat\, game of bingo and various fun topics and presenters.
URL:https://rosss.ca/event/manotick-drop-in/2023-07-05/
LOCATION:ON
END:VEVENT
BEGIN:VEVENT
DTSTART;VALUE=DATE:20230703
DTEND;VALUE=DATE:20230704
DTSTAMP:20260423T213541
CREATED:20230209T160811Z
LAST-MODIFIED:20230209T160840Z
UID:10000607-1688342400-1688428799@rosss.ca
SUMMARY:STAT HOLIDAY (for Canada Day)
DESCRIPTION:
URL:https://rosss.ca/event/stat-holiday-for-canada-day/
LOCATION:ON
END:VEVENT
BEGIN:VEVENT
DTSTART;TZID=America/Toronto:20230630T100000
DTEND;TZID=America/Toronto:20230630T120000
DTSTAMP:20260423T213541
CREATED:20230131T194009Z
LAST-MODIFIED:20230209T154459Z
UID:10000545-1688119200-1688126400@rosss.ca
SUMMARY:Cultured Purls
DESCRIPTION:Calling all knitters! Join us for good conversation while you finish your latest projects.
URL:https://rosss.ca/event/cultured-purls/2023-06-30/
LOCATION:ON
END:VEVENT
BEGIN:VEVENT
DTSTART;TZID=America/Toronto:20230629T100000
DTEND;TZID=America/Toronto:20230629T150000
DTSTAMP:20260423T213541
CREATED:20230131T193857Z
LAST-MODIFIED:20230209T154211Z
UID:10000484-1688032800-1688050800@rosss.ca
SUMMARY:Adult Day Program
DESCRIPTION:The Adult Day Program provides supervised individual programming in a group setting for older adults\, who may be physically frail\, cognitively impaired and/or socially isolated. Our program is designed to assist participants in achieving and maintaining their maximum level of functioning\, to prevent premature and inappropriate institutionalization and to provide respite and information for caregivers. Program elements include planned social\, recreational and physical activities\, snacks and lunch. Transportation is available upon request. NOTE: The Adult Day Program is open to registered clients only.
URL:https://rosss.ca/event/adult-day-program/2023-06-29/
LOCATION:ON
END:VEVENT
BEGIN:VEVENT
DTSTART;TZID=America/Toronto:20230628T100000
DTEND;TZID=America/Toronto:20230628T120000
DTSTAMP:20260423T213541
CREATED:20230131T192810Z
LAST-MODIFIED:20230209T153921Z
UID:10000395-1687946400-1687953600@rosss.ca
SUMMARY:Manotick Drop-in
DESCRIPTION:Drop-in for a sociable chat\, game of bingo and various fun topics and presenters.
URL:https://rosss.ca/event/manotick-drop-in/2023-06-28/
LOCATION:ON
END:VEVENT
BEGIN:VEVENT
DTSTART;TZID=America/Toronto:20230626T120000
DTEND;TZID=America/Toronto:20230626T133000
DTSTAMP:20260423T213541
CREATED:20230526T153647Z
LAST-MODIFIED:20230526T153648Z
UID:10000158-1687780800-1687786200@rosss.ca
SUMMARY:Connections Lunch
DESCRIPTION:Enjoy good food and even better company at our favourite restaurants in Manotick\, Richmond\, Metcalfe\, and North Gower! Connections lunches provide an opportunity to connect with friends and meet new people in the community. Groups will be notified a week in advance to register for lunches.
URL:https://rosss.ca/event/connections-lunch-2/2023-06-26/
LOCATION:ON
END:VEVENT
BEGIN:VEVENT
DTSTART;TZID=America/Toronto:20230623T120000
DTEND;TZID=America/Toronto:20230623T133000
DTSTAMP:20260423T213541
CREATED:20230526T153647Z
LAST-MODIFIED:20230526T153648Z
UID:10000645-1687521600-1687527000@rosss.ca
SUMMARY:Connections Lunch
DESCRIPTION:Enjoy good food and even better company at our favourite restaurants in Manotick\, Richmond\, Metcalfe\, and North Gower! Connections lunches provide an opportunity to connect with friends and meet new people in the community. Groups will be notified a week in advance to register for lunches.
URL:https://rosss.ca/event/connections-lunch-2/2023-06-23/
LOCATION:ON
END:VEVENT
END:VCALENDAR