BEGIN:VCALENDAR
VERSION:2.0
PRODID:-//ROSSS - ECPv6.15.20//NONSGML v1.0//EN
CALSCALE:GREGORIAN
METHOD:PUBLISH
X-ORIGINAL-URL:https://rosss.ca
X-WR-CALDESC:Events for ROSSS
REFRESH-INTERVAL;VALUE=DURATION:PT1H
X-Robots-Tag:noindex
X-PUBLISHED-TTL:PT1H
BEGIN:VTIMEZONE
TZID:America/Toronto
BEGIN:DAYLIGHT
TZOFFSETFROM:-0500
TZOFFSETTO:-0400
TZNAME:EDT
DTSTART:20230312T070000
END:DAYLIGHT
BEGIN:STANDARD
TZOFFSETFROM:-0400
TZOFFSETTO:-0500
TZNAME:EST
DTSTART:20231105T060000
END:STANDARD
BEGIN:DAYLIGHT
TZOFFSETFROM:-0500
TZOFFSETTO:-0400
TZNAME:EDT
DTSTART:20240310T070000
END:DAYLIGHT
BEGIN:STANDARD
TZOFFSETFROM:-0400
TZOFFSETTO:-0500
TZNAME:EST
DTSTART:20241103T060000
END:STANDARD
BEGIN:DAYLIGHT
TZOFFSETFROM:-0500
TZOFFSETTO:-0400
TZNAME:EDT
DTSTART:20250309T070000
END:DAYLIGHT
BEGIN:STANDARD
TZOFFSETFROM:-0400
TZOFFSETTO:-0500
TZNAME:EST
DTSTART:20251102T060000
END:STANDARD
END:VTIMEZONE
BEGIN:VEVENT
DTSTART;TZID=America/Toronto:20240429T123000
DTEND;TZID=America/Toronto:20240429T143000
DTSTAMP:20260421T041816
CREATED:20231107T115906Z
LAST-MODIFIED:20231107T115906Z
UID:10000685-1714393800-1714401000@rosss.ca
SUMMARY:Pickleball
DESCRIPTION:Join us for a fun and active program playing pickleball! Bring your running shoes! \nNOTE: Registration is required.
URL:https://rosss.ca/event/pickleball-3/2024-04-29/
END:VEVENT
BEGIN:VEVENT
DTSTART;TZID=America/Toronto:20240426T123000
DTEND;TZID=America/Toronto:20240426T143000
DTSTAMP:20260421T041816
CREATED:20231107T120221Z
LAST-MODIFIED:20231107T143839Z
UID:10000800-1714134600-1714141800@rosss.ca
SUMMARY:Pickleball
DESCRIPTION:Join us for a fun and active program playing pickleball! Bring your running shoes! \nNOTE: Registration is required.
URL:https://rosss.ca/event/pickleball-5/2024-04-26/
END:VEVENT
BEGIN:VEVENT
DTSTART;TZID=America/Toronto:20240425T133000
DTEND;TZID=America/Toronto:20240425T153000
DTSTAMP:20260421T041816
CREATED:20231107T120034Z
LAST-MODIFIED:20231107T120034Z
UID:10000717-1714051800-1714059000@rosss.ca
SUMMARY:Pickleball
DESCRIPTION:Join us for a fun and active program playing pickleball! Bring your running shoes! \nNOTE: Registration is required.
URL:https://rosss.ca/event/pickleball-4/2024-04-25/
END:VEVENT
BEGIN:VEVENT
DTSTART;TZID=America/Toronto:20240422T123000
DTEND;TZID=America/Toronto:20240422T143000
DTSTAMP:20260421T041816
CREATED:20231107T115906Z
LAST-MODIFIED:20231107T115906Z
UID:10000684-1713789000-1713796200@rosss.ca
SUMMARY:Pickleball
DESCRIPTION:Join us for a fun and active program playing pickleball! Bring your running shoes! \nNOTE: Registration is required.
URL:https://rosss.ca/event/pickleball-3/2024-04-22/
END:VEVENT
BEGIN:VEVENT
DTSTART;TZID=America/Toronto:20240419T123000
DTEND;TZID=America/Toronto:20240419T143000
DTSTAMP:20260421T041816
CREATED:20231107T120221Z
LAST-MODIFIED:20231107T143839Z
UID:10000799-1713529800-1713537000@rosss.ca
SUMMARY:Pickleball
DESCRIPTION:Join us for a fun and active program playing pickleball! Bring your running shoes! \nNOTE: Registration is required.
URL:https://rosss.ca/event/pickleball-5/2024-04-19/
END:VEVENT
BEGIN:VEVENT
DTSTART;TZID=America/Toronto:20240418T133000
DTEND;TZID=America/Toronto:20240418T153000
DTSTAMP:20260421T041816
CREATED:20231107T120034Z
LAST-MODIFIED:20231107T120034Z
UID:10000716-1713447000-1713454200@rosss.ca
SUMMARY:Pickleball
DESCRIPTION:Join us for a fun and active program playing pickleball! Bring your running shoes! \nNOTE: Registration is required.
URL:https://rosss.ca/event/pickleball-4/2024-04-18/
END:VEVENT
BEGIN:VEVENT
DTSTART;TZID=America/Toronto:20240415T123000
DTEND;TZID=America/Toronto:20240415T143000
DTSTAMP:20260421T041816
CREATED:20231107T115906Z
LAST-MODIFIED:20231107T115906Z
UID:10000683-1713184200-1713191400@rosss.ca
SUMMARY:Pickleball
DESCRIPTION:Join us for a fun and active program playing pickleball! Bring your running shoes! \nNOTE: Registration is required.
URL:https://rosss.ca/event/pickleball-3/2024-04-15/
END:VEVENT
BEGIN:VEVENT
DTSTART;TZID=America/Toronto:20240412T123000
DTEND;TZID=America/Toronto:20240412T143000
DTSTAMP:20260421T041816
CREATED:20231107T120221Z
LAST-MODIFIED:20231107T143839Z
UID:10000798-1712925000-1712932200@rosss.ca
SUMMARY:Pickleball
DESCRIPTION:Join us for a fun and active program playing pickleball! Bring your running shoes! \nNOTE: Registration is required.
URL:https://rosss.ca/event/pickleball-5/2024-04-12/
END:VEVENT
BEGIN:VEVENT
DTSTART;TZID=America/Toronto:20240411T133000
DTEND;TZID=America/Toronto:20240411T153000
DTSTAMP:20260421T041816
CREATED:20231107T120034Z
LAST-MODIFIED:20231107T120034Z
UID:10000715-1712842200-1712849400@rosss.ca
SUMMARY:Pickleball
DESCRIPTION:Join us for a fun and active program playing pickleball! Bring your running shoes! \nNOTE: Registration is required.
URL:https://rosss.ca/event/pickleball-4/2024-04-11/
END:VEVENT
BEGIN:VEVENT
DTSTART;TZID=America/Toronto:20240408T123000
DTEND;TZID=America/Toronto:20240408T143000
DTSTAMP:20260421T041816
CREATED:20231107T115906Z
LAST-MODIFIED:20231107T115906Z
UID:10000682-1712579400-1712586600@rosss.ca
SUMMARY:Pickleball
DESCRIPTION:Join us for a fun and active program playing pickleball! Bring your running shoes! \nNOTE: Registration is required.
URL:https://rosss.ca/event/pickleball-3/2024-04-08/
END:VEVENT
BEGIN:VEVENT
DTSTART;TZID=America/Toronto:20240405T123000
DTEND;TZID=America/Toronto:20240405T143000
DTSTAMP:20260421T041816
CREATED:20231107T120221Z
LAST-MODIFIED:20231107T143839Z
UID:10000797-1712320200-1712327400@rosss.ca
SUMMARY:Pickleball
DESCRIPTION:Join us for a fun and active program playing pickleball! Bring your running shoes! \nNOTE: Registration is required.
URL:https://rosss.ca/event/pickleball-5/2024-04-05/
END:VEVENT
BEGIN:VEVENT
DTSTART;TZID=America/Toronto:20240404T133000
DTEND;TZID=America/Toronto:20240404T153000
DTSTAMP:20260421T041816
CREATED:20231107T120034Z
LAST-MODIFIED:20231107T120034Z
UID:10000714-1712237400-1712244600@rosss.ca
SUMMARY:Pickleball
DESCRIPTION:Join us for a fun and active program playing pickleball! Bring your running shoes! \nNOTE: Registration is required.
URL:https://rosss.ca/event/pickleball-4/2024-04-04/
END:VEVENT
BEGIN:VEVENT
DTSTART;TZID=America/Toronto:20240403T120000
DTEND;TZID=America/Toronto:20240403T140000
DTSTAMP:20260421T041816
CREATED:20231002T160048Z
LAST-MODIFIED:20250428T182241Z
UID:10002695-1712145600-1712152800@rosss.ca
SUMMARY:Richmond Diners
DESCRIPTION:Held once a month\, this luncheon provides a hot meal\, dessert\, entertainment and raffle. What better way to join and gather the community together. Come on out! \nNOTE: Registration is required to reserve a seat. All breakfast and diners will now have a $5 no show fee if you have not cancelled your reservation before due to food being purchased. \n****FOR DAYS WITH INCLEMENT WEATHER PLEASE CALL TO VERIFY IF PROGRAMS ARE RUNNING**** \n*For information regarding any of the programs noted on the calendar\, please contact Lyn Rorke 613- 692-4697 ext 224.
URL:https://rosss.ca/event/richmond-diners/2024-04-03/
LOCATION:Saint John the Baptist Anglican Church\, 67 Fowler St\, Richmond\, ON\, K0A 2Z0\, Canada
CATEGORIES:DINING PROGRAM
ATTACH;FMTTYPE=image/jpeg:https://rosss.ca/wp-content/uploads/2023/10/67-Fowler-St-Richmond-ON-K0A-2Z0.jpg
END:VEVENT
BEGIN:VEVENT
DTSTART;TZID=America/Toronto:20240401T123000
DTEND;TZID=America/Toronto:20240401T143000
DTSTAMP:20260421T041816
CREATED:20231107T115906Z
LAST-MODIFIED:20231107T115906Z
UID:10000681-1711974600-1711981800@rosss.ca
SUMMARY:Pickleball
DESCRIPTION:Join us for a fun and active program playing pickleball! Bring your running shoes! \nNOTE: Registration is required.
URL:https://rosss.ca/event/pickleball-3/2024-04-01/
END:VEVENT
BEGIN:VEVENT
DTSTART;VALUE=DATE:20240401
DTEND;VALUE=DATE:20240402
DTSTAMP:20260421T041816
CREATED:20230209T161537Z
LAST-MODIFIED:20240318T142809Z
UID:10000616-1711929600-1712015999@rosss.ca
SUMMARY:EASTER MONDAY
DESCRIPTION:
URL:https://rosss.ca/event/easter-monday-2/
CATEGORIES:CAREGIVERS,Community Events,DINING PROGRAM,FITNESS & RECREATION,ROSSS Fundraising Events,Social & Dining Programs
END:VEVENT
BEGIN:VEVENT
DTSTART;VALUE=DATE:20240329
DTEND;VALUE=DATE:20240330
DTSTAMP:20260421T041816
CREATED:20230209T161504Z
LAST-MODIFIED:20240318T142852Z
UID:10000615-1711670400-1711756799@rosss.ca
SUMMARY:GOOD FRIDAY
DESCRIPTION:
URL:https://rosss.ca/event/good-friday-2/
CATEGORIES:CAREGIVERS,Community Events,DINING PROGRAM,FITNESS & RECREATION,ROSSS Fundraising Events,Social & Dining Programs
END:VEVENT
BEGIN:VEVENT
DTSTART;TZID=America/Toronto:20240328T133000
DTEND;TZID=America/Toronto:20240328T153000
DTSTAMP:20260421T041816
CREATED:20231107T120034Z
LAST-MODIFIED:20231107T120034Z
UID:10000713-1711632600-1711639800@rosss.ca
SUMMARY:Pickleball
DESCRIPTION:Join us for a fun and active program playing pickleball! Bring your running shoes! \nNOTE: Registration is required.
URL:https://rosss.ca/event/pickleball-4/2024-03-28/
END:VEVENT
BEGIN:VEVENT
DTSTART;TZID=America/Toronto:20240328T100000
DTEND;TZID=America/Toronto:20240328T150000
DTSTAMP:20260421T041816
CREATED:20230131T193857Z
LAST-MODIFIED:20230209T154211Z
UID:10000523-1711620000-1711638000@rosss.ca
SUMMARY:Adult Day Program
DESCRIPTION:The Adult Day Program provides supervised individual programming in a group setting for older adults\, who may be physically frail\, cognitively impaired and/or socially isolated. Our program is designed to assist participants in achieving and maintaining their maximum level of functioning\, to prevent premature and inappropriate institutionalization and to provide respite and information for caregivers. Program elements include planned social\, recreational and physical activities\, snacks and lunch. Transportation is available upon request. NOTE: The Adult Day Program is open to registered clients only.
URL:https://rosss.ca/event/adult-day-program/2024-03-28/
END:VEVENT
BEGIN:VEVENT
DTSTART;TZID=America/Toronto:20240327T133000
DTEND;TZID=America/Toronto:20240327T150000
DTSTAMP:20260421T041816
CREATED:20231107T121651Z
LAST-MODIFIED:20231219T200600Z
UID:10000776-1711546200-1711551600@rosss.ca
SUMMARY:Richmond Drop-in
DESCRIPTION:Drop-in for a sociable chat\, game of bingo and various fun topics and presenters.
URL:https://rosss.ca/event/richmond-drop-in/2024-03-27/
END:VEVENT
BEGIN:VEVENT
DTSTART;TZID=America/Toronto:20240327T100000
DTEND;TZID=America/Toronto:20240327T120000
DTSTAMP:20260421T041816
CREATED:20231107T115144Z
LAST-MODIFIED:20231107T115144Z
UID:10000434-1711533600-1711540800@rosss.ca
SUMMARY:Manotick Drop-in
DESCRIPTION:Drop-in for a sociable chat\, game of bingo and various fun topics and presenters.
URL:https://rosss.ca/event/manotick-drop-in-2/2024-03-27/
END:VEVENT
BEGIN:VEVENT
DTSTART;TZID=America/Toronto:20240326T100000
DTEND;TZID=America/Toronto:20240326T110000
DTSTAMP:20260421T041816
CREATED:20230526T151528Z
LAST-MODIFIED:20230526T151528Z
UID:10000317-1711447200-1711450800@rosss.ca
SUMMARY:Hyfield Fitness
DESCRIPTION:Please join us for a fun\, active morning at Hyfield Place in Manotick.
URL:https://rosss.ca/event/hyfield-fitness-2/2024-03-26/
END:VEVENT
BEGIN:VEVENT
DTSTART;TZID=America/Toronto:20240325T123000
DTEND;TZID=America/Toronto:20240325T143000
DTSTAMP:20260421T041816
CREATED:20231107T115906Z
LAST-MODIFIED:20231107T115906Z
UID:10000680-1711369800-1711377000@rosss.ca
SUMMARY:Pickleball
DESCRIPTION:Join us for a fun and active program playing pickleball! Bring your running shoes! \nNOTE: Registration is required.
URL:https://rosss.ca/event/pickleball-3/2024-03-25/
END:VEVENT
BEGIN:VEVENT
DTSTART;TZID=America/Toronto:20240325T120000
DTEND;TZID=America/Toronto:20240325T133000
DTSTAMP:20260421T041816
CREATED:20230526T153647Z
LAST-MODIFIED:20230526T153648Z
UID:10000197-1711368000-1711373400@rosss.ca
SUMMARY:Connections Lunch
DESCRIPTION:Enjoy good food and even better company at our favourite restaurants in Manotick\, Richmond\, Metcalfe\, and North Gower! Connections lunches provide an opportunity to connect with friends and meet new people in the community. Groups will be notified a week in advance to register for lunches.
URL:https://rosss.ca/event/connections-lunch-2/2024-03-25/
END:VEVENT
BEGIN:VEVENT
DTSTART;TZID=America/Toronto:20240322T123000
DTEND;TZID=America/Toronto:20240322T143000
DTSTAMP:20260421T041816
CREATED:20231107T120221Z
LAST-MODIFIED:20231107T143839Z
UID:10000796-1711110600-1711117800@rosss.ca
SUMMARY:Pickleball
DESCRIPTION:Join us for a fun and active program playing pickleball! Bring your running shoes! \nNOTE: Registration is required.
URL:https://rosss.ca/event/pickleball-5/2024-03-22/
END:VEVENT
BEGIN:VEVENT
DTSTART;TZID=America/Toronto:20240322T100000
DTEND;TZID=America/Toronto:20240322T120000
DTSTAMP:20260421T041816
CREATED:20230131T194009Z
LAST-MODIFIED:20230209T154459Z
UID:10000583-1711101600-1711108800@rosss.ca
SUMMARY:Cultured Purls
DESCRIPTION:Calling all knitters! Join us for good conversation while you finish your latest projects.
URL:https://rosss.ca/event/cultured-purls/2024-03-22/
END:VEVENT
BEGIN:VEVENT
DTSTART;TZID=America/Toronto:20240321T133000
DTEND;TZID=America/Toronto:20240321T153000
DTSTAMP:20260421T041816
CREATED:20231107T120034Z
LAST-MODIFIED:20231107T120034Z
UID:10000712-1711027800-1711035000@rosss.ca
SUMMARY:Pickleball
DESCRIPTION:Join us for a fun and active program playing pickleball! Bring your running shoes! \nNOTE: Registration is required.
URL:https://rosss.ca/event/pickleball-4/2024-03-21/
END:VEVENT
BEGIN:VEVENT
DTSTART;TZID=America/Toronto:20240321T100000
DTEND;TZID=America/Toronto:20240321T150000
DTSTAMP:20260421T041816
CREATED:20230131T193857Z
LAST-MODIFIED:20230209T154211Z
UID:10000522-1711015200-1711033200@rosss.ca
SUMMARY:Adult Day Program
DESCRIPTION:The Adult Day Program provides supervised individual programming in a group setting for older adults\, who may be physically frail\, cognitively impaired and/or socially isolated. Our program is designed to assist participants in achieving and maintaining their maximum level of functioning\, to prevent premature and inappropriate institutionalization and to provide respite and information for caregivers. Program elements include planned social\, recreational and physical activities\, snacks and lunch. Transportation is available upon request. NOTE: The Adult Day Program is open to registered clients only.
URL:https://rosss.ca/event/adult-day-program/2024-03-21/
END:VEVENT
BEGIN:VEVENT
DTSTART;TZID=America/Toronto:20240320T133000
DTEND;TZID=America/Toronto:20240320T150000
DTSTAMP:20260421T041816
CREATED:20231107T121651Z
LAST-MODIFIED:20231219T200600Z
UID:10000775-1710941400-1710946800@rosss.ca
SUMMARY:Richmond Drop-in
DESCRIPTION:Drop-in for a sociable chat\, game of bingo and various fun topics and presenters.
URL:https://rosss.ca/event/richmond-drop-in/2024-03-20/
END:VEVENT
BEGIN:VEVENT
DTSTART;TZID=America/Toronto:20240320T100000
DTEND;TZID=America/Toronto:20240320T120000
DTSTAMP:20260421T041816
CREATED:20231107T115144Z
LAST-MODIFIED:20231107T115144Z
UID:10000433-1710928800-1710936000@rosss.ca
SUMMARY:Manotick Drop-in
DESCRIPTION:Drop-in for a sociable chat\, game of bingo and various fun topics and presenters.
URL:https://rosss.ca/event/manotick-drop-in-2/2024-03-20/
END:VEVENT
BEGIN:VEVENT
DTSTART;TZID=America/Toronto:20240319T100000
DTEND;TZID=America/Toronto:20240319T140000
DTSTAMP:20260421T041816
CREATED:20231107T144352Z
LAST-MODIFIED:20231107T144352Z
UID:10000817-1710842400-1710856800@rosss.ca
SUMMARY:Adult Day Program
DESCRIPTION:The Adult Day Program provides supervised individual programming in a group setting for older adults\, who may be physically frail\, cognitively impaired and/or socially isolated. Our program is designed to assist participants in achieving and maintaining their maximum level of functioning\, to prevent premature and inappropriate institutionalization and to provide respite and information for caregivers. Program elements include planned social\, recreational and physical activities\, snacks and lunch. Transportation is available upon request. NOTE: The Adult Day Program is open to registered clients only.
URL:https://rosss.ca/event/adult-day-program-2/2024-03-19/
END:VEVENT
END:VCALENDAR