BEGIN:VCALENDAR
VERSION:2.0
PRODID:-//ROSSS - ECPv6.15.20//NONSGML v1.0//EN
CALSCALE:GREGORIAN
METHOD:PUBLISH
X-WR-CALNAME:ROSSS
X-ORIGINAL-URL:https://rosss.ca
X-WR-CALDESC:Events for ROSSS
REFRESH-INTERVAL;VALUE=DURATION:PT1H
X-Robots-Tag:noindex
X-PUBLISHED-TTL:PT1H
BEGIN:VTIMEZONE
TZID:America/Toronto
BEGIN:DAYLIGHT
TZOFFSETFROM:-0500
TZOFFSETTO:-0400
TZNAME:EDT
DTSTART:20230312T070000
END:DAYLIGHT
BEGIN:STANDARD
TZOFFSETFROM:-0400
TZOFFSETTO:-0500
TZNAME:EST
DTSTART:20231105T060000
END:STANDARD
BEGIN:DAYLIGHT
TZOFFSETFROM:-0500
TZOFFSETTO:-0400
TZNAME:EDT
DTSTART:20240310T070000
END:DAYLIGHT
BEGIN:STANDARD
TZOFFSETFROM:-0400
TZOFFSETTO:-0500
TZNAME:EST
DTSTART:20241103T060000
END:STANDARD
BEGIN:DAYLIGHT
TZOFFSETFROM:-0500
TZOFFSETTO:-0400
TZNAME:EDT
DTSTART:20250309T070000
END:DAYLIGHT
BEGIN:STANDARD
TZOFFSETFROM:-0400
TZOFFSETTO:-0500
TZNAME:EST
DTSTART:20251102T060000
END:STANDARD
END:VTIMEZONE
BEGIN:VEVENT
DTSTART;TZID=America/Toronto:20240216T123000
DTEND;TZID=America/Toronto:20240216T143000
DTSTAMP:20260421T074334
CREATED:20231107T120221Z
LAST-MODIFIED:20231107T143839Z
UID:10000791-1708086600-1708093800@rosss.ca
SUMMARY:Pickleball
DESCRIPTION:Join us for a fun and active program playing pickleball! Bring your running shoes! \nNOTE: Registration is required.
URL:https://rosss.ca/event/pickleball-5/2024-02-16/
LOCATION:ON
END:VEVENT
BEGIN:VEVENT
DTSTART;TZID=America/Toronto:20240216T100000
DTEND;TZID=America/Toronto:20240216T120000
DTSTAMP:20260421T074334
CREATED:20230131T194009Z
LAST-MODIFIED:20230209T154459Z
UID:10000578-1708077600-1708084800@rosss.ca
SUMMARY:Cultured Purls
DESCRIPTION:Calling all knitters! Join us for good conversation while you finish your latest projects.
URL:https://rosss.ca/event/cultured-purls/2024-02-16/
LOCATION:ON
END:VEVENT
BEGIN:VEVENT
DTSTART;TZID=America/Toronto:20240215T133000
DTEND;TZID=America/Toronto:20240215T153000
DTSTAMP:20260421T074334
CREATED:20231107T120034Z
LAST-MODIFIED:20231107T120034Z
UID:10000707-1708003800-1708011000@rosss.ca
SUMMARY:Pickleball
DESCRIPTION:Join us for a fun and active program playing pickleball! Bring your running shoes! \nNOTE: Registration is required.
URL:https://rosss.ca/event/pickleball-4/2024-02-15/
LOCATION:ON
END:VEVENT
BEGIN:VEVENT
DTSTART;TZID=America/Toronto:20240215T100000
DTEND;TZID=America/Toronto:20240215T150000
DTSTAMP:20260421T074334
CREATED:20230131T193857Z
LAST-MODIFIED:20230209T154211Z
UID:10000517-1707991200-1708009200@rosss.ca
SUMMARY:Adult Day Program
DESCRIPTION:The Adult Day Program provides supervised individual programming in a group setting for older adults\, who may be physically frail\, cognitively impaired and/or socially isolated. Our program is designed to assist participants in achieving and maintaining their maximum level of functioning\, to prevent premature and inappropriate institutionalization and to provide respite and information for caregivers. Program elements include planned social\, recreational and physical activities\, snacks and lunch. Transportation is available upon request. NOTE: The Adult Day Program is open to registered clients only.
URL:https://rosss.ca/event/adult-day-program/2024-02-15/
LOCATION:ON
END:VEVENT
BEGIN:VEVENT
DTSTART;TZID=America/Toronto:20240214T133000
DTEND;TZID=America/Toronto:20240214T150000
DTSTAMP:20260421T074334
CREATED:20231107T121651Z
LAST-MODIFIED:20231219T200600Z
UID:10000771-1707917400-1707922800@rosss.ca
SUMMARY:Richmond Drop-in
DESCRIPTION:Drop-in for a sociable chat\, game of bingo and various fun topics and presenters.
URL:https://rosss.ca/event/richmond-drop-in/2024-02-14/
LOCATION:ON
END:VEVENT
BEGIN:VEVENT
DTSTART;TZID=America/Toronto:20240214T100000
DTEND;TZID=America/Toronto:20240214T120000
DTSTAMP:20260421T074334
CREATED:20231107T115144Z
LAST-MODIFIED:20231107T115144Z
UID:10000428-1707904800-1707912000@rosss.ca
SUMMARY:Manotick Drop-in
DESCRIPTION:Drop-in for a sociable chat\, game of bingo and various fun topics and presenters.
URL:https://rosss.ca/event/manotick-drop-in-2/2024-02-14/
LOCATION:ON
END:VEVENT
BEGIN:VEVENT
DTSTART;TZID=America/Toronto:20240213T100000
DTEND;TZID=America/Toronto:20240213T110000
DTSTAMP:20260421T074334
CREATED:20230526T151528Z
LAST-MODIFIED:20230526T151528Z
UID:10000311-1707818400-1707822000@rosss.ca
SUMMARY:Hyfield Fitness
DESCRIPTION:Please join us for a fun\, active morning at Hyfield Place in Manotick.
URL:https://rosss.ca/event/hyfield-fitness-2/2024-02-13/
LOCATION:ON
END:VEVENT
BEGIN:VEVENT
DTSTART;TZID=America/Toronto:20240213T080000
DTEND;TZID=America/Toronto:20240213T170000
DTSTAMP:20260421T074334
CREATED:20231107T150533Z
LAST-MODIFIED:20231107T150533Z
UID:10000844-1707811200-1707843600@rosss.ca
SUMMARY:Counselling - By Appointment
DESCRIPTION:One on one counselling service for those requiring professional assistance. \nNote: Appointments are required.
URL:https://rosss.ca/event/counselling-by-appointment/2024-02-13/
LOCATION:ON
END:VEVENT
BEGIN:VEVENT
DTSTART;TZID=America/Toronto:20240212T123000
DTEND;TZID=America/Toronto:20240212T143000
DTSTAMP:20260421T074334
CREATED:20231107T115906Z
LAST-MODIFIED:20231107T115906Z
UID:10000675-1707741000-1707748200@rosss.ca
SUMMARY:Pickleball
DESCRIPTION:Join us for a fun and active program playing pickleball! Bring your running shoes! \nNOTE: Registration is required.
URL:https://rosss.ca/event/pickleball-3/2024-02-12/
LOCATION:ON
END:VEVENT
BEGIN:VEVENT
DTSTART;TZID=America/Toronto:20240212T120000
DTEND;TZID=America/Toronto:20240212T133000
DTSTAMP:20260421T074334
CREATED:20230526T153647Z
LAST-MODIFIED:20230526T153648Z
UID:10000191-1707739200-1707744600@rosss.ca
SUMMARY:Connections Lunch
DESCRIPTION:Enjoy good food and even better company at our favourite restaurants in Manotick\, Richmond\, Metcalfe\, and North Gower! Connections lunches provide an opportunity to connect with friends and meet new people in the community. Groups will be notified a week in advance to register for lunches.
URL:https://rosss.ca/event/connections-lunch-2/2024-02-12/
LOCATION:ON
END:VEVENT
BEGIN:VEVENT
DTSTART;TZID=America/Toronto:20240209T123000
DTEND;TZID=America/Toronto:20240209T143000
DTSTAMP:20260421T074334
CREATED:20231107T120221Z
LAST-MODIFIED:20231107T143839Z
UID:10000790-1707481800-1707489000@rosss.ca
SUMMARY:Pickleball
DESCRIPTION:Join us for a fun and active program playing pickleball! Bring your running shoes! \nNOTE: Registration is required.
URL:https://rosss.ca/event/pickleball-5/2024-02-09/
LOCATION:ON
END:VEVENT
BEGIN:VEVENT
DTSTART;TZID=America/Toronto:20240209T100000
DTEND;TZID=America/Toronto:20240209T120000
DTSTAMP:20260421T074334
CREATED:20230131T194009Z
LAST-MODIFIED:20230209T154459Z
UID:10000577-1707472800-1707480000@rosss.ca
SUMMARY:Cultured Purls
DESCRIPTION:Calling all knitters! Join us for good conversation while you finish your latest projects.
URL:https://rosss.ca/event/cultured-purls/2024-02-09/
LOCATION:ON
END:VEVENT
BEGIN:VEVENT
DTSTART;TZID=America/Toronto:20240209T090000
DTEND;TZID=America/Toronto:20240209T103000
DTSTAMP:20260421T074334
CREATED:20231107T114748Z
LAST-MODIFIED:20231107T145313Z
UID:10000829-1707469200-1707474600@rosss.ca
SUMMARY:Manotick Breakfast
DESCRIPTION:The Manotick Breakfast is back! The Breakfast will take place at the Manotick Legion on the second Friday of each month. \nNOTE: Registration is required to reserve a seat. 
URL:https://rosss.ca/event/manotick-breakfast-2/2024-02-09/
LOCATION:ON
END:VEVENT
BEGIN:VEVENT
DTSTART;TZID=America/Toronto:20240208T133000
DTEND;TZID=America/Toronto:20240208T153000
DTSTAMP:20260421T074334
CREATED:20231107T120034Z
LAST-MODIFIED:20231107T120034Z
UID:10000706-1707399000-1707406200@rosss.ca
SUMMARY:Pickleball
DESCRIPTION:Join us for a fun and active program playing pickleball! Bring your running shoes! \nNOTE: Registration is required.
URL:https://rosss.ca/event/pickleball-4/2024-02-08/
LOCATION:ON
END:VEVENT
BEGIN:VEVENT
DTSTART;TZID=America/Toronto:20240208T100000
DTEND;TZID=America/Toronto:20240208T150000
DTSTAMP:20260421T074334
CREATED:20230131T193857Z
LAST-MODIFIED:20230209T154211Z
UID:10000516-1707386400-1707404400@rosss.ca
SUMMARY:Adult Day Program
DESCRIPTION:The Adult Day Program provides supervised individual programming in a group setting for older adults\, who may be physically frail\, cognitively impaired and/or socially isolated. Our program is designed to assist participants in achieving and maintaining their maximum level of functioning\, to prevent premature and inappropriate institutionalization and to provide respite and information for caregivers. Program elements include planned social\, recreational and physical activities\, snacks and lunch. Transportation is available upon request. NOTE: The Adult Day Program is open to registered clients only.
URL:https://rosss.ca/event/adult-day-program/2024-02-08/
LOCATION:ON
END:VEVENT
BEGIN:VEVENT
DTSTART;TZID=America/Toronto:20240207T120000
DTEND;TZID=America/Toronto:20240207T140000
DTSTAMP:20260421T074334
CREATED:20231002T160048Z
LAST-MODIFIED:20250428T182241Z
UID:10000649-1707307200-1707314400@rosss.ca
SUMMARY:Richmond Diners
DESCRIPTION:Held once a month\, this luncheon provides a hot meal\, dessert\, entertainment and raffle. What better way to join and gather the community together. Come on out! \nNOTE: Registration is required to reserve a seat. All breakfast and diners will now have a $5 no show fee if you have not cancelled your reservation before due to food being purchased. \n****FOR DAYS WITH INCLEMENT WEATHER PLEASE CALL TO VERIFY IF PROGRAMS ARE RUNNING**** \n*For information regarding any of the programs noted on the calendar\, please contact Lyn Rorke 613- 692-4697 ext 224.
URL:https://rosss.ca/event/richmond-diners/2024-02-07/
LOCATION:Saint John the Baptist Anglican Church\, 67 Fowler St\, Richmond\, ON\, K0A 2Z0\, Canada
CATEGORIES:DINING PROGRAM
ATTACH;FMTTYPE=image/jpeg:https://rosss.ca/wp-content/uploads/2023/10/67-Fowler-St-Richmond-ON-K0A-2Z0.jpg
END:VEVENT
BEGIN:VEVENT
DTSTART;TZID=America/Toronto:20240206T100000
DTEND;TZID=America/Toronto:20240206T140000
DTSTAMP:20260421T074334
CREATED:20231107T144352Z
LAST-MODIFIED:20231107T144352Z
UID:10000814-1707213600-1707228000@rosss.ca
SUMMARY:Adult Day Program
DESCRIPTION:The Adult Day Program provides supervised individual programming in a group setting for older adults\, who may be physically frail\, cognitively impaired and/or socially isolated. Our program is designed to assist participants in achieving and maintaining their maximum level of functioning\, to prevent premature and inappropriate institutionalization and to provide respite and information for caregivers. Program elements include planned social\, recreational and physical activities\, snacks and lunch. Transportation is available upon request. NOTE: The Adult Day Program is open to registered clients only.
URL:https://rosss.ca/event/adult-day-program-2/2024-02-06/
LOCATION:ON
END:VEVENT
BEGIN:VEVENT
DTSTART;TZID=America/Toronto:20240206T100000
DTEND;TZID=America/Toronto:20240206T120000
DTSTAMP:20260421T074334
CREATED:20231107T144706Z
LAST-MODIFIED:20231107T144706Z
UID:10000822-1707213600-1707220800@rosss.ca
SUMMARY:Caregiver Support Group
DESCRIPTION:Caregivers come together and support one another through their caregiving journey. This program includes group discussions\, professional speakers and support resources. Open to registered participants only.
URL:https://rosss.ca/event/caregiver-support-group/2024-02-06/
LOCATION:ON
END:VEVENT
BEGIN:VEVENT
DTSTART;TZID=America/Toronto:20240206T100000
DTEND;TZID=America/Toronto:20240206T110000
DTSTAMP:20260421T074334
CREATED:20230526T151528Z
LAST-MODIFIED:20230526T151528Z
UID:10000310-1707213600-1707217200@rosss.ca
SUMMARY:Hyfield Fitness
DESCRIPTION:Please join us for a fun\, active morning at Hyfield Place in Manotick.
URL:https://rosss.ca/event/hyfield-fitness-2/2024-02-06/
LOCATION:ON
END:VEVENT
BEGIN:VEVENT
DTSTART;TZID=America/Toronto:20240206T080000
DTEND;TZID=America/Toronto:20240206T170000
DTSTAMP:20260421T074334
CREATED:20231107T150533Z
LAST-MODIFIED:20231107T150533Z
UID:10000843-1707206400-1707238800@rosss.ca
SUMMARY:Counselling - By Appointment
DESCRIPTION:One on one counselling service for those requiring professional assistance. \nNote: Appointments are required.
URL:https://rosss.ca/event/counselling-by-appointment/2024-02-06/
LOCATION:ON
END:VEVENT
BEGIN:VEVENT
DTSTART;TZID=America/Toronto:20240205T123000
DTEND;TZID=America/Toronto:20240205T143000
DTSTAMP:20260421T074334
CREATED:20231107T115906Z
LAST-MODIFIED:20231107T115906Z
UID:10000674-1707136200-1707143400@rosss.ca
SUMMARY:Pickleball
DESCRIPTION:Join us for a fun and active program playing pickleball! Bring your running shoes! \nNOTE: Registration is required.
URL:https://rosss.ca/event/pickleball-3/2024-02-05/
LOCATION:ON
END:VEVENT
BEGIN:VEVENT
DTSTART;TZID=America/Toronto:20240205T120000
DTEND;TZID=America/Toronto:20240205T133000
DTSTAMP:20260421T074334
CREATED:20230526T153647Z
LAST-MODIFIED:20230526T153648Z
UID:10000190-1707134400-1707139800@rosss.ca
SUMMARY:Connections Lunch
DESCRIPTION:Enjoy good food and even better company at our favourite restaurants in Manotick\, Richmond\, Metcalfe\, and North Gower! Connections lunches provide an opportunity to connect with friends and meet new people in the community. Groups will be notified a week in advance to register for lunches.
URL:https://rosss.ca/event/connections-lunch-2/2024-02-05/
LOCATION:ON
END:VEVENT
BEGIN:VEVENT
DTSTART;TZID=America/Toronto:20240202T123000
DTEND;TZID=America/Toronto:20240202T143000
DTSTAMP:20260421T074334
CREATED:20231107T120221Z
LAST-MODIFIED:20231107T143839Z
UID:10000789-1706877000-1706884200@rosss.ca
SUMMARY:Pickleball
DESCRIPTION:Join us for a fun and active program playing pickleball! Bring your running shoes! \nNOTE: Registration is required.
URL:https://rosss.ca/event/pickleball-5/2024-02-02/
LOCATION:ON
END:VEVENT
BEGIN:VEVENT
DTSTART;TZID=America/Toronto:20240202T100000
DTEND;TZID=America/Toronto:20240202T120000
DTSTAMP:20260421T074334
CREATED:20230131T194009Z
LAST-MODIFIED:20230209T154459Z
UID:10000576-1706868000-1706875200@rosss.ca
SUMMARY:Cultured Purls
DESCRIPTION:Calling all knitters! Join us for good conversation while you finish your latest projects.
URL:https://rosss.ca/event/cultured-purls/2024-02-02/
LOCATION:ON
END:VEVENT
BEGIN:VEVENT
DTSTART;TZID=America/Toronto:20240201T133000
DTEND;TZID=America/Toronto:20240201T153000
DTSTAMP:20260421T074334
CREATED:20231107T120034Z
LAST-MODIFIED:20231107T120034Z
UID:10000705-1706794200-1706801400@rosss.ca
SUMMARY:Pickleball
DESCRIPTION:Join us for a fun and active program playing pickleball! Bring your running shoes! \nNOTE: Registration is required.
URL:https://rosss.ca/event/pickleball-4/2024-02-01/
LOCATION:ON
END:VEVENT
BEGIN:VEVENT
DTSTART;TZID=America/Toronto:20240201T100000
DTEND;TZID=America/Toronto:20240201T150000
DTSTAMP:20260421T074334
CREATED:20230131T193857Z
LAST-MODIFIED:20230209T154211Z
UID:10000515-1706781600-1706799600@rosss.ca
SUMMARY:Adult Day Program
DESCRIPTION:The Adult Day Program provides supervised individual programming in a group setting for older adults\, who may be physically frail\, cognitively impaired and/or socially isolated. Our program is designed to assist participants in achieving and maintaining their maximum level of functioning\, to prevent premature and inappropriate institutionalization and to provide respite and information for caregivers. Program elements include planned social\, recreational and physical activities\, snacks and lunch. Transportation is available upon request. NOTE: The Adult Day Program is open to registered clients only.
URL:https://rosss.ca/event/adult-day-program/2024-02-01/
LOCATION:ON
END:VEVENT
BEGIN:VEVENT
DTSTART;TZID=America/Toronto:20240131T100000
DTEND;TZID=America/Toronto:20240131T120000
DTSTAMP:20260421T074334
CREATED:20231107T115144Z
LAST-MODIFIED:20231107T115144Z
UID:10000426-1706695200-1706702400@rosss.ca
SUMMARY:Manotick Drop-in
DESCRIPTION:Drop-in for a sociable chat\, game of bingo and various fun topics and presenters.
URL:https://rosss.ca/event/manotick-drop-in-2/2024-01-31/
LOCATION:ON
END:VEVENT
BEGIN:VEVENT
DTSTART;TZID=America/Toronto:20240130T100000
DTEND;TZID=America/Toronto:20240130T110000
DTSTAMP:20260421T074334
CREATED:20230526T151528Z
LAST-MODIFIED:20230526T151528Z
UID:10000309-1706608800-1706612400@rosss.ca
SUMMARY:Hyfield Fitness
DESCRIPTION:Please join us for a fun\, active morning at Hyfield Place in Manotick.
URL:https://rosss.ca/event/hyfield-fitness-2/2024-01-30/
LOCATION:ON
END:VEVENT
BEGIN:VEVENT
DTSTART;TZID=America/Toronto:20240130T080000
DTEND;TZID=America/Toronto:20240130T170000
DTSTAMP:20260421T074334
CREATED:20231107T150533Z
LAST-MODIFIED:20231107T150533Z
UID:10000842-1706601600-1706634000@rosss.ca
SUMMARY:Counselling - By Appointment
DESCRIPTION:One on one counselling service for those requiring professional assistance. \nNote: Appointments are required.
URL:https://rosss.ca/event/counselling-by-appointment/2024-01-30/
LOCATION:ON
END:VEVENT
BEGIN:VEVENT
DTSTART;TZID=America/Toronto:20240129T123000
DTEND;TZID=America/Toronto:20240129T143000
DTSTAMP:20260421T074334
CREATED:20231107T115906Z
LAST-MODIFIED:20231107T115906Z
UID:10000673-1706531400-1706538600@rosss.ca
SUMMARY:Pickleball
DESCRIPTION:Join us for a fun and active program playing pickleball! Bring your running shoes! \nNOTE: Registration is required.
URL:https://rosss.ca/event/pickleball-3/2024-01-29/
LOCATION:ON
END:VEVENT
END:VCALENDAR