BEGIN:VCALENDAR
VERSION:2.0
PRODID:-//ROSSS - ECPv6.15.20//NONSGML v1.0//EN
CALSCALE:GREGORIAN
METHOD:PUBLISH
X-ORIGINAL-URL:https://rosss.ca
X-WR-CALDESC:Events for ROSSS
REFRESH-INTERVAL;VALUE=DURATION:PT1H
X-Robots-Tag:noindex
X-PUBLISHED-TTL:PT1H
BEGIN:VTIMEZONE
TZID:America/Toronto
BEGIN:DAYLIGHT
TZOFFSETFROM:-0500
TZOFFSETTO:-0400
TZNAME:EDT
DTSTART:20230312T070000
END:DAYLIGHT
BEGIN:STANDARD
TZOFFSETFROM:-0400
TZOFFSETTO:-0500
TZNAME:EST
DTSTART:20231105T060000
END:STANDARD
BEGIN:DAYLIGHT
TZOFFSETFROM:-0500
TZOFFSETTO:-0400
TZNAME:EDT
DTSTART:20240310T070000
END:DAYLIGHT
BEGIN:STANDARD
TZOFFSETFROM:-0400
TZOFFSETTO:-0500
TZNAME:EST
DTSTART:20241103T060000
END:STANDARD
BEGIN:DAYLIGHT
TZOFFSETFROM:-0500
TZOFFSETTO:-0400
TZNAME:EDT
DTSTART:20250309T070000
END:DAYLIGHT
BEGIN:STANDARD
TZOFFSETFROM:-0400
TZOFFSETTO:-0500
TZNAME:EST
DTSTART:20251102T060000
END:STANDARD
END:VTIMEZONE
BEGIN:VEVENT
DTSTART;TZID=America/Toronto:20240123T100000
DTEND;TZID=America/Toronto:20240123T120000
DTSTAMP:20260421T091450
CREATED:20231107T144706Z
LAST-MODIFIED:20231107T144706Z
UID:10000821-1706004000-1706011200@rosss.ca
SUMMARY:Caregiver Support Group
DESCRIPTION:Caregivers come together and support one another through their caregiving journey. This program includes group discussions\, professional speakers and support resources. Open to registered participants only.
URL:https://rosss.ca/event/caregiver-support-group/2024-01-23/
LOCATION:ON
END:VEVENT
BEGIN:VEVENT
DTSTART;TZID=America/Toronto:20240123T100000
DTEND;TZID=America/Toronto:20240123T110000
DTSTAMP:20260421T091450
CREATED:20230526T151528Z
LAST-MODIFIED:20230526T151528Z
UID:10000308-1706004000-1706007600@rosss.ca
SUMMARY:Hyfield Fitness
DESCRIPTION:Please join us for a fun\, active morning at Hyfield Place in Manotick.
URL:https://rosss.ca/event/hyfield-fitness-2/2024-01-23/
LOCATION:ON
END:VEVENT
BEGIN:VEVENT
DTSTART;TZID=America/Toronto:20240123T080000
DTEND;TZID=America/Toronto:20240123T170000
DTSTAMP:20260421T091450
CREATED:20231107T150533Z
LAST-MODIFIED:20231107T150533Z
UID:10000841-1705996800-1706029200@rosss.ca
SUMMARY:Counselling - By Appointment
DESCRIPTION:One on one counselling service for those requiring professional assistance. \nNote: Appointments are required.
URL:https://rosss.ca/event/counselling-by-appointment/2024-01-23/
LOCATION:ON
END:VEVENT
BEGIN:VEVENT
DTSTART;TZID=America/Toronto:20240122T123000
DTEND;TZID=America/Toronto:20240122T143000
DTSTAMP:20260421T091450
CREATED:20231107T115906Z
LAST-MODIFIED:20231107T115906Z
UID:10000672-1705926600-1705933800@rosss.ca
SUMMARY:Pickleball
DESCRIPTION:Join us for a fun and active program playing pickleball! Bring your running shoes! \nNOTE: Registration is required.
URL:https://rosss.ca/event/pickleball-3/2024-01-22/
LOCATION:ON
END:VEVENT
BEGIN:VEVENT
DTSTART;TZID=America/Toronto:20240122T120000
DTEND;TZID=America/Toronto:20240122T133000
DTSTAMP:20260421T091450
CREATED:20230526T153647Z
LAST-MODIFIED:20230526T153648Z
UID:10000188-1705924800-1705930200@rosss.ca
SUMMARY:Connections Lunch
DESCRIPTION:Enjoy good food and even better company at our favourite restaurants in Manotick\, Richmond\, Metcalfe\, and North Gower! Connections lunches provide an opportunity to connect with friends and meet new people in the community. Groups will be notified a week in advance to register for lunches.
URL:https://rosss.ca/event/connections-lunch-2/2024-01-22/
LOCATION:ON
END:VEVENT
BEGIN:VEVENT
DTSTART;TZID=America/Toronto:20240119T123000
DTEND;TZID=America/Toronto:20240119T143000
DTSTAMP:20260421T091450
CREATED:20231107T120221Z
LAST-MODIFIED:20231107T143839Z
UID:10000787-1705667400-1705674600@rosss.ca
SUMMARY:Pickleball
DESCRIPTION:Join us for a fun and active program playing pickleball! Bring your running shoes! \nNOTE: Registration is required.
URL:https://rosss.ca/event/pickleball-5/2024-01-19/
LOCATION:ON
END:VEVENT
BEGIN:VEVENT
DTSTART;TZID=America/Toronto:20240119T100000
DTEND;TZID=America/Toronto:20240119T120000
DTSTAMP:20260421T091450
CREATED:20230131T194009Z
LAST-MODIFIED:20230209T154459Z
UID:10000574-1705658400-1705665600@rosss.ca
SUMMARY:Cultured Purls
DESCRIPTION:Calling all knitters! Join us for good conversation while you finish your latest projects.
URL:https://rosss.ca/event/cultured-purls/2024-01-19/
LOCATION:ON
END:VEVENT
BEGIN:VEVENT
DTSTART;TZID=America/Toronto:20240118T133000
DTEND;TZID=America/Toronto:20240118T153000
DTSTAMP:20260421T091450
CREATED:20231107T120034Z
LAST-MODIFIED:20231107T120034Z
UID:10000703-1705584600-1705591800@rosss.ca
SUMMARY:Pickleball
DESCRIPTION:Join us for a fun and active program playing pickleball! Bring your running shoes! \nNOTE: Registration is required.
URL:https://rosss.ca/event/pickleball-4/2024-01-18/
LOCATION:ON
END:VEVENT
BEGIN:VEVENT
DTSTART;TZID=America/Toronto:20240118T100000
DTEND;TZID=America/Toronto:20240118T150000
DTSTAMP:20260421T091450
CREATED:20230131T193857Z
LAST-MODIFIED:20230209T154211Z
UID:10000513-1705572000-1705590000@rosss.ca
SUMMARY:Adult Day Program
DESCRIPTION:The Adult Day Program provides supervised individual programming in a group setting for older adults\, who may be physically frail\, cognitively impaired and/or socially isolated. Our program is designed to assist participants in achieving and maintaining their maximum level of functioning\, to prevent premature and inappropriate institutionalization and to provide respite and information for caregivers. Program elements include planned social\, recreational and physical activities\, snacks and lunch. Transportation is available upon request. NOTE: The Adult Day Program is open to registered clients only.
URL:https://rosss.ca/event/adult-day-program/2024-01-18/
LOCATION:ON
END:VEVENT
BEGIN:VEVENT
DTSTART;TZID=America/Toronto:20240117T133000
DTEND;TZID=America/Toronto:20240117T150000
DTSTAMP:20260421T091450
CREATED:20231107T121651Z
LAST-MODIFIED:20231219T200600Z
UID:10000768-1705498200-1705503600@rosss.ca
SUMMARY:Richmond Drop-in
DESCRIPTION:Drop-in for a sociable chat\, game of bingo and various fun topics and presenters.
URL:https://rosss.ca/event/richmond-drop-in/2024-01-17/
LOCATION:ON
END:VEVENT
BEGIN:VEVENT
DTSTART;TZID=America/Toronto:20240117T100000
DTEND;TZID=America/Toronto:20240117T120000
DTSTAMP:20260421T091450
CREATED:20231107T115144Z
LAST-MODIFIED:20231107T115144Z
UID:10000424-1705485600-1705492800@rosss.ca
SUMMARY:Manotick Drop-in
DESCRIPTION:Drop-in for a sociable chat\, game of bingo and various fun topics and presenters.
URL:https://rosss.ca/event/manotick-drop-in-2/2024-01-17/
LOCATION:ON
END:VEVENT
BEGIN:VEVENT
DTSTART;TZID=America/Toronto:20240116T100000
DTEND;TZID=America/Toronto:20240116T110000
DTSTAMP:20260421T091450
CREATED:20230526T151528Z
LAST-MODIFIED:20230526T151528Z
UID:10000307-1705399200-1705402800@rosss.ca
SUMMARY:Hyfield Fitness
DESCRIPTION:Please join us for a fun\, active morning at Hyfield Place in Manotick.
URL:https://rosss.ca/event/hyfield-fitness-2/2024-01-16/
LOCATION:ON
END:VEVENT
BEGIN:VEVENT
DTSTART;TZID=America/Toronto:20240116T080000
DTEND;TZID=America/Toronto:20240116T170000
DTSTAMP:20260421T091450
CREATED:20231107T150533Z
LAST-MODIFIED:20231107T150533Z
UID:10000840-1705392000-1705424400@rosss.ca
SUMMARY:Counselling - By Appointment
DESCRIPTION:One on one counselling service for those requiring professional assistance. \nNote: Appointments are required.
URL:https://rosss.ca/event/counselling-by-appointment/2024-01-16/
LOCATION:ON
END:VEVENT
BEGIN:VEVENT
DTSTART;TZID=America/Toronto:20240115T123000
DTEND;TZID=America/Toronto:20240115T143000
DTSTAMP:20260421T091450
CREATED:20231107T115906Z
LAST-MODIFIED:20231107T115906Z
UID:10000671-1705321800-1705329000@rosss.ca
SUMMARY:Pickleball
DESCRIPTION:Join us for a fun and active program playing pickleball! Bring your running shoes! \nNOTE: Registration is required.
URL:https://rosss.ca/event/pickleball-3/2024-01-15/
LOCATION:ON
END:VEVENT
BEGIN:VEVENT
DTSTART;TZID=America/Toronto:20240115T120000
DTEND;TZID=America/Toronto:20240115T133000
DTSTAMP:20260421T091450
CREATED:20230526T153647Z
LAST-MODIFIED:20230526T153648Z
UID:10000187-1705320000-1705325400@rosss.ca
SUMMARY:Connections Lunch
DESCRIPTION:Enjoy good food and even better company at our favourite restaurants in Manotick\, Richmond\, Metcalfe\, and North Gower! Connections lunches provide an opportunity to connect with friends and meet new people in the community. Groups will be notified a week in advance to register for lunches.
URL:https://rosss.ca/event/connections-lunch-2/2024-01-15/
LOCATION:ON
END:VEVENT
BEGIN:VEVENT
DTSTART;TZID=America/Toronto:20240112T123000
DTEND;TZID=America/Toronto:20240112T143000
DTSTAMP:20260421T091450
CREATED:20231107T120221Z
LAST-MODIFIED:20231107T143839Z
UID:10000786-1705062600-1705069800@rosss.ca
SUMMARY:Pickleball
DESCRIPTION:Join us for a fun and active program playing pickleball! Bring your running shoes! \nNOTE: Registration is required.
URL:https://rosss.ca/event/pickleball-5/2024-01-12/
LOCATION:ON
END:VEVENT
BEGIN:VEVENT
DTSTART;TZID=America/Toronto:20240112T100000
DTEND;TZID=America/Toronto:20240112T120000
DTSTAMP:20260421T091450
CREATED:20230131T194009Z
LAST-MODIFIED:20230209T154459Z
UID:10000573-1705053600-1705060800@rosss.ca
SUMMARY:Cultured Purls
DESCRIPTION:Calling all knitters! Join us for good conversation while you finish your latest projects.
URL:https://rosss.ca/event/cultured-purls/2024-01-12/
LOCATION:ON
END:VEVENT
BEGIN:VEVENT
DTSTART;TZID=America/Toronto:20240112T090000
DTEND;TZID=America/Toronto:20240112T103000
DTSTAMP:20260421T091450
CREATED:20231107T114748Z
LAST-MODIFIED:20231107T145313Z
UID:10000828-1705050000-1705055400@rosss.ca
SUMMARY:Manotick Breakfast
DESCRIPTION:The Manotick Breakfast is back! The Breakfast will take place at the Manotick Legion on the second Friday of each month. \nNOTE: Registration is required to reserve a seat. 
URL:https://rosss.ca/event/manotick-breakfast-2/2024-01-12/
LOCATION:ON
END:VEVENT
BEGIN:VEVENT
DTSTART;TZID=America/Toronto:20240111T133000
DTEND;TZID=America/Toronto:20240111T153000
DTSTAMP:20260421T091450
CREATED:20231107T120034Z
LAST-MODIFIED:20231107T120034Z
UID:10000702-1704979800-1704987000@rosss.ca
SUMMARY:Pickleball
DESCRIPTION:Join us for a fun and active program playing pickleball! Bring your running shoes! \nNOTE: Registration is required.
URL:https://rosss.ca/event/pickleball-4/2024-01-11/
LOCATION:ON
END:VEVENT
BEGIN:VEVENT
DTSTART;TZID=America/Toronto:20240111T100000
DTEND;TZID=America/Toronto:20240111T150000
DTSTAMP:20260421T091450
CREATED:20230131T193857Z
LAST-MODIFIED:20230209T154211Z
UID:10000512-1704967200-1704985200@rosss.ca
SUMMARY:Adult Day Program
DESCRIPTION:The Adult Day Program provides supervised individual programming in a group setting for older adults\, who may be physically frail\, cognitively impaired and/or socially isolated. Our program is designed to assist participants in achieving and maintaining their maximum level of functioning\, to prevent premature and inappropriate institutionalization and to provide respite and information for caregivers. Program elements include planned social\, recreational and physical activities\, snacks and lunch. Transportation is available upon request. NOTE: The Adult Day Program is open to registered clients only.
URL:https://rosss.ca/event/adult-day-program/2024-01-11/
LOCATION:ON
END:VEVENT
BEGIN:VEVENT
DTSTART;TZID=America/Toronto:20240110T133000
DTEND;TZID=America/Toronto:20240110T150000
DTSTAMP:20260421T091450
CREATED:20231107T121651Z
LAST-MODIFIED:20231219T200600Z
UID:10000767-1704893400-1704898800@rosss.ca
SUMMARY:Richmond Drop-in
DESCRIPTION:Drop-in for a sociable chat\, game of bingo and various fun topics and presenters.
URL:https://rosss.ca/event/richmond-drop-in/2024-01-10/
LOCATION:ON
END:VEVENT
BEGIN:VEVENT
DTSTART;TZID=America/Toronto:20240110T100000
DTEND;TZID=America/Toronto:20240110T120000
DTSTAMP:20260421T091450
CREATED:20231107T115144Z
LAST-MODIFIED:20231107T115144Z
UID:10000423-1704880800-1704888000@rosss.ca
SUMMARY:Manotick Drop-in
DESCRIPTION:Drop-in for a sociable chat\, game of bingo and various fun topics and presenters.
URL:https://rosss.ca/event/manotick-drop-in-2/2024-01-10/
LOCATION:ON
END:VEVENT
BEGIN:VEVENT
DTSTART;TZID=America/Toronto:20240109T100000
DTEND;TZID=America/Toronto:20240109T140000
DTSTAMP:20260421T091450
CREATED:20231107T144352Z
LAST-MODIFIED:20231107T144352Z
UID:10000812-1704794400-1704808800@rosss.ca
SUMMARY:Adult Day Program
DESCRIPTION:The Adult Day Program provides supervised individual programming in a group setting for older adults\, who may be physically frail\, cognitively impaired and/or socially isolated. Our program is designed to assist participants in achieving and maintaining their maximum level of functioning\, to prevent premature and inappropriate institutionalization and to provide respite and information for caregivers. Program elements include planned social\, recreational and physical activities\, snacks and lunch. Transportation is available upon request. NOTE: The Adult Day Program is open to registered clients only.
URL:https://rosss.ca/event/adult-day-program-2/2024-01-09/
LOCATION:ON
END:VEVENT
BEGIN:VEVENT
DTSTART;TZID=America/Toronto:20240109T100000
DTEND;TZID=America/Toronto:20240109T120000
DTSTAMP:20260421T091450
CREATED:20231107T144706Z
LAST-MODIFIED:20231107T144706Z
UID:10000820-1704794400-1704801600@rosss.ca
SUMMARY:Caregiver Support Group
DESCRIPTION:Caregivers come together and support one another through their caregiving journey. This program includes group discussions\, professional speakers and support resources. Open to registered participants only.
URL:https://rosss.ca/event/caregiver-support-group/2024-01-09/
LOCATION:ON
END:VEVENT
BEGIN:VEVENT
DTSTART;TZID=America/Toronto:20240109T100000
DTEND;TZID=America/Toronto:20240109T110000
DTSTAMP:20260421T091450
CREATED:20230526T151528Z
LAST-MODIFIED:20230526T151528Z
UID:10000306-1704794400-1704798000@rosss.ca
SUMMARY:Hyfield Fitness
DESCRIPTION:Please join us for a fun\, active morning at Hyfield Place in Manotick.
URL:https://rosss.ca/event/hyfield-fitness-2/2024-01-09/
LOCATION:ON
END:VEVENT
BEGIN:VEVENT
DTSTART;TZID=America/Toronto:20240109T080000
DTEND;TZID=America/Toronto:20240109T170000
DTSTAMP:20260421T091450
CREATED:20231107T150533Z
LAST-MODIFIED:20231107T150533Z
UID:10000839-1704787200-1704819600@rosss.ca
SUMMARY:Counselling - By Appointment
DESCRIPTION:One on one counselling service for those requiring professional assistance. \nNote: Appointments are required.
URL:https://rosss.ca/event/counselling-by-appointment/2024-01-09/
LOCATION:ON
END:VEVENT
BEGIN:VEVENT
DTSTART;TZID=America/Toronto:20240108T123000
DTEND;TZID=America/Toronto:20240108T143000
DTSTAMP:20260421T091450
CREATED:20231107T115906Z
LAST-MODIFIED:20231107T115906Z
UID:10000670-1704717000-1704724200@rosss.ca
SUMMARY:Pickleball
DESCRIPTION:Join us for a fun and active program playing pickleball! Bring your running shoes! \nNOTE: Registration is required.
URL:https://rosss.ca/event/pickleball-3/2024-01-08/
LOCATION:ON
END:VEVENT
BEGIN:VEVENT
DTSTART;TZID=America/Toronto:20240108T120000
DTEND;TZID=America/Toronto:20240108T133000
DTSTAMP:20260421T091450
CREATED:20230526T153647Z
LAST-MODIFIED:20230526T153648Z
UID:10000186-1704715200-1704720600@rosss.ca
SUMMARY:Connections Lunch
DESCRIPTION:Enjoy good food and even better company at our favourite restaurants in Manotick\, Richmond\, Metcalfe\, and North Gower! Connections lunches provide an opportunity to connect with friends and meet new people in the community. Groups will be notified a week in advance to register for lunches.
URL:https://rosss.ca/event/connections-lunch-2/2024-01-08/
LOCATION:ON
END:VEVENT
BEGIN:VEVENT
DTSTART;TZID=America/Toronto:20240105T123000
DTEND;TZID=America/Toronto:20240105T143000
DTSTAMP:20260421T091450
CREATED:20231107T120221Z
LAST-MODIFIED:20231107T143839Z
UID:10000785-1704457800-1704465000@rosss.ca
SUMMARY:Pickleball
DESCRIPTION:Join us for a fun and active program playing pickleball! Bring your running shoes! \nNOTE: Registration is required.
URL:https://rosss.ca/event/pickleball-5/2024-01-05/
LOCATION:ON
END:VEVENT
BEGIN:VEVENT
DTSTART;TZID=America/Toronto:20240105T100000
DTEND;TZID=America/Toronto:20240105T120000
DTSTAMP:20260421T091450
CREATED:20230131T194009Z
LAST-MODIFIED:20230209T154459Z
UID:10000572-1704448800-1704456000@rosss.ca
SUMMARY:Cultured Purls
DESCRIPTION:Calling all knitters! Join us for good conversation while you finish your latest projects.
URL:https://rosss.ca/event/cultured-purls/2024-01-05/
LOCATION:ON
END:VEVENT
END:VCALENDAR