BEGIN:VCALENDAR
VERSION:2.0
PRODID:-//ROSSS - ECPv6.15.20//NONSGML v1.0//EN
CALSCALE:GREGORIAN
METHOD:PUBLISH
X-WR-CALNAME:ROSSS
X-ORIGINAL-URL:https://rosss.ca
X-WR-CALDESC:Events for ROSSS
REFRESH-INTERVAL;VALUE=DURATION:PT1H
X-Robots-Tag:noindex
X-PUBLISHED-TTL:PT1H
BEGIN:VTIMEZONE
TZID:America/Toronto
BEGIN:DAYLIGHT
TZOFFSETFROM:-0500
TZOFFSETTO:-0400
TZNAME:EDT
DTSTART:20220313T070000
END:DAYLIGHT
BEGIN:STANDARD
TZOFFSETFROM:-0400
TZOFFSETTO:-0500
TZNAME:EST
DTSTART:20221106T060000
END:STANDARD
BEGIN:DAYLIGHT
TZOFFSETFROM:-0500
TZOFFSETTO:-0400
TZNAME:EDT
DTSTART:20230312T070000
END:DAYLIGHT
BEGIN:STANDARD
TZOFFSETFROM:-0400
TZOFFSETTO:-0500
TZNAME:EST
DTSTART:20231105T060000
END:STANDARD
BEGIN:DAYLIGHT
TZOFFSETFROM:-0500
TZOFFSETTO:-0400
TZNAME:EDT
DTSTART:20240310T070000
END:DAYLIGHT
BEGIN:STANDARD
TZOFFSETFROM:-0400
TZOFFSETTO:-0500
TZNAME:EST
DTSTART:20241103T060000
END:STANDARD
END:VTIMEZONE
BEGIN:VEVENT
DTSTART;VALUE=DATE:20231226
DTEND;VALUE=DATE:20231227
DTSTAMP:20260421T105318
CREATED:20230209T161332Z
LAST-MODIFIED:20230209T161332Z
UID:10000612-1703548800-1703635199@rosss.ca
SUMMARY:BOXING DAY
DESCRIPTION:
URL:https://rosss.ca/event/boxing-day/
LOCATION:ON
END:VEVENT
BEGIN:VEVENT
DTSTART;VALUE=DATE:20231225
DTEND;VALUE=DATE:20231226
DTSTAMP:20260421T105318
CREATED:20230209T161259Z
LAST-MODIFIED:20230209T161259Z
UID:10000611-1703462400-1703548799@rosss.ca
SUMMARY:CHRISTMAS DAY
DESCRIPTION:
URL:https://rosss.ca/event/christmas-day/
LOCATION:ON
END:VEVENT
BEGIN:VEVENT
DTSTART;TZID=America/Toronto:20231222T123000
DTEND;TZID=America/Toronto:20231222T143000
DTSTAMP:20260421T105318
CREATED:20231107T120221Z
LAST-MODIFIED:20231107T143839Z
UID:10000783-1703248200-1703255400@rosss.ca
SUMMARY:Pickleball
DESCRIPTION:Join us for a fun and active program playing pickleball! Bring your running shoes! \nNOTE: Registration is required.
URL:https://rosss.ca/event/pickleball-5/2023-12-22/
LOCATION:ON
END:VEVENT
BEGIN:VEVENT
DTSTART;TZID=America/Toronto:20231222T100000
DTEND;TZID=America/Toronto:20231222T120000
DTSTAMP:20260421T105318
CREATED:20230131T194009Z
LAST-MODIFIED:20230209T154459Z
UID:10000570-1703239200-1703246400@rosss.ca
SUMMARY:Cultured Purls
DESCRIPTION:Calling all knitters! Join us for good conversation while you finish your latest projects.
URL:https://rosss.ca/event/cultured-purls/2023-12-22/
LOCATION:ON
END:VEVENT
BEGIN:VEVENT
DTSTART;TZID=America/Toronto:20231221T133000
DTEND;TZID=America/Toronto:20231221T153000
DTSTAMP:20260421T105318
CREATED:20231107T120034Z
LAST-MODIFIED:20231107T120034Z
UID:10000699-1703165400-1703172600@rosss.ca
SUMMARY:Pickleball
DESCRIPTION:Join us for a fun and active program playing pickleball! Bring your running shoes! \nNOTE: Registration is required.
URL:https://rosss.ca/event/pickleball-4/2023-12-21/
LOCATION:ON
END:VEVENT
BEGIN:VEVENT
DTSTART;TZID=America/Toronto:20231221T100000
DTEND;TZID=America/Toronto:20231221T150000
DTSTAMP:20260421T105318
CREATED:20230131T193857Z
LAST-MODIFIED:20230209T154211Z
UID:10000509-1703152800-1703170800@rosss.ca
SUMMARY:Adult Day Program
DESCRIPTION:The Adult Day Program provides supervised individual programming in a group setting for older adults\, who may be physically frail\, cognitively impaired and/or socially isolated. Our program is designed to assist participants in achieving and maintaining their maximum level of functioning\, to prevent premature and inappropriate institutionalization and to provide respite and information for caregivers. Program elements include planned social\, recreational and physical activities\, snacks and lunch. Transportation is available upon request. NOTE: The Adult Day Program is open to registered clients only.
URL:https://rosss.ca/event/adult-day-program/2023-12-21/
LOCATION:ON
END:VEVENT
BEGIN:VEVENT
DTSTART;TZID=America/Toronto:20231220T133000
DTEND;TZID=America/Toronto:20231220T150000
DTSTAMP:20260421T105318
CREATED:20231107T121651Z
LAST-MODIFIED:20231219T200600Z
UID:10000765-1703079000-1703084400@rosss.ca
SUMMARY:Richmond Drop-in
DESCRIPTION:Drop-in for a sociable chat\, game of bingo and various fun topics and presenters.
URL:https://rosss.ca/event/richmond-drop-in/2023-12-20/
LOCATION:ON
END:VEVENT
BEGIN:VEVENT
DTSTART;TZID=America/Toronto:20231220T100000
DTEND;TZID=America/Toronto:20231220T120000
DTSTAMP:20260421T105318
CREATED:20231107T115144Z
LAST-MODIFIED:20231107T115144Z
UID:10000420-1703066400-1703073600@rosss.ca
SUMMARY:Manotick Drop-in
DESCRIPTION:Drop-in for a sociable chat\, game of bingo and various fun topics and presenters.
URL:https://rosss.ca/event/manotick-drop-in-2/2023-12-20/
LOCATION:ON
END:VEVENT
BEGIN:VEVENT
DTSTART;TZID=America/Toronto:20231219T100000
DTEND;TZID=America/Toronto:20231219T110000
DTSTAMP:20260421T105318
CREATED:20230526T151528Z
LAST-MODIFIED:20230526T151528Z
UID:10000303-1702980000-1702983600@rosss.ca
SUMMARY:Hyfield Fitness
DESCRIPTION:Please join us for a fun\, active morning at Hyfield Place in Manotick.
URL:https://rosss.ca/event/hyfield-fitness-2/2023-12-19/
LOCATION:ON
END:VEVENT
BEGIN:VEVENT
DTSTART;TZID=America/Toronto:20231219T080000
DTEND;TZID=America/Toronto:20231219T170000
DTSTAMP:20260421T105318
CREATED:20231107T150533Z
LAST-MODIFIED:20231107T150533Z
UID:10000837-1702972800-1703005200@rosss.ca
SUMMARY:Counselling - By Appointment
DESCRIPTION:One on one counselling service for those requiring professional assistance. \nNote: Appointments are required.
URL:https://rosss.ca/event/counselling-by-appointment/2023-12-19/
LOCATION:ON
END:VEVENT
BEGIN:VEVENT
DTSTART;TZID=America/Toronto:20231218T123000
DTEND;TZID=America/Toronto:20231218T143000
DTSTAMP:20260421T105318
CREATED:20231107T115906Z
LAST-MODIFIED:20231107T115906Z
UID:10000669-1702902600-1702909800@rosss.ca
SUMMARY:Pickleball
DESCRIPTION:Join us for a fun and active program playing pickleball! Bring your running shoes! \nNOTE: Registration is required.
URL:https://rosss.ca/event/pickleball-3/2023-12-18/
LOCATION:ON
END:VEVENT
BEGIN:VEVENT
DTSTART;TZID=America/Toronto:20231218T120000
DTEND;TZID=America/Toronto:20231218T133000
DTSTAMP:20260421T105318
CREATED:20230526T153647Z
LAST-MODIFIED:20230526T153648Z
UID:10000183-1702900800-1702906200@rosss.ca
SUMMARY:Connections Lunch
DESCRIPTION:Enjoy good food and even better company at our favourite restaurants in Manotick\, Richmond\, Metcalfe\, and North Gower! Connections lunches provide an opportunity to connect with friends and meet new people in the community. Groups will be notified a week in advance to register for lunches.
URL:https://rosss.ca/event/connections-lunch-2/2023-12-18/
LOCATION:ON
END:VEVENT
BEGIN:VEVENT
DTSTART;TZID=America/Toronto:20231215T123000
DTEND;TZID=America/Toronto:20231215T143000
DTSTAMP:20260421T105318
CREATED:20231107T120221Z
LAST-MODIFIED:20231107T143839Z
UID:10000782-1702643400-1702650600@rosss.ca
SUMMARY:Pickleball
DESCRIPTION:Join us for a fun and active program playing pickleball! Bring your running shoes! \nNOTE: Registration is required.
URL:https://rosss.ca/event/pickleball-5/2023-12-15/
LOCATION:ON
END:VEVENT
BEGIN:VEVENT
DTSTART;TZID=America/Toronto:20231215T100000
DTEND;TZID=America/Toronto:20231215T120000
DTSTAMP:20260421T105318
CREATED:20230131T194009Z
LAST-MODIFIED:20230209T154459Z
UID:10000569-1702634400-1702641600@rosss.ca
SUMMARY:Cultured Purls
DESCRIPTION:Calling all knitters! Join us for good conversation while you finish your latest projects.
URL:https://rosss.ca/event/cultured-purls/2023-12-15/
LOCATION:ON
END:VEVENT
BEGIN:VEVENT
DTSTART;TZID=America/Toronto:20231214T133000
DTEND;TZID=America/Toronto:20231214T153000
DTSTAMP:20260421T105318
CREATED:20231107T120034Z
LAST-MODIFIED:20231107T120034Z
UID:10000698-1702560600-1702567800@rosss.ca
SUMMARY:Pickleball
DESCRIPTION:Join us for a fun and active program playing pickleball! Bring your running shoes! \nNOTE: Registration is required.
URL:https://rosss.ca/event/pickleball-4/2023-12-14/
LOCATION:ON
END:VEVENT
BEGIN:VEVENT
DTSTART;TZID=America/Toronto:20231214T100000
DTEND;TZID=America/Toronto:20231214T150000
DTSTAMP:20260421T105318
CREATED:20230131T193857Z
LAST-MODIFIED:20230209T154211Z
UID:10000508-1702548000-1702566000@rosss.ca
SUMMARY:Adult Day Program
DESCRIPTION:The Adult Day Program provides supervised individual programming in a group setting for older adults\, who may be physically frail\, cognitively impaired and/or socially isolated. Our program is designed to assist participants in achieving and maintaining their maximum level of functioning\, to prevent premature and inappropriate institutionalization and to provide respite and information for caregivers. Program elements include planned social\, recreational and physical activities\, snacks and lunch. Transportation is available upon request. NOTE: The Adult Day Program is open to registered clients only.
URL:https://rosss.ca/event/adult-day-program/2023-12-14/
LOCATION:ON
END:VEVENT
BEGIN:VEVENT
DTSTART;TZID=America/Toronto:20231213T133000
DTEND;TZID=America/Toronto:20231213T150000
DTSTAMP:20260421T105318
CREATED:20231107T121651Z
LAST-MODIFIED:20231219T200600Z
UID:10000764-1702474200-1702479600@rosss.ca
SUMMARY:Richmond Drop-in
DESCRIPTION:Drop-in for a sociable chat\, game of bingo and various fun topics and presenters.
URL:https://rosss.ca/event/richmond-drop-in/2023-12-13/
LOCATION:ON
END:VEVENT
BEGIN:VEVENT
DTSTART;TZID=America/Toronto:20231213T100000
DTEND;TZID=America/Toronto:20231213T120000
DTSTAMP:20260421T105318
CREATED:20231107T115144Z
LAST-MODIFIED:20231107T115144Z
UID:10000419-1702461600-1702468800@rosss.ca
SUMMARY:Manotick Drop-in
DESCRIPTION:Drop-in for a sociable chat\, game of bingo and various fun topics and presenters.
URL:https://rosss.ca/event/manotick-drop-in-2/2023-12-13/
LOCATION:ON
END:VEVENT
BEGIN:VEVENT
DTSTART;TZID=America/Toronto:20231212T100000
DTEND;TZID=America/Toronto:20231212T140000
DTSTAMP:20260421T105318
CREATED:20231107T144352Z
LAST-MODIFIED:20231107T144352Z
UID:10000811-1702375200-1702389600@rosss.ca
SUMMARY:Adult Day Program
DESCRIPTION:The Adult Day Program provides supervised individual programming in a group setting for older adults\, who may be physically frail\, cognitively impaired and/or socially isolated. Our program is designed to assist participants in achieving and maintaining their maximum level of functioning\, to prevent premature and inappropriate institutionalization and to provide respite and information for caregivers. Program elements include planned social\, recreational and physical activities\, snacks and lunch. Transportation is available upon request. NOTE: The Adult Day Program is open to registered clients only.
URL:https://rosss.ca/event/adult-day-program-2/2023-12-12/
LOCATION:ON
END:VEVENT
BEGIN:VEVENT
DTSTART;TZID=America/Toronto:20231212T100000
DTEND;TZID=America/Toronto:20231212T120000
DTSTAMP:20260421T105318
CREATED:20231107T144706Z
LAST-MODIFIED:20231107T144706Z
UID:10000819-1702375200-1702382400@rosss.ca
SUMMARY:Caregiver Support Group
DESCRIPTION:Caregivers come together and support one another through their caregiving journey. This program includes group discussions\, professional speakers and support resources. Open to registered participants only.
URL:https://rosss.ca/event/caregiver-support-group/2023-12-12/
LOCATION:ON
END:VEVENT
BEGIN:VEVENT
DTSTART;TZID=America/Toronto:20231212T100000
DTEND;TZID=America/Toronto:20231212T110000
DTSTAMP:20260421T105318
CREATED:20230526T151528Z
LAST-MODIFIED:20230526T151528Z
UID:10000302-1702375200-1702378800@rosss.ca
SUMMARY:Hyfield Fitness
DESCRIPTION:Please join us for a fun\, active morning at Hyfield Place in Manotick.
URL:https://rosss.ca/event/hyfield-fitness-2/2023-12-12/
LOCATION:ON
END:VEVENT
BEGIN:VEVENT
DTSTART;TZID=America/Toronto:20231212T080000
DTEND;TZID=America/Toronto:20231212T170000
DTSTAMP:20260421T105318
CREATED:20231107T150533Z
LAST-MODIFIED:20231107T150533Z
UID:10000836-1702368000-1702400400@rosss.ca
SUMMARY:Counselling - By Appointment
DESCRIPTION:One on one counselling service for those requiring professional assistance. \nNote: Appointments are required.
URL:https://rosss.ca/event/counselling-by-appointment/2023-12-12/
LOCATION:ON
END:VEVENT
BEGIN:VEVENT
DTSTART;TZID=America/Toronto:20231211T123000
DTEND;TZID=America/Toronto:20231211T143000
DTSTAMP:20260421T105318
CREATED:20231107T115906Z
LAST-MODIFIED:20231107T115906Z
UID:10000668-1702297800-1702305000@rosss.ca
SUMMARY:Pickleball
DESCRIPTION:Join us for a fun and active program playing pickleball! Bring your running shoes! \nNOTE: Registration is required.
URL:https://rosss.ca/event/pickleball-3/2023-12-11/
LOCATION:ON
END:VEVENT
BEGIN:VEVENT
DTSTART;TZID=America/Toronto:20231211T120000
DTEND;TZID=America/Toronto:20231211T133000
DTSTAMP:20260421T105318
CREATED:20230526T153647Z
LAST-MODIFIED:20230526T153648Z
UID:10000182-1702296000-1702301400@rosss.ca
SUMMARY:Connections Lunch
DESCRIPTION:Enjoy good food and even better company at our favourite restaurants in Manotick\, Richmond\, Metcalfe\, and North Gower! Connections lunches provide an opportunity to connect with friends and meet new people in the community. Groups will be notified a week in advance to register for lunches.
URL:https://rosss.ca/event/connections-lunch-2/2023-12-11/
LOCATION:ON
END:VEVENT
BEGIN:VEVENT
DTSTART;TZID=America/Toronto:20231208T123000
DTEND;TZID=America/Toronto:20231208T143000
DTSTAMP:20260421T105318
CREATED:20231107T120221Z
LAST-MODIFIED:20231107T143839Z
UID:10000781-1702038600-1702045800@rosss.ca
SUMMARY:Pickleball
DESCRIPTION:Join us for a fun and active program playing pickleball! Bring your running shoes! \nNOTE: Registration is required.
URL:https://rosss.ca/event/pickleball-5/2023-12-08/
LOCATION:ON
END:VEVENT
BEGIN:VEVENT
DTSTART;TZID=America/Toronto:20231208T100000
DTEND;TZID=America/Toronto:20231208T120000
DTSTAMP:20260421T105318
CREATED:20230131T194009Z
LAST-MODIFIED:20230209T154459Z
UID:10000568-1702029600-1702036800@rosss.ca
SUMMARY:Cultured Purls
DESCRIPTION:Calling all knitters! Join us for good conversation while you finish your latest projects.
URL:https://rosss.ca/event/cultured-purls/2023-12-08/
LOCATION:ON
END:VEVENT
BEGIN:VEVENT
DTSTART;TZID=America/Toronto:20231208T090000
DTEND;TZID=America/Toronto:20231208T103000
DTSTAMP:20260421T105318
CREATED:20231107T114748Z
LAST-MODIFIED:20231107T145313Z
UID:10000827-1702026000-1702031400@rosss.ca
SUMMARY:Manotick Breakfast
DESCRIPTION:The Manotick Breakfast is back! The Breakfast will take place at the Manotick Legion on the second Friday of each month. \nNOTE: Registration is required to reserve a seat. 
URL:https://rosss.ca/event/manotick-breakfast-2/2023-12-08/
LOCATION:ON
END:VEVENT
BEGIN:VEVENT
DTSTART;TZID=America/Toronto:20231207T133000
DTEND;TZID=America/Toronto:20231207T153000
DTSTAMP:20260421T105318
CREATED:20231107T120034Z
LAST-MODIFIED:20231107T120034Z
UID:10000697-1701955800-1701963000@rosss.ca
SUMMARY:Pickleball
DESCRIPTION:Join us for a fun and active program playing pickleball! Bring your running shoes! \nNOTE: Registration is required.
URL:https://rosss.ca/event/pickleball-4/2023-12-07/
LOCATION:ON
END:VEVENT
BEGIN:VEVENT
DTSTART;TZID=America/Toronto:20231207T100000
DTEND;TZID=America/Toronto:20231207T150000
DTSTAMP:20260421T105318
CREATED:20230131T193857Z
LAST-MODIFIED:20230209T154211Z
UID:10000507-1701943200-1701961200@rosss.ca
SUMMARY:Adult Day Program
DESCRIPTION:The Adult Day Program provides supervised individual programming in a group setting for older adults\, who may be physically frail\, cognitively impaired and/or socially isolated. Our program is designed to assist participants in achieving and maintaining their maximum level of functioning\, to prevent premature and inappropriate institutionalization and to provide respite and information for caregivers. Program elements include planned social\, recreational and physical activities\, snacks and lunch. Transportation is available upon request. NOTE: The Adult Day Program is open to registered clients only.
URL:https://rosss.ca/event/adult-day-program/2023-12-07/
LOCATION:ON
END:VEVENT
BEGIN:VEVENT
DTSTART;TZID=America/Toronto:20231206T120000
DTEND;TZID=America/Toronto:20231206T140000
DTSTAMP:20260421T105318
CREATED:20231002T160048Z
LAST-MODIFIED:20250428T182241Z
UID:10000647-1701864000-1701871200@rosss.ca
SUMMARY:Richmond Diners
DESCRIPTION:Held once a month\, this luncheon provides a hot meal\, dessert\, entertainment and raffle. What better way to join and gather the community together. Come on out! \nNOTE: Registration is required to reserve a seat. All breakfast and diners will now have a $5 no show fee if you have not cancelled your reservation before due to food being purchased. \n****FOR DAYS WITH INCLEMENT WEATHER PLEASE CALL TO VERIFY IF PROGRAMS ARE RUNNING**** \n*For information regarding any of the programs noted on the calendar\, please contact Lyn Rorke 613- 692-4697 ext 224.
URL:https://rosss.ca/event/richmond-diners/2023-12-06/
LOCATION:Saint John the Baptist Anglican Church\, 67 Fowler St\, Richmond\, ON\, K0A 2Z0\, Canada
CATEGORIES:DINING PROGRAM
ATTACH;FMTTYPE=image/jpeg:https://rosss.ca/wp-content/uploads/2023/10/67-Fowler-St-Richmond-ON-K0A-2Z0.jpg
END:VEVENT
END:VCALENDAR