BEGIN:VCALENDAR
VERSION:2.0
PRODID:-//ROSSS - ECPv6.15.20//NONSGML v1.0//EN
CALSCALE:GREGORIAN
METHOD:PUBLISH
X-ORIGINAL-URL:https://rosss.ca
X-WR-CALDESC:Events for ROSSS
REFRESH-INTERVAL;VALUE=DURATION:PT1H
X-Robots-Tag:noindex
X-PUBLISHED-TTL:PT1H
BEGIN:VTIMEZONE
TZID:America/Toronto
BEGIN:DAYLIGHT
TZOFFSETFROM:-0500
TZOFFSETTO:-0400
TZNAME:EDT
DTSTART:20220313T070000
END:DAYLIGHT
BEGIN:STANDARD
TZOFFSETFROM:-0400
TZOFFSETTO:-0500
TZNAME:EST
DTSTART:20221106T060000
END:STANDARD
BEGIN:DAYLIGHT
TZOFFSETFROM:-0500
TZOFFSETTO:-0400
TZNAME:EDT
DTSTART:20230312T070000
END:DAYLIGHT
BEGIN:STANDARD
TZOFFSETFROM:-0400
TZOFFSETTO:-0500
TZNAME:EST
DTSTART:20231105T060000
END:STANDARD
BEGIN:DAYLIGHT
TZOFFSETFROM:-0500
TZOFFSETTO:-0400
TZNAME:EDT
DTSTART:20240310T070000
END:DAYLIGHT
BEGIN:STANDARD
TZOFFSETFROM:-0400
TZOFFSETTO:-0500
TZNAME:EST
DTSTART:20241103T060000
END:STANDARD
END:VTIMEZONE
BEGIN:VEVENT
DTSTART;TZID=America/Toronto:20231129T100000
DTEND;TZID=America/Toronto:20231129T120000
DTSTAMP:20260421T122808
CREATED:20231107T115144Z
LAST-MODIFIED:20231107T115144Z
UID:10000417-1701252000-1701259200@rosss.ca
SUMMARY:Manotick Drop-in
DESCRIPTION:Drop-in for a sociable chat\, game of bingo and various fun topics and presenters.
URL:https://rosss.ca/event/manotick-drop-in-2/2023-11-29/
LOCATION:ON
END:VEVENT
BEGIN:VEVENT
DTSTART;TZID=America/Toronto:20231128T100000
DTEND;TZID=America/Toronto:20231128T140000
DTSTAMP:20260421T122808
CREATED:20231107T144352Z
LAST-MODIFIED:20231107T144352Z
UID:10000810-1701165600-1701180000@rosss.ca
SUMMARY:Adult Day Program
DESCRIPTION:The Adult Day Program provides supervised individual programming in a group setting for older adults\, who may be physically frail\, cognitively impaired and/or socially isolated. Our program is designed to assist participants in achieving and maintaining their maximum level of functioning\, to prevent premature and inappropriate institutionalization and to provide respite and information for caregivers. Program elements include planned social\, recreational and physical activities\, snacks and lunch. Transportation is available upon request. NOTE: The Adult Day Program is open to registered clients only.
URL:https://rosss.ca/event/adult-day-program-2/2023-11-28/
LOCATION:ON
END:VEVENT
BEGIN:VEVENT
DTSTART;TZID=America/Toronto:20231128T100000
DTEND;TZID=America/Toronto:20231128T120000
DTSTAMP:20260421T122808
CREATED:20231107T144706Z
LAST-MODIFIED:20231107T144706Z
UID:10000818-1701165600-1701172800@rosss.ca
SUMMARY:Caregiver Support Group
DESCRIPTION:Caregivers come together and support one another through their caregiving journey. This program includes group discussions\, professional speakers and support resources. Open to registered participants only.
URL:https://rosss.ca/event/caregiver-support-group/2023-11-28/
LOCATION:ON
END:VEVENT
BEGIN:VEVENT
DTSTART;TZID=America/Toronto:20231128T100000
DTEND;TZID=America/Toronto:20231128T110000
DTSTAMP:20260421T122808
CREATED:20230526T151528Z
LAST-MODIFIED:20230526T151528Z
UID:10000300-1701165600-1701169200@rosss.ca
SUMMARY:Hyfield Fitness
DESCRIPTION:Please join us for a fun\, active morning at Hyfield Place in Manotick.
URL:https://rosss.ca/event/hyfield-fitness-2/2023-11-28/
LOCATION:ON
END:VEVENT
BEGIN:VEVENT
DTSTART;TZID=America/Toronto:20231128T080000
DTEND;TZID=America/Toronto:20231128T170000
DTSTAMP:20260421T122808
CREATED:20231107T150533Z
LAST-MODIFIED:20231107T150533Z
UID:10000834-1701158400-1701190800@rosss.ca
SUMMARY:Counselling - By Appointment
DESCRIPTION:One on one counselling service for those requiring professional assistance. \nNote: Appointments are required.
URL:https://rosss.ca/event/counselling-by-appointment/2023-11-28/
LOCATION:ON
END:VEVENT
BEGIN:VEVENT
DTSTART;TZID=America/Toronto:20231127T123000
DTEND;TZID=America/Toronto:20231127T143000
DTSTAMP:20260421T122808
CREATED:20231107T115906Z
LAST-MODIFIED:20231107T115906Z
UID:10000666-1701088200-1701095400@rosss.ca
SUMMARY:Pickleball
DESCRIPTION:Join us for a fun and active program playing pickleball! Bring your running shoes! \nNOTE: Registration is required.
URL:https://rosss.ca/event/pickleball-3/2023-11-27/
LOCATION:ON
END:VEVENT
BEGIN:VEVENT
DTSTART;TZID=America/Toronto:20231127T120000
DTEND;TZID=America/Toronto:20231127T133000
DTSTAMP:20260421T122808
CREATED:20230526T153647Z
LAST-MODIFIED:20230526T153648Z
UID:10000180-1701086400-1701091800@rosss.ca
SUMMARY:Connections Lunch
DESCRIPTION:Enjoy good food and even better company at our favourite restaurants in Manotick\, Richmond\, Metcalfe\, and North Gower! Connections lunches provide an opportunity to connect with friends and meet new people in the community. Groups will be notified a week in advance to register for lunches.
URL:https://rosss.ca/event/connections-lunch-2/2023-11-27/
LOCATION:ON
END:VEVENT
BEGIN:VEVENT
DTSTART;TZID=America/Toronto:20231124T123000
DTEND;TZID=America/Toronto:20231124T143000
DTSTAMP:20260421T122808
CREATED:20231107T120221Z
LAST-MODIFIED:20231107T143839Z
UID:10000779-1700829000-1700836200@rosss.ca
SUMMARY:Pickleball
DESCRIPTION:Join us for a fun and active program playing pickleball! Bring your running shoes! \nNOTE: Registration is required.
URL:https://rosss.ca/event/pickleball-5/2023-11-24/
LOCATION:ON
END:VEVENT
BEGIN:VEVENT
DTSTART;TZID=America/Toronto:20231124T100000
DTEND;TZID=America/Toronto:20231124T120000
DTSTAMP:20260421T122808
CREATED:20230131T194009Z
LAST-MODIFIED:20230209T154459Z
UID:10000566-1700820000-1700827200@rosss.ca
SUMMARY:Cultured Purls
DESCRIPTION:Calling all knitters! Join us for good conversation while you finish your latest projects.
URL:https://rosss.ca/event/cultured-purls/2023-11-24/
LOCATION:ON
END:VEVENT
BEGIN:VEVENT
DTSTART;TZID=America/Toronto:20231123T133000
DTEND;TZID=America/Toronto:20231123T153000
DTSTAMP:20260421T122808
CREATED:20231107T120034Z
LAST-MODIFIED:20231107T120034Z
UID:10000695-1700746200-1700753400@rosss.ca
SUMMARY:Pickleball
DESCRIPTION:Join us for a fun and active program playing pickleball! Bring your running shoes! \nNOTE: Registration is required.
URL:https://rosss.ca/event/pickleball-4/2023-11-23/
LOCATION:ON
END:VEVENT
BEGIN:VEVENT
DTSTART;TZID=America/Toronto:20231123T100000
DTEND;TZID=America/Toronto:20231123T150000
DTSTAMP:20260421T122808
CREATED:20230131T193857Z
LAST-MODIFIED:20230209T154211Z
UID:10000505-1700733600-1700751600@rosss.ca
SUMMARY:Adult Day Program
DESCRIPTION:The Adult Day Program provides supervised individual programming in a group setting for older adults\, who may be physically frail\, cognitively impaired and/or socially isolated. Our program is designed to assist participants in achieving and maintaining their maximum level of functioning\, to prevent premature and inappropriate institutionalization and to provide respite and information for caregivers. Program elements include planned social\, recreational and physical activities\, snacks and lunch. Transportation is available upon request. NOTE: The Adult Day Program is open to registered clients only.
URL:https://rosss.ca/event/adult-day-program/2023-11-23/
LOCATION:ON
END:VEVENT
BEGIN:VEVENT
DTSTART;TZID=America/Toronto:20231122T190000
DTEND;TZID=America/Toronto:20231122T210000
DTSTAMP:20260421T122808
CREATED:20231027T155316Z
LAST-MODIFIED:20231027T155316Z
UID:10000646-1700679600-1700686800@rosss.ca
SUMMARY:Holiday Trivia Night 2023
DESCRIPTION:Join Us for a Festive Evening of Fun and Giving!\n🎉 Holiday Trivia Night Fundraiser 🎉 \nIn Support of Rural Seniors and Adults with Disabilities \n📅 Date: Wednesday\, November 22nd\, 2023 \n🕖 Time: 7:00 PM \n📍 Location: Manotick Legion 5550 Ann St\, Manotick \n🎄 Let’s Gather for a Heartwarming Cause! 🎄 \n🌟 Get ready to test your holiday knowledge and spread the joy at our Holiday Trivia Night Fundraiser! It’s a night filled with merriment\, laughter\, and giving\, all for a fantastic cause. \nWhat to Expect:\n🍻 Cash Bar: the bar is CASH ONLY \n🍲 Delicious Chili: Warm up with a hearty bowl of chili (vegetarian options available). \n🎮 Games: Challenge your wits with festive-themed trivia and games. \n🎁 Raffle: Win exciting prizes in our raffle! \n💰 50/50: Try your luck with the 50/50 draw. \n🎉 All Ages Welcome! 🎉 \nBring your holiday cheer and share the spirit of giving. Let’s come together as a community to make a difference in the lives of rural seniors and adults with disabilities. \n🤝 Your support will go a long way in bringing smiles and warmth to those in need this holiday season. \nMark your calendars and spread the word! We can’t wait to see you at the Manotick Legion on November 22nd at 7:00 PM. \nFor more information and to RSVP\, please contact 613-692-4697 x.226 \nLet’s make this holiday season extra special for those who need it most. Your presence and generosity will make a world of difference. \nSee you there! 🎅🎁🤗
URL:https://rosss.ca/event/holiday-trivia-night-2023/
LOCATION:ON
ATTACH;FMTTYPE=image/png:https://rosss.ca/wp-content/uploads/2023/10/image0.png
ORGANIZER;CN="Rural Ottawa South Support Services":MAILTO:info@rosss.ca
END:VEVENT
BEGIN:VEVENT
DTSTART;TZID=America/Toronto:20231122T133000
DTEND;TZID=America/Toronto:20231122T150000
DTSTAMP:20260421T122808
CREATED:20231107T121651Z
LAST-MODIFIED:20231219T200600Z
UID:10000762-1700659800-1700665200@rosss.ca
SUMMARY:Richmond Drop-in
DESCRIPTION:Drop-in for a sociable chat\, game of bingo and various fun topics and presenters.
URL:https://rosss.ca/event/richmond-drop-in/2023-11-22/
LOCATION:ON
END:VEVENT
BEGIN:VEVENT
DTSTART;TZID=America/Toronto:20231122T100000
DTEND;TZID=America/Toronto:20231122T120000
DTSTAMP:20260421T122808
CREATED:20231107T115144Z
LAST-MODIFIED:20231107T115144Z
UID:10000416-1700647200-1700654400@rosss.ca
SUMMARY:Manotick Drop-in
DESCRIPTION:Drop-in for a sociable chat\, game of bingo and various fun topics and presenters.
URL:https://rosss.ca/event/manotick-drop-in-2/2023-11-22/
LOCATION:ON
END:VEVENT
BEGIN:VEVENT
DTSTART;TZID=America/Toronto:20231121T100000
DTEND;TZID=America/Toronto:20231121T110000
DTSTAMP:20260421T122808
CREATED:20230526T151528Z
LAST-MODIFIED:20230526T151528Z
UID:10000299-1700560800-1700564400@rosss.ca
SUMMARY:Hyfield Fitness
DESCRIPTION:Please join us for a fun\, active morning at Hyfield Place in Manotick.
URL:https://rosss.ca/event/hyfield-fitness-2/2023-11-21/
LOCATION:ON
END:VEVENT
BEGIN:VEVENT
DTSTART;TZID=America/Toronto:20231121T080000
DTEND;TZID=America/Toronto:20231121T170000
DTSTAMP:20260421T122809
CREATED:20231107T150533Z
LAST-MODIFIED:20231107T150533Z
UID:10000833-1700553600-1700586000@rosss.ca
SUMMARY:Counselling - By Appointment
DESCRIPTION:One on one counselling service for those requiring professional assistance. \nNote: Appointments are required.
URL:https://rosss.ca/event/counselling-by-appointment/2023-11-21/
LOCATION:ON
END:VEVENT
BEGIN:VEVENT
DTSTART;TZID=America/Toronto:20231120T123000
DTEND;TZID=America/Toronto:20231120T143000
DTSTAMP:20260421T122809
CREATED:20231107T115906Z
LAST-MODIFIED:20231107T115906Z
UID:10000665-1700483400-1700490600@rosss.ca
SUMMARY:Pickleball
DESCRIPTION:Join us for a fun and active program playing pickleball! Bring your running shoes! \nNOTE: Registration is required.
URL:https://rosss.ca/event/pickleball-3/2023-11-20/
LOCATION:ON
END:VEVENT
BEGIN:VEVENT
DTSTART;TZID=America/Toronto:20231120T120000
DTEND;TZID=America/Toronto:20231120T133000
DTSTAMP:20260421T122809
CREATED:20230526T153647Z
LAST-MODIFIED:20230526T153648Z
UID:10000179-1700481600-1700487000@rosss.ca
SUMMARY:Connections Lunch
DESCRIPTION:Enjoy good food and even better company at our favourite restaurants in Manotick\, Richmond\, Metcalfe\, and North Gower! Connections lunches provide an opportunity to connect with friends and meet new people in the community. Groups will be notified a week in advance to register for lunches.
URL:https://rosss.ca/event/connections-lunch-2/2023-11-20/
LOCATION:ON
END:VEVENT
BEGIN:VEVENT
DTSTART;TZID=America/Toronto:20231117T123000
DTEND;TZID=America/Toronto:20231117T143000
DTSTAMP:20260421T122809
CREATED:20231107T120221Z
LAST-MODIFIED:20231107T143839Z
UID:10000778-1700224200-1700231400@rosss.ca
SUMMARY:Pickleball
DESCRIPTION:Join us for a fun and active program playing pickleball! Bring your running shoes! \nNOTE: Registration is required.
URL:https://rosss.ca/event/pickleball-5/2023-11-17/
LOCATION:ON
END:VEVENT
BEGIN:VEVENT
DTSTART;TZID=America/Toronto:20231117T100000
DTEND;TZID=America/Toronto:20231117T120000
DTSTAMP:20260421T122809
CREATED:20230131T194009Z
LAST-MODIFIED:20230209T154459Z
UID:10000565-1700215200-1700222400@rosss.ca
SUMMARY:Cultured Purls
DESCRIPTION:Calling all knitters! Join us for good conversation while you finish your latest projects.
URL:https://rosss.ca/event/cultured-purls/2023-11-17/
LOCATION:ON
END:VEVENT
BEGIN:VEVENT
DTSTART;TZID=America/Toronto:20231116T133000
DTEND;TZID=America/Toronto:20231116T153000
DTSTAMP:20260421T122809
CREATED:20231107T120034Z
LAST-MODIFIED:20231107T120034Z
UID:10000694-1700141400-1700148600@rosss.ca
SUMMARY:Pickleball
DESCRIPTION:Join us for a fun and active program playing pickleball! Bring your running shoes! \nNOTE: Registration is required.
URL:https://rosss.ca/event/pickleball-4/2023-11-16/
LOCATION:ON
END:VEVENT
BEGIN:VEVENT
DTSTART;TZID=America/Toronto:20231116T100000
DTEND;TZID=America/Toronto:20231116T150000
DTSTAMP:20260421T122809
CREATED:20230131T193857Z
LAST-MODIFIED:20230209T154211Z
UID:10000504-1700128800-1700146800@rosss.ca
SUMMARY:Adult Day Program
DESCRIPTION:The Adult Day Program provides supervised individual programming in a group setting for older adults\, who may be physically frail\, cognitively impaired and/or socially isolated. Our program is designed to assist participants in achieving and maintaining their maximum level of functioning\, to prevent premature and inappropriate institutionalization and to provide respite and information for caregivers. Program elements include planned social\, recreational and physical activities\, snacks and lunch. Transportation is available upon request. NOTE: The Adult Day Program is open to registered clients only.
URL:https://rosss.ca/event/adult-day-program/2023-11-16/
LOCATION:ON
END:VEVENT
BEGIN:VEVENT
DTSTART;TZID=America/Toronto:20231115T133000
DTEND;TZID=America/Toronto:20231115T150000
DTSTAMP:20260421T122809
CREATED:20231107T121651Z
LAST-MODIFIED:20231219T200600Z
UID:10000761-1700055000-1700060400@rosss.ca
SUMMARY:Richmond Drop-in
DESCRIPTION:Drop-in for a sociable chat\, game of bingo and various fun topics and presenters.
URL:https://rosss.ca/event/richmond-drop-in/2023-11-15/
LOCATION:ON
END:VEVENT
BEGIN:VEVENT
DTSTART;TZID=America/Toronto:20231115T100000
DTEND;TZID=America/Toronto:20231115T120000
DTSTAMP:20260421T122809
CREATED:20231107T115144Z
LAST-MODIFIED:20231107T115144Z
UID:10000415-1700042400-1700049600@rosss.ca
SUMMARY:Manotick Drop-in
DESCRIPTION:Drop-in for a sociable chat\, game of bingo and various fun topics and presenters.
URL:https://rosss.ca/event/manotick-drop-in-2/2023-11-15/
LOCATION:ON
END:VEVENT
BEGIN:VEVENT
DTSTART;TZID=America/Toronto:20231114T100000
DTEND;TZID=America/Toronto:20231114T110000
DTSTAMP:20260421T122809
CREATED:20230526T151528Z
LAST-MODIFIED:20230526T151528Z
UID:10000298-1699956000-1699959600@rosss.ca
SUMMARY:Hyfield Fitness
DESCRIPTION:Please join us for a fun\, active morning at Hyfield Place in Manotick.
URL:https://rosss.ca/event/hyfield-fitness-2/2023-11-14/
LOCATION:ON
END:VEVENT
BEGIN:VEVENT
DTSTART;TZID=America/Toronto:20231114T080000
DTEND;TZID=America/Toronto:20231114T170000
DTSTAMP:20260421T122809
CREATED:20231107T150533Z
LAST-MODIFIED:20231107T150533Z
UID:10000832-1699948800-1699981200@rosss.ca
SUMMARY:Counselling - By Appointment
DESCRIPTION:One on one counselling service for those requiring professional assistance. \nNote: Appointments are required.
URL:https://rosss.ca/event/counselling-by-appointment/2023-11-14/
LOCATION:ON
END:VEVENT
BEGIN:VEVENT
DTSTART;TZID=America/Toronto:20231113T123000
DTEND;TZID=America/Toronto:20231113T143000
DTSTAMP:20260421T122809
CREATED:20231107T115906Z
LAST-MODIFIED:20231107T115906Z
UID:10000664-1699878600-1699885800@rosss.ca
SUMMARY:Pickleball
DESCRIPTION:Join us for a fun and active program playing pickleball! Bring your running shoes! \nNOTE: Registration is required.
URL:https://rosss.ca/event/pickleball-3/2023-11-13/
LOCATION:ON
END:VEVENT
BEGIN:VEVENT
DTSTART;TZID=America/Toronto:20231113T120000
DTEND;TZID=America/Toronto:20231113T133000
DTSTAMP:20260421T122809
CREATED:20230526T153647Z
LAST-MODIFIED:20230526T153648Z
UID:10000178-1699876800-1699882200@rosss.ca
SUMMARY:Connections Lunch
DESCRIPTION:Enjoy good food and even better company at our favourite restaurants in Manotick\, Richmond\, Metcalfe\, and North Gower! Connections lunches provide an opportunity to connect with friends and meet new people in the community. Groups will be notified a week in advance to register for lunches.
URL:https://rosss.ca/event/connections-lunch-2/2023-11-13/
LOCATION:ON
END:VEVENT
BEGIN:VEVENT
DTSTART;TZID=America/Toronto:20231110T123000
DTEND;TZID=America/Toronto:20231110T143000
DTSTAMP:20260421T122809
CREATED:20231107T120221Z
LAST-MODIFIED:20231107T143839Z
UID:10000777-1699619400-1699626600@rosss.ca
SUMMARY:Pickleball
DESCRIPTION:Join us for a fun and active program playing pickleball! Bring your running shoes! \nNOTE: Registration is required.
URL:https://rosss.ca/event/pickleball-5/2023-11-10/
LOCATION:ON
END:VEVENT
BEGIN:VEVENT
DTSTART;TZID=America/Toronto:20231110T100000
DTEND;TZID=America/Toronto:20231110T120000
DTSTAMP:20260421T122809
CREATED:20230131T194009Z
LAST-MODIFIED:20230209T154459Z
UID:10000564-1699610400-1699617600@rosss.ca
SUMMARY:Cultured Purls
DESCRIPTION:Calling all knitters! Join us for good conversation while you finish your latest projects.
URL:https://rosss.ca/event/cultured-purls/2023-11-10/
LOCATION:ON
END:VEVENT
END:VCALENDAR