BEGIN:VCALENDAR
VERSION:2.0
PRODID:-//ROSSS - ECPv6.15.20//NONSGML v1.0//EN
CALSCALE:GREGORIAN
METHOD:PUBLISH
X-ORIGINAL-URL:https://rosss.ca
X-WR-CALDESC:Events for ROSSS
REFRESH-INTERVAL;VALUE=DURATION:PT1H
X-Robots-Tag:noindex
X-PUBLISHED-TTL:PT1H
BEGIN:VTIMEZONE
TZID:America/Toronto
BEGIN:DAYLIGHT
TZOFFSETFROM:-0500
TZOFFSETTO:-0400
TZNAME:EDT
DTSTART:20220313T070000
END:DAYLIGHT
BEGIN:STANDARD
TZOFFSETFROM:-0400
TZOFFSETTO:-0500
TZNAME:EST
DTSTART:20221106T060000
END:STANDARD
BEGIN:DAYLIGHT
TZOFFSETFROM:-0500
TZOFFSETTO:-0400
TZNAME:EDT
DTSTART:20230312T070000
END:DAYLIGHT
BEGIN:STANDARD
TZOFFSETFROM:-0400
TZOFFSETTO:-0500
TZNAME:EST
DTSTART:20231105T060000
END:STANDARD
BEGIN:DAYLIGHT
TZOFFSETFROM:-0500
TZOFFSETTO:-0400
TZNAME:EDT
DTSTART:20240310T070000
END:DAYLIGHT
BEGIN:STANDARD
TZOFFSETFROM:-0400
TZOFFSETTO:-0500
TZNAME:EST
DTSTART:20241103T060000
END:STANDARD
END:VTIMEZONE
BEGIN:VEVENT
DTSTART;TZID=America/Toronto:20230609T100000
DTEND;TZID=America/Toronto:20230609T120000
DTSTAMP:20260421T182417
CREATED:20230131T194009Z
LAST-MODIFIED:20230209T154459Z
UID:10000542-1686304800-1686312000@rosss.ca
SUMMARY:Cultured Purls
DESCRIPTION:Calling all knitters! Join us for good conversation while you finish your latest projects.
URL:https://rosss.ca/event/cultured-purls/2023-06-09/
LOCATION:ON
END:VEVENT
BEGIN:VEVENT
DTSTART;TZID=America/Toronto:20230609T083000
DTEND;TZID=America/Toronto:20230609T103000
DTSTAMP:20260421T182417
CREATED:20230321T120630Z
LAST-MODIFIED:20230321T120630Z
UID:10000624-1686299400-1686306600@rosss.ca
SUMMARY:Manotick Breakfast
DESCRIPTION:The Manotick Breakfast is back! The Breakfast will take place at the Manotick Legion on the second Friday of each month. Registration is required. Please contact Merry Parkinson at 613-692-4697 ext. 226.
URL:https://rosss.ca/event/manotick-breakfast/2023-06-09/
LOCATION:ON
END:VEVENT
BEGIN:VEVENT
DTSTART;TZID=America/Toronto:20230608T100000
DTEND;TZID=America/Toronto:20230608T150000
DTSTAMP:20260421T182417
CREATED:20230131T193857Z
LAST-MODIFIED:20230209T154211Z
UID:10000481-1686218400-1686236400@rosss.ca
SUMMARY:Adult Day Program
DESCRIPTION:The Adult Day Program provides supervised individual programming in a group setting for older adults\, who may be physically frail\, cognitively impaired and/or socially isolated. Our program is designed to assist participants in achieving and maintaining their maximum level of functioning\, to prevent premature and inappropriate institutionalization and to provide respite and information for caregivers. Program elements include planned social\, recreational and physical activities\, snacks and lunch. Transportation is available upon request. NOTE: The Adult Day Program is open to registered clients only.
URL:https://rosss.ca/event/adult-day-program/2023-06-08/
LOCATION:ON
END:VEVENT
BEGIN:VEVENT
DTSTART;TZID=America/Toronto:20230607T100000
DTEND;TZID=America/Toronto:20230607T120000
DTSTAMP:20260421T182417
CREATED:20230131T192810Z
LAST-MODIFIED:20230209T153921Z
UID:10000392-1686132000-1686139200@rosss.ca
SUMMARY:Manotick Drop-in
DESCRIPTION:Drop-in for a sociable chat\, game of bingo and various fun topics and presenters.
URL:https://rosss.ca/event/manotick-drop-in/2023-06-07/
LOCATION:ON
END:VEVENT
BEGIN:VEVENT
DTSTART;TZID=America/Toronto:20230605T120000
DTEND;TZID=America/Toronto:20230605T140000
DTSTAMP:20260421T182417
CREATED:20230526T152106Z
LAST-MODIFIED:20230526T152106Z
UID:10000052-1685966400-1685973600@rosss.ca
SUMMARY:Pickleball
DESCRIPTION:Please join us for a fun and active drop-in program playing pickleball. Please note there is a drop-in fee of $4.00 for this program.
URL:https://rosss.ca/event/pickleball-2/2023-06-05/
LOCATION:Greely Community Centre\, 1448 Meadow Dr\, Greely\, ON\, Canada
END:VEVENT
BEGIN:VEVENT
DTSTART;TZID=America/Toronto:20230605T120000
DTEND;TZID=America/Toronto:20230605T133000
DTSTAMP:20260421T182417
CREATED:20230526T153647Z
LAST-MODIFIED:20230526T153648Z
UID:10000155-1685966400-1685971800@rosss.ca
SUMMARY:Connections Lunch
DESCRIPTION:Enjoy good food and even better company at our favourite restaurants in Manotick\, Richmond\, Metcalfe\, and North Gower! Connections lunches provide an opportunity to connect with friends and meet new people in the community. Groups will be notified a week in advance to register for lunches.
URL:https://rosss.ca/event/connections-lunch-2/2023-06-05/
LOCATION:ON
END:VEVENT
BEGIN:VEVENT
DTSTART;TZID=America/Toronto:20230602T120000
DTEND;TZID=America/Toronto:20230602T140000
DTSTAMP:20260421T182417
CREATED:20230526T152106Z
LAST-MODIFIED:20230526T152106Z
UID:10000051-1685707200-1685714400@rosss.ca
SUMMARY:Pickleball
DESCRIPTION:Please join us for a fun and active drop-in program playing pickleball. Please note there is a drop-in fee of $4.00 for this program.
URL:https://rosss.ca/event/pickleball-2/2023-06-02/
LOCATION:Greely Community Centre\, 1448 Meadow Dr\, Greely\, ON\, Canada
END:VEVENT
BEGIN:VEVENT
DTSTART;TZID=America/Toronto:20230602T100000
DTEND;TZID=America/Toronto:20230602T120000
DTSTAMP:20260421T182417
CREATED:20230131T194009Z
LAST-MODIFIED:20230209T154459Z
UID:10000541-1685700000-1685707200@rosss.ca
SUMMARY:Cultured Purls
DESCRIPTION:Calling all knitters! Join us for good conversation while you finish your latest projects.
URL:https://rosss.ca/event/cultured-purls/2023-06-02/
LOCATION:ON
END:VEVENT
BEGIN:VEVENT
DTSTART;TZID=America/Toronto:20230601T100000
DTEND;TZID=America/Toronto:20230601T150000
DTSTAMP:20260421T182417
CREATED:20230131T193857Z
LAST-MODIFIED:20230209T154211Z
UID:10000480-1685613600-1685631600@rosss.ca
SUMMARY:Adult Day Program
DESCRIPTION:The Adult Day Program provides supervised individual programming in a group setting for older adults\, who may be physically frail\, cognitively impaired and/or socially isolated. Our program is designed to assist participants in achieving and maintaining their maximum level of functioning\, to prevent premature and inappropriate institutionalization and to provide respite and information for caregivers. Program elements include planned social\, recreational and physical activities\, snacks and lunch. Transportation is available upon request. NOTE: The Adult Day Program is open to registered clients only.
URL:https://rosss.ca/event/adult-day-program/2023-06-01/
LOCATION:ON
END:VEVENT
BEGIN:VEVENT
DTSTART;TZID=America/Toronto:20230531T100000
DTEND;TZID=America/Toronto:20230531T120000
DTSTAMP:20260421T182417
CREATED:20230131T192810Z
LAST-MODIFIED:20230209T153921Z
UID:10000391-1685527200-1685534400@rosss.ca
SUMMARY:Manotick Drop-in
DESCRIPTION:Drop-in for a sociable chat\, game of bingo and various fun topics and presenters.
URL:https://rosss.ca/event/manotick-drop-in/2023-05-31/
LOCATION:ON
END:VEVENT
BEGIN:VEVENT
DTSTART;TZID=America/Toronto:20230530T100000
DTEND;TZID=America/Toronto:20230530T120000
DTSTAMP:20260421T182417
CREATED:20250703T211450Z
LAST-MODIFIED:20250703T211450Z
UID:10003047-1685440800-1685448000@rosss.ca
SUMMARY:Osgoode Drop-in
DESCRIPTION:Drop-in for a sociable chat\, game of bingo and various fun topics and presenters. \n* Intergeneration Event will take place at O-YA\, 5479 Osgoode Main St. Contact for details and to register. \n****FOR DAYS WITH INCLEMENT WEATHER PLEASE CALL TO VERIFY IF PROGRAMS ARE RUNNING**** \n*For information regarding any of the programs noted on the calendar\, please contact Lyn Rorke 613- 692-4697 ext 224. \n**For transportation requests to any of our programs please call Tina Brohart at 613-692-4697 ext 237
URL:https://rosss.ca/event/osgoode-drop-in-3/
LOCATION:O-YA\, 5479 Osgoode Main St\, Osgoode\, ON\, K0A 2W0\, Canada
CATEGORIES:Community Events
ATTACH;FMTTYPE=image/jpeg:https://rosss.ca/wp-content/uploads/2023/05/Osgoode-Youth-Association-ROSSS-Events.jpg
END:VEVENT
BEGIN:VEVENT
DTSTART;TZID=America/Toronto:20230530T100000
DTEND;TZID=America/Toronto:20230530T120000
DTSTAMP:20260421T182417
CREATED:20230526T151837Z
LAST-MODIFIED:20250326T191521Z
UID:10000214-1685440800-1685448000@rosss.ca
SUMMARY:Osgoode Drop-in
DESCRIPTION:Drop-in for a sociable chat\, game of bingo and various fun topics and presenters.
URL:https://rosss.ca/event/osgoode-drop-in-2/2023-05-30/
LOCATION:ON
CATEGORIES:Community Events
ATTACH;FMTTYPE=image/jpeg:https://rosss.ca/wp-content/uploads/2023/05/Osgoode-Youth-Association-ROSSS-Events.jpg
END:VEVENT
BEGIN:VEVENT
DTSTART;TZID=America/Toronto:20230530T100000
DTEND;TZID=America/Toronto:20230530T110000
DTSTAMP:20260421T182417
CREATED:20230526T151528Z
LAST-MODIFIED:20230526T151528Z
UID:10000274-1685440800-1685444400@rosss.ca
SUMMARY:Hyfield Fitness
DESCRIPTION:Please join us for a fun\, active morning at Hyfield Place in Manotick.
URL:https://rosss.ca/event/hyfield-fitness-2/2023-05-30/
LOCATION:ON
END:VEVENT
BEGIN:VEVENT
DTSTART;TZID=America/Toronto:20230529T120000
DTEND;TZID=America/Toronto:20230529T140000
DTSTAMP:20260421T182417
CREATED:20230526T152106Z
LAST-MODIFIED:20230526T152106Z
UID:10000050-1685361600-1685368800@rosss.ca
SUMMARY:Pickleball
DESCRIPTION:Please join us for a fun and active drop-in program playing pickleball. Please note there is a drop-in fee of $4.00 for this program.
URL:https://rosss.ca/event/pickleball-2/2023-05-29/
LOCATION:Greely Community Centre\, 1448 Meadow Dr\, Greely\, ON\, Canada
END:VEVENT
BEGIN:VEVENT
DTSTART;TZID=America/Toronto:20230529T120000
DTEND;TZID=America/Toronto:20230529T133000
DTSTAMP:20260421T182417
CREATED:20230526T153647Z
LAST-MODIFIED:20230526T153648Z
UID:10000154-1685361600-1685367000@rosss.ca
SUMMARY:Connections Lunch
DESCRIPTION:Enjoy good food and even better company at our favourite restaurants in Manotick\, Richmond\, Metcalfe\, and North Gower! Connections lunches provide an opportunity to connect with friends and meet new people in the community. Groups will be notified a week in advance to register for lunches.
URL:https://rosss.ca/event/connections-lunch-2/2023-05-29/
LOCATION:ON
END:VEVENT
BEGIN:VEVENT
DTSTART;TZID=America/Toronto:20230526T120000
DTEND;TZID=America/Toronto:20230526T140000
DTSTAMP:20260421T182417
CREATED:20230526T152106Z
LAST-MODIFIED:20230526T152106Z
UID:10000049-1685102400-1685109600@rosss.ca
SUMMARY:Pickleball
DESCRIPTION:Please join us for a fun and active drop-in program playing pickleball. Please note there is a drop-in fee of $4.00 for this program.
URL:https://rosss.ca/event/pickleball-2/2023-05-26/
LOCATION:Greely Community Centre\, 1448 Meadow Dr\, Greely\, ON\, Canada
END:VEVENT
BEGIN:VEVENT
DTSTART;TZID=America/Toronto:20230526T100000
DTEND;TZID=America/Toronto:20230526T120000
DTSTAMP:20260421T182417
CREATED:20230131T194009Z
LAST-MODIFIED:20230209T154459Z
UID:10000540-1685095200-1685102400@rosss.ca
SUMMARY:Cultured Purls
DESCRIPTION:Calling all knitters! Join us for good conversation while you finish your latest projects.
URL:https://rosss.ca/event/cultured-purls/2023-05-26/
LOCATION:ON
END:VEVENT
BEGIN:VEVENT
DTSTART;TZID=America/Toronto:20230525T100000
DTEND;TZID=America/Toronto:20230525T150000
DTSTAMP:20260421T182417
CREATED:20230131T193857Z
LAST-MODIFIED:20230209T154211Z
UID:10000479-1685008800-1685026800@rosss.ca
SUMMARY:Adult Day Program
DESCRIPTION:The Adult Day Program provides supervised individual programming in a group setting for older adults\, who may be physically frail\, cognitively impaired and/or socially isolated. Our program is designed to assist participants in achieving and maintaining their maximum level of functioning\, to prevent premature and inappropriate institutionalization and to provide respite and information for caregivers. Program elements include planned social\, recreational and physical activities\, snacks and lunch. Transportation is available upon request. NOTE: The Adult Day Program is open to registered clients only.
URL:https://rosss.ca/event/adult-day-program/2023-05-25/
LOCATION:ON
END:VEVENT
BEGIN:VEVENT
DTSTART;TZID=America/Toronto:20230524T100000
DTEND;TZID=America/Toronto:20230524T120000
DTSTAMP:20260421T182417
CREATED:20230131T192810Z
LAST-MODIFIED:20230209T153921Z
UID:10000390-1684922400-1684929600@rosss.ca
SUMMARY:Manotick Drop-in
DESCRIPTION:Drop-in for a sociable chat\, game of bingo and various fun topics and presenters.
URL:https://rosss.ca/event/manotick-drop-in/2023-05-24/
LOCATION:ON
END:VEVENT
BEGIN:VEVENT
DTSTART;TZID=America/Toronto:20230523T100000
DTEND;TZID=America/Toronto:20230523T120000
DTSTAMP:20260421T182418
CREATED:20230131T184331Z
LAST-MODIFIED:20230209T154935Z
UID:10000213-1684836000-1684843200@rosss.ca
SUMMARY:Osgoode Drop-in
DESCRIPTION:Drop-in for a sociable chat\, game of bingo and various fun topics and presenters.
URL:https://rosss.ca/event/osgoode-drop-in/2023-05-23/
LOCATION:ON
END:VEVENT
BEGIN:VEVENT
DTSTART;TZID=America/Toronto:20230523T100000
DTEND;TZID=America/Toronto:20230523T110000
DTSTAMP:20260421T182418
CREATED:20230131T184648Z
LAST-MODIFIED:20230209T154902Z
UID:10000273-1684836000-1684839600@rosss.ca
SUMMARY:Hyfield Fitness
DESCRIPTION:Please join us for a fun\, active morning at Hyfield Place in Manotick.
URL:https://rosss.ca/event/hyfield-fitness/2023-05-23/
LOCATION:ON
END:VEVENT
BEGIN:VEVENT
DTSTART;VALUE=DATE:20230522
DTEND;VALUE=DATE:20230523
DTSTAMP:20260421T182418
CREATED:20230209T160743Z
LAST-MODIFIED:20230209T160743Z
UID:10000606-1684713600-1684799999@rosss.ca
SUMMARY:VICTORIA DAY
DESCRIPTION:
URL:https://rosss.ca/event/victoria-day/
LOCATION:ON
END:VEVENT
BEGIN:VEVENT
DTSTART;TZID=America/Toronto:20230519T120000
DTEND;TZID=America/Toronto:20230519T140000
DTSTAMP:20260421T182418
CREATED:20230127T180533Z
LAST-MODIFIED:20230203T170131Z
UID:10000047-1684497600-1684504800@rosss.ca
SUMMARY:Pickleball
DESCRIPTION:Please join us for a fun and active drop-in program playing pickleball. Please note there is a drop-in fee of $4.00 for this program.
URL:https://rosss.ca/event/pickleball/2023-05-19/
LOCATION:Greely Community Centre\, 1448 Meadow Dr\, Greely\, ON\, Canada
END:VEVENT
BEGIN:VEVENT
DTSTART;TZID=America/Toronto:20230519T100000
DTEND;TZID=America/Toronto:20230519T120000
DTSTAMP:20260421T182418
CREATED:20230131T194009Z
LAST-MODIFIED:20230209T154459Z
UID:10000539-1684490400-1684497600@rosss.ca
SUMMARY:Cultured Purls
DESCRIPTION:Calling all knitters! Join us for good conversation while you finish your latest projects.
URL:https://rosss.ca/event/cultured-purls/2023-05-19/
LOCATION:ON
END:VEVENT
BEGIN:VEVENT
DTSTART;TZID=America/Toronto:20230518T100000
DTEND;TZID=America/Toronto:20230518T150000
DTSTAMP:20260421T182418
CREATED:20230131T193857Z
LAST-MODIFIED:20230209T154211Z
UID:10000478-1684404000-1684422000@rosss.ca
SUMMARY:Adult Day Program
DESCRIPTION:The Adult Day Program provides supervised individual programming in a group setting for older adults\, who may be physically frail\, cognitively impaired and/or socially isolated. Our program is designed to assist participants in achieving and maintaining their maximum level of functioning\, to prevent premature and inappropriate institutionalization and to provide respite and information for caregivers. Program elements include planned social\, recreational and physical activities\, snacks and lunch. Transportation is available upon request. NOTE: The Adult Day Program is open to registered clients only.
URL:https://rosss.ca/event/adult-day-program/2023-05-18/
LOCATION:ON
END:VEVENT
BEGIN:VEVENT
DTSTART;TZID=America/Toronto:20230517T130000
DTEND;TZID=America/Toronto:20230517T143000
DTSTAMP:20260421T182418
CREATED:20230131T193323Z
LAST-MODIFIED:20231107T121238Z
UID:10000452-1684328400-1684333800@rosss.ca
SUMMARY:Goodwood Apartments Drop-in
DESCRIPTION:Drop-in for a sociable chat\, game of bingo and various fun topics and presenters.
URL:https://rosss.ca/event/goodwood-apartments-drop-in/2023-05-17/
LOCATION:ON
END:VEVENT
BEGIN:VEVENT
DTSTART;TZID=America/Toronto:20230517T100000
DTEND;TZID=America/Toronto:20230517T120000
DTSTAMP:20260421T182418
CREATED:20230131T192810Z
LAST-MODIFIED:20230209T153921Z
UID:10000389-1684317600-1684324800@rosss.ca
SUMMARY:Manotick Drop-in
DESCRIPTION:Drop-in for a sociable chat\, game of bingo and various fun topics and presenters.
URL:https://rosss.ca/event/manotick-drop-in/2023-05-17/
LOCATION:ON
END:VEVENT
BEGIN:VEVENT
DTSTART;TZID=America/Toronto:20230516T100000
DTEND;TZID=America/Toronto:20230516T120000
DTSTAMP:20260421T182418
CREATED:20230131T184331Z
LAST-MODIFIED:20230209T154935Z
UID:10000212-1684231200-1684238400@rosss.ca
SUMMARY:Osgoode Drop-in
DESCRIPTION:Drop-in for a sociable chat\, game of bingo and various fun topics and presenters.
URL:https://rosss.ca/event/osgoode-drop-in/2023-05-16/
LOCATION:ON
END:VEVENT
BEGIN:VEVENT
DTSTART;TZID=America/Toronto:20230516T100000
DTEND;TZID=America/Toronto:20230516T110000
DTSTAMP:20260421T182418
CREATED:20230131T184648Z
LAST-MODIFIED:20230209T154902Z
UID:10000272-1684231200-1684234800@rosss.ca
SUMMARY:Hyfield Fitness
DESCRIPTION:Please join us for a fun\, active morning at Hyfield Place in Manotick.
URL:https://rosss.ca/event/hyfield-fitness/2023-05-16/
LOCATION:ON
END:VEVENT
BEGIN:VEVENT
DTSTART;TZID=America/Toronto:20230515T120000
DTEND;TZID=America/Toronto:20230515T140000
DTSTAMP:20260421T182418
CREATED:20230127T180533Z
LAST-MODIFIED:20230203T170131Z
UID:10000046-1684152000-1684159200@rosss.ca
SUMMARY:Pickleball
DESCRIPTION:Please join us for a fun and active drop-in program playing pickleball. Please note there is a drop-in fee of $4.00 for this program.
URL:https://rosss.ca/event/pickleball/2023-05-15/
LOCATION:Greely Community Centre\, 1448 Meadow Dr\, Greely\, ON\, Canada
END:VEVENT
END:VCALENDAR