BEGIN:VCALENDAR
VERSION:2.0
PRODID:-//ROSSS - ECPv6.15.20//NONSGML v1.0//EN
CALSCALE:GREGORIAN
METHOD:PUBLISH
X-ORIGINAL-URL:https://rosss.ca
X-WR-CALDESC:Events for ROSSS
REFRESH-INTERVAL;VALUE=DURATION:PT1H
X-Robots-Tag:noindex
X-PUBLISHED-TTL:PT1H
BEGIN:VTIMEZONE
TZID:America/Toronto
BEGIN:DAYLIGHT
TZOFFSETFROM:-0500
TZOFFSETTO:-0400
TZNAME:EDT
DTSTART:20220313T070000
END:DAYLIGHT
BEGIN:STANDARD
TZOFFSETFROM:-0400
TZOFFSETTO:-0500
TZNAME:EST
DTSTART:20221106T060000
END:STANDARD
BEGIN:DAYLIGHT
TZOFFSETFROM:-0500
TZOFFSETTO:-0400
TZNAME:EDT
DTSTART:20230312T070000
END:DAYLIGHT
BEGIN:STANDARD
TZOFFSETFROM:-0400
TZOFFSETTO:-0500
TZNAME:EST
DTSTART:20231105T060000
END:STANDARD
BEGIN:DAYLIGHT
TZOFFSETFROM:-0500
TZOFFSETTO:-0400
TZNAME:EDT
DTSTART:20240310T070000
END:DAYLIGHT
BEGIN:STANDARD
TZOFFSETFROM:-0400
TZOFFSETTO:-0500
TZNAME:EST
DTSTART:20241103T060000
END:STANDARD
END:VTIMEZONE
BEGIN:VEVENT
DTSTART;TZID=America/Toronto:20230203T120000
DTEND;TZID=America/Toronto:20230203T140000
DTSTAMP:20260422T010834
CREATED:20230127T180533Z
LAST-MODIFIED:20230203T170131Z
UID:10000585-1675425600-1675432800@rosss.ca
SUMMARY:Pickleball
DESCRIPTION:Please join us for a fun and active drop-in program playing pickleball. Please note there is a drop-in fee of $4.00 for this program.
URL:https://rosss.ca/event/pickleball/2023-02-03/
LOCATION:Greely Community Centre\, 1448 Meadow Dr\, Greely\, ON\, Canada
END:VEVENT
BEGIN:VEVENT
DTSTART;TZID=America/Toronto:20230203T100000
DTEND;TZID=America/Toronto:20230203T120000
DTSTAMP:20260422T010835
CREATED:20230131T194009Z
LAST-MODIFIED:20230209T154459Z
UID:10000524-1675418400-1675425600@rosss.ca
SUMMARY:Cultured Purls
DESCRIPTION:Calling all knitters! Join us for good conversation while you finish your latest projects.
URL:https://rosss.ca/event/cultured-purls/2023-02-03/
END:VEVENT
BEGIN:VEVENT
DTSTART;TZID=America/Toronto:20230202T100000
DTEND;TZID=America/Toronto:20230202T150000
DTSTAMP:20260422T010835
CREATED:20230131T193857Z
LAST-MODIFIED:20230209T154211Z
UID:10000463-1675332000-1675350000@rosss.ca
SUMMARY:Adult Day Program
DESCRIPTION:The Adult Day Program provides supervised individual programming in a group setting for older adults\, who may be physically frail\, cognitively impaired and/or socially isolated. Our program is designed to assist participants in achieving and maintaining their maximum level of functioning\, to prevent premature and inappropriate institutionalization and to provide respite and information for caregivers. Program elements include planned social\, recreational and physical activities\, snacks and lunch. Transportation is available upon request. NOTE: The Adult Day Program is open to registered clients only.
URL:https://rosss.ca/event/adult-day-program/2023-02-02/
END:VEVENT
BEGIN:VEVENT
DTSTART;TZID=America/Toronto:20230201T123000
DTEND;TZID=America/Toronto:20230201T140000
DTSTAMP:20260422T010835
CREATED:20230131T193025Z
LAST-MODIFIED:20230131T193025Z
UID:10000435-1675254600-1675260000@rosss.ca
SUMMARY:Connections Lunch (Richmond)
DESCRIPTION:Enjoy good food and even better company at our favourite restaurants in Richmond! Connections lunches provide an opportunity to connect with friends and meet new people in the community. Groups will be notified a week in advance to register for lunches.
URL:https://rosss.ca/event/connections-lunch-richmond/2023-02-01/
END:VEVENT
BEGIN:VEVENT
DTSTART;TZID=America/Toronto:20230201T100000
DTEND;TZID=America/Toronto:20230201T140000
DTSTAMP:20260422T010835
CREATED:20230131T191227Z
LAST-MODIFIED:20230209T154323Z
UID:10000346-1675245600-1675260000@rosss.ca
SUMMARY:Combined Adult Day/Caregiver Support Program
DESCRIPTION:Caregivers come together and support one another through their caregiving journey\, while your loved one attends the Adult Day Program. This program includes group discussions\, professional speakers and support resources. Open to registered participants only. \nFor more information\, please contact the ROSSS office 613-692-4697 ext. 226 or email info@rosss.ca to register.
URL:https://rosss.ca/event/combined-adult-day-caregiver-support-program/2023-02-01/
END:VEVENT
BEGIN:VEVENT
DTSTART;TZID=America/Toronto:20230201T100000
DTEND;TZID=America/Toronto:20230201T120000
DTSTAMP:20260422T010835
CREATED:20230131T192810Z
LAST-MODIFIED:20230209T153921Z
UID:10000374-1675245600-1675252800@rosss.ca
SUMMARY:Manotick Drop-in
DESCRIPTION:Drop-in for a sociable chat\, game of bingo and various fun topics and presenters.
URL:https://rosss.ca/event/manotick-drop-in/2023-02-01/
END:VEVENT
END:VCALENDAR