BEGIN:VCALENDAR
VERSION:2.0
PRODID:-//ROSSS - ECPv6.15.20//NONSGML v1.0//EN
CALSCALE:GREGORIAN
METHOD:PUBLISH
X-ORIGINAL-URL:https://rosss.ca
X-WR-CALDESC:Events for ROSSS
REFRESH-INTERVAL;VALUE=DURATION:PT1H
X-Robots-Tag:noindex
X-PUBLISHED-TTL:PT1H
BEGIN:VTIMEZONE
TZID:America/Toronto
BEGIN:DAYLIGHT
TZOFFSETFROM:-0500
TZOFFSETTO:-0400
TZNAME:EDT
DTSTART:20240310T070000
END:DAYLIGHT
BEGIN:STANDARD
TZOFFSETFROM:-0400
TZOFFSETTO:-0500
TZNAME:EST
DTSTART:20241103T060000
END:STANDARD
BEGIN:DAYLIGHT
TZOFFSETFROM:-0500
TZOFFSETTO:-0400
TZNAME:EDT
DTSTART:20250309T070000
END:DAYLIGHT
BEGIN:STANDARD
TZOFFSETFROM:-0400
TZOFFSETTO:-0500
TZNAME:EST
DTSTART:20251102T060000
END:STANDARD
BEGIN:DAYLIGHT
TZOFFSETFROM:-0500
TZOFFSETTO:-0400
TZNAME:EDT
DTSTART:20260308T070000
END:DAYLIGHT
BEGIN:STANDARD
TZOFFSETFROM:-0400
TZOFFSETTO:-0500
TZNAME:EST
DTSTART:20261101T060000
END:STANDARD
END:VTIMEZONE
BEGIN:VEVENT
DTSTART;TZID=America/Toronto:20250520T100000
DTEND;TZID=America/Toronto:20250520T150000
DTSTAMP:20260421T132408
CREATED:20250326T151244Z
LAST-MODIFIED:20250828T004753Z
UID:10002685-1747735200-1747753200@rosss.ca
SUMMARY:Adult Day Program
DESCRIPTION:Adult Day Program is by referral only by the HCCSS.\nTuesday ADP group is from 10am-3pm and the Caregivers is 10am- 12pm.\n\n****FOR DAYS WITH INCLEMENT WEATHER PLEASE CALL TO VERIFY IF PROGRAMS ARE RUNNING**** \n*For information regarding any of the programs noted on the calendar\, please contact Lyn Rorke 613- 692-4697 ext 224. \n**For transportation requests to any of our programs please call Tina Brohart at 613-692-4697 ext 237
URL:https://rosss.ca/event/adult-day-program-4-2-2/2025-05-20/
LOCATION:ON
CATEGORIES:CAREGIVERS,Community Events,ROSSS Fundraising Events,Social & Dining Programs
ATTACH;FMTTYPE=image/jpeg:https://rosss.ca/wp-content/uploads/2024/01/NEW-LGBTQ2-Adult-Day-Program.jpg
END:VEVENT
BEGIN:VEVENT
DTSTART;TZID=America/Toronto:20250516T123000
DTEND;TZID=America/Toronto:20250516T143000
DTSTAMP:20260421T132408
CREATED:20241203T182242Z
LAST-MODIFIED:20250428T195601Z
UID:10002671-1747398600-1747405800@rosss.ca
SUMMARY:Pickleball
DESCRIPTION:Join ROSSS for an exciting pickleball event filled with fun\, friendly competition\, and community spirit! Don’t miss this chance to connect\, play\, and enjoy a great day on the court.
URL:https://rosss.ca/event/pickleball-6/2025-05-16/
LOCATION:ON
CATEGORIES:Community Events,ROSSS Fundraising Events,Social & Dining Programs
ATTACH;FMTTYPE=image/jpeg:https://rosss.ca/wp-content/uploads/2024/12/Pickleball-ROSSS-events.jpg
END:VEVENT
BEGIN:VEVENT
DTSTART;TZID=America/Toronto:20250516T100000
DTEND;TZID=America/Toronto:20250516T150000
DTSTAMP:20260421T132408
CREATED:20250326T151244Z
LAST-MODIFIED:20250828T004753Z
UID:10002337-1747389600-1747407600@rosss.ca
SUMMARY:Adult Day Program
DESCRIPTION:Adult Day Program is by referral only by the HCCSS.\nTuesday ADP group is from 10am-3pm and the Caregivers is 10am- 12pm.\n\n****FOR DAYS WITH INCLEMENT WEATHER PLEASE CALL TO VERIFY IF PROGRAMS ARE RUNNING**** \n*For information regarding any of the programs noted on the calendar\, please contact Lyn Rorke 613- 692-4697 ext 224. \n**For transportation requests to any of our programs please call Tina Brohart at 613-692-4697 ext 237
URL:https://rosss.ca/event/adult-day-program-4-2-2/2025-05-16/
LOCATION:ON
CATEGORIES:CAREGIVERS,Community Events,ROSSS Fundraising Events,Social & Dining Programs
ATTACH;FMTTYPE=image/jpeg:https://rosss.ca/wp-content/uploads/2024/01/NEW-LGBTQ2-Adult-Day-Program.jpg
END:VEVENT
BEGIN:VEVENT
DTSTART;TZID=America/Toronto:20250516T100000
DTEND;TZID=America/Toronto:20250516T120000
DTSTAMP:20260421T132408
CREATED:20250227T160207Z
LAST-MODIFIED:20250428T202347Z
UID:10002679-1747389600-1747396800@rosss.ca
SUMMARY:Cultured Purls
DESCRIPTION:Cultured Purls Knitting Group: Hyfield in Manotick at 5581 Dr Leach Drive\, Open to all. \n****FOR DAYS WITH INCLEMENT WEATHER PLEASE CALL TO VERIFY IF PROGRAMS ARE RUNNING**** \n*For information regarding any of the programs noted on the calendar\, please contact Lyn Rorke 613- 692-4697 ext 224.
URL:https://rosss.ca/event/cultured-purls-2-2-2/2025-05-16/
LOCATION:Hyfield in Manotick\, 5581 Dr Leach Drive\, Manotick\, ON\, K4M 1J6\, Canada
CATEGORIES:Community Events,ROSSS Fundraising Events,Social & Dining Programs
ATTACH;FMTTYPE=image/jpeg:https://rosss.ca/wp-content/uploads/2024/12/Knitting-Group-ROSSS.jpg
END:VEVENT
BEGIN:VEVENT
DTSTART;TZID=America/Toronto:20250515T133000
DTEND;TZID=America/Toronto:20250515T153000
DTSTAMP:20260421T132408
CREATED:20241203T182242Z
LAST-MODIFIED:20250428T195601Z
UID:10002670-1747315800-1747323000@rosss.ca
SUMMARY:Pickleball
DESCRIPTION:Join ROSSS for an exciting pickleball event filled with fun\, friendly competition\, and community spirit! Don’t miss this chance to connect\, play\, and enjoy a great day on the court.
URL:https://rosss.ca/event/pickleball-6/2025-05-15/
LOCATION:ON
CATEGORIES:Community Events,ROSSS Fundraising Events,Social & Dining Programs
ATTACH;FMTTYPE=image/jpeg:https://rosss.ca/wp-content/uploads/2024/12/Pickleball-ROSSS-events.jpg
END:VEVENT
BEGIN:VEVENT
DTSTART;TZID=America/Toronto:20250515T100000
DTEND;TZID=America/Toronto:20250515T150000
DTSTAMP:20260421T132408
CREATED:20250326T151244Z
LAST-MODIFIED:20250828T004753Z
UID:10002036-1747303200-1747321200@rosss.ca
SUMMARY:Adult Day Program
DESCRIPTION:Adult Day Program is by referral only by the HCCSS.\nTuesday ADP group is from 10am-3pm and the Caregivers is 10am- 12pm.\n\n****FOR DAYS WITH INCLEMENT WEATHER PLEASE CALL TO VERIFY IF PROGRAMS ARE RUNNING**** \n*For information regarding any of the programs noted on the calendar\, please contact Lyn Rorke 613- 692-4697 ext 224. \n**For transportation requests to any of our programs please call Tina Brohart at 613-692-4697 ext 237
URL:https://rosss.ca/event/adult-day-program-4-2-2/2025-05-15/
LOCATION:ON
CATEGORIES:CAREGIVERS,Community Events,ROSSS Fundraising Events,Social & Dining Programs
ATTACH;FMTTYPE=image/jpeg:https://rosss.ca/wp-content/uploads/2024/01/NEW-LGBTQ2-Adult-Day-Program.jpg
END:VEVENT
BEGIN:VEVENT
DTSTART;TZID=America/Toronto:20250513T100000
DTEND;TZID=America/Toronto:20250513T150000
DTSTAMP:20260421T132408
CREATED:20250326T151244Z
LAST-MODIFIED:20250828T004753Z
UID:10002684-1747130400-1747148400@rosss.ca
SUMMARY:Adult Day Program
DESCRIPTION:Adult Day Program is by referral only by the HCCSS.\nTuesday ADP group is from 10am-3pm and the Caregivers is 10am- 12pm.\n\n****FOR DAYS WITH INCLEMENT WEATHER PLEASE CALL TO VERIFY IF PROGRAMS ARE RUNNING**** \n*For information regarding any of the programs noted on the calendar\, please contact Lyn Rorke 613- 692-4697 ext 224. \n**For transportation requests to any of our programs please call Tina Brohart at 613-692-4697 ext 237
URL:https://rosss.ca/event/adult-day-program-4-2-2/2025-05-13/
LOCATION:ON
CATEGORIES:CAREGIVERS,Community Events,ROSSS Fundraising Events,Social & Dining Programs
ATTACH;FMTTYPE=image/jpeg:https://rosss.ca/wp-content/uploads/2024/01/NEW-LGBTQ2-Adult-Day-Program.jpg
END:VEVENT
BEGIN:VEVENT
DTSTART;TZID=America/Toronto:20250512T123000
DTEND;TZID=America/Toronto:20250512T143000
DTSTAMP:20260421T132408
CREATED:20241203T182242Z
LAST-MODIFIED:20250428T195601Z
UID:10002669-1747053000-1747060200@rosss.ca
SUMMARY:Pickleball
DESCRIPTION:Join ROSSS for an exciting pickleball event filled with fun\, friendly competition\, and community spirit! Don’t miss this chance to connect\, play\, and enjoy a great day on the court.
URL:https://rosss.ca/event/pickleball-6/2025-05-12/
LOCATION:ON
CATEGORIES:Community Events,ROSSS Fundraising Events,Social & Dining Programs
ATTACH;FMTTYPE=image/jpeg:https://rosss.ca/wp-content/uploads/2024/12/Pickleball-ROSSS-events.jpg
END:VEVENT
BEGIN:VEVENT
DTSTART;TZID=America/Toronto:20250512T090000
DTEND;TZID=America/Toronto:20250512T103000
DTSTAMP:20260421T132408
CREATED:20241203T183121Z
LAST-MODIFIED:20250428T203049Z
UID:10002689-1747040400-1747045800@rosss.ca
SUMMARY:Manotick Breakfast
DESCRIPTION:Manotick Breakfast: Legion at 5550 Ann St. Registration is required. Breakfast is $12.\nAll breakfast and diners will now have a $5 no show fee if you have not cancelled your  reservation by the day . before due to food being purchased\nFor information regarding any of the programs noted on the calendar\, please contact Lyn Rorke 613- 692-4697 ext 224.\n\n****FOR DAYS WITH INCLEMENT WEATHER PLEASE CALL TO VERIFY IF PROGRAMS ARE RUNNING****
URL:https://rosss.ca/event/manotick-breakfast-3/2025-05-12/
LOCATION:Royal Canadian Legion Branch 314\, 5550 Ann St\, Manotick\, ON\, K4M 1A3\, Canada
CATEGORIES:Community Events,ROSSS Fundraising Events,Social & Dining Programs
ATTACH;FMTTYPE=image/jpeg:https://rosss.ca/wp-content/uploads/2024/12/Legion-at-5550-Ann-St.jpg
END:VEVENT
BEGIN:VEVENT
DTSTART;TZID=America/Toronto:20250509T123000
DTEND;TZID=America/Toronto:20250509T143000
DTSTAMP:20260421T132408
CREATED:20241203T182242Z
LAST-MODIFIED:20250428T195601Z
UID:10002668-1746793800-1746801000@rosss.ca
SUMMARY:Pickleball
DESCRIPTION:Join ROSSS for an exciting pickleball event filled with fun\, friendly competition\, and community spirit! Don’t miss this chance to connect\, play\, and enjoy a great day on the court.
URL:https://rosss.ca/event/pickleball-6/2025-05-09/
LOCATION:ON
CATEGORIES:Community Events,ROSSS Fundraising Events,Social & Dining Programs
ATTACH;FMTTYPE=image/jpeg:https://rosss.ca/wp-content/uploads/2024/12/Pickleball-ROSSS-events.jpg
END:VEVENT
BEGIN:VEVENT
DTSTART;TZID=America/Toronto:20250509T100000
DTEND;TZID=America/Toronto:20250509T150000
DTSTAMP:20260421T132408
CREATED:20250326T151244Z
LAST-MODIFIED:20250828T004753Z
UID:10002336-1746784800-1746802800@rosss.ca
SUMMARY:Adult Day Program
DESCRIPTION:Adult Day Program is by referral only by the HCCSS.\nTuesday ADP group is from 10am-3pm and the Caregivers is 10am- 12pm.\n\n****FOR DAYS WITH INCLEMENT WEATHER PLEASE CALL TO VERIFY IF PROGRAMS ARE RUNNING**** \n*For information regarding any of the programs noted on the calendar\, please contact Lyn Rorke 613- 692-4697 ext 224. \n**For transportation requests to any of our programs please call Tina Brohart at 613-692-4697 ext 237
URL:https://rosss.ca/event/adult-day-program-4-2-2/2025-05-09/
LOCATION:ON
CATEGORIES:CAREGIVERS,Community Events,ROSSS Fundraising Events,Social & Dining Programs
ATTACH;FMTTYPE=image/jpeg:https://rosss.ca/wp-content/uploads/2024/01/NEW-LGBTQ2-Adult-Day-Program.jpg
END:VEVENT
BEGIN:VEVENT
DTSTART;TZID=America/Toronto:20250509T100000
DTEND;TZID=America/Toronto:20250509T120000
DTSTAMP:20260421T132408
CREATED:20250227T160207Z
LAST-MODIFIED:20250428T202347Z
UID:10002678-1746784800-1746792000@rosss.ca
SUMMARY:Cultured Purls
DESCRIPTION:Cultured Purls Knitting Group: Hyfield in Manotick at 5581 Dr Leach Drive\, Open to all. \n****FOR DAYS WITH INCLEMENT WEATHER PLEASE CALL TO VERIFY IF PROGRAMS ARE RUNNING**** \n*For information regarding any of the programs noted on the calendar\, please contact Lyn Rorke 613- 692-4697 ext 224.
URL:https://rosss.ca/event/cultured-purls-2-2-2/2025-05-09/
LOCATION:Hyfield in Manotick\, 5581 Dr Leach Drive\, Manotick\, ON\, K4M 1J6\, Canada
CATEGORIES:Community Events,ROSSS Fundraising Events,Social & Dining Programs
ATTACH;FMTTYPE=image/jpeg:https://rosss.ca/wp-content/uploads/2024/12/Knitting-Group-ROSSS.jpg
END:VEVENT
BEGIN:VEVENT
DTSTART;TZID=America/Toronto:20250508T133000
DTEND;TZID=America/Toronto:20250508T153000
DTSTAMP:20260421T132408
CREATED:20241203T182242Z
LAST-MODIFIED:20250428T195601Z
UID:10002667-1746711000-1746718200@rosss.ca
SUMMARY:Pickleball
DESCRIPTION:Join ROSSS for an exciting pickleball event filled with fun\, friendly competition\, and community spirit! Don’t miss this chance to connect\, play\, and enjoy a great day on the court.
URL:https://rosss.ca/event/pickleball-6/2025-05-08/
LOCATION:ON
CATEGORIES:Community Events,ROSSS Fundraising Events,Social & Dining Programs
ATTACH;FMTTYPE=image/jpeg:https://rosss.ca/wp-content/uploads/2024/12/Pickleball-ROSSS-events.jpg
END:VEVENT
BEGIN:VEVENT
DTSTART;TZID=America/Toronto:20250508T100000
DTEND;TZID=America/Toronto:20250508T150000
DTSTAMP:20260421T132408
CREATED:20250326T151244Z
LAST-MODIFIED:20250828T004753Z
UID:10002035-1746698400-1746716400@rosss.ca
SUMMARY:Adult Day Program
DESCRIPTION:Adult Day Program is by referral only by the HCCSS.\nTuesday ADP group is from 10am-3pm and the Caregivers is 10am- 12pm.\n\n****FOR DAYS WITH INCLEMENT WEATHER PLEASE CALL TO VERIFY IF PROGRAMS ARE RUNNING**** \n*For information regarding any of the programs noted on the calendar\, please contact Lyn Rorke 613- 692-4697 ext 224. \n**For transportation requests to any of our programs please call Tina Brohart at 613-692-4697 ext 237
URL:https://rosss.ca/event/adult-day-program-4-2-2/2025-05-08/
LOCATION:ON
CATEGORIES:CAREGIVERS,Community Events,ROSSS Fundraising Events,Social & Dining Programs
ATTACH;FMTTYPE=image/jpeg:https://rosss.ca/wp-content/uploads/2024/01/NEW-LGBTQ2-Adult-Day-Program.jpg
END:VEVENT
BEGIN:VEVENT
DTSTART;TZID=America/Toronto:20250507T120000
DTEND;TZID=America/Toronto:20250507T140000
DTSTAMP:20260421T132408
CREATED:20250428T202811Z
LAST-MODIFIED:20250428T202811Z
UID:10002687-1746619200-1746626400@rosss.ca
SUMMARY:The Great Social Luncheon in Greely
DESCRIPTION:Formally known as Diners. \nMore of all your favorite things! More entertainment\, more chances to win prizes\, more gifts from local businesses! Plus\, exciting themes showcased through vibrant decor\, stunning flowers\, and engaging games! \nWhen: First Wednesday of every month from 12:00-2:00 PM (Starting April 3\, 2025)\nWhere: This month is at the Greely Community Centre\, 1448 Meadow Dr.\nCost: $18\nNote: Registration is required. \nFor more information or to register please contact Lyn Rorke at 613- 692-4697 ext 224. \n****FOR DAYS WITH INCLEMENT WEATHER PLEASE CALL TO VERIFY IF PROGRAMS ARE RUNNING****
URL:https://rosss.ca/event/the-great-social-luncheon-in-greely/
LOCATION:Greely Community Centre\, 1448 Meadow Dr\, Greely\, ON\, Canada
CATEGORIES:Community Events
ATTACH;FMTTYPE=image/jpeg:https://rosss.ca/wp-content/uploads/2025/04/Greely-Community-Centre-1448-Meadow-Dr.jpg
END:VEVENT
BEGIN:VEVENT
DTSTART;TZID=America/Toronto:20250506T100000
DTEND;TZID=America/Toronto:20250506T150000
DTSTAMP:20260421T132408
CREATED:20250326T151244Z
LAST-MODIFIED:20250828T004753Z
UID:10002683-1746525600-1746543600@rosss.ca
SUMMARY:Adult Day Program
DESCRIPTION:Adult Day Program is by referral only by the HCCSS.\nTuesday ADP group is from 10am-3pm and the Caregivers is 10am- 12pm.\n\n****FOR DAYS WITH INCLEMENT WEATHER PLEASE CALL TO VERIFY IF PROGRAMS ARE RUNNING**** \n*For information regarding any of the programs noted on the calendar\, please contact Lyn Rorke 613- 692-4697 ext 224. \n**For transportation requests to any of our programs please call Tina Brohart at 613-692-4697 ext 237
URL:https://rosss.ca/event/adult-day-program-4-2-2/2025-05-06/
LOCATION:ON
CATEGORIES:CAREGIVERS,Community Events,ROSSS Fundraising Events,Social & Dining Programs
ATTACH;FMTTYPE=image/jpeg:https://rosss.ca/wp-content/uploads/2024/01/NEW-LGBTQ2-Adult-Day-Program.jpg
END:VEVENT
BEGIN:VEVENT
DTSTART;TZID=America/Toronto:20250505T123000
DTEND;TZID=America/Toronto:20250505T143000
DTSTAMP:20260421T132408
CREATED:20241203T182242Z
LAST-MODIFIED:20250428T195601Z
UID:10002666-1746448200-1746455400@rosss.ca
SUMMARY:Pickleball
DESCRIPTION:Join ROSSS for an exciting pickleball event filled with fun\, friendly competition\, and community spirit! Don’t miss this chance to connect\, play\, and enjoy a great day on the court.
URL:https://rosss.ca/event/pickleball-6/2025-05-05/
LOCATION:ON
CATEGORIES:Community Events,ROSSS Fundraising Events,Social & Dining Programs
ATTACH;FMTTYPE=image/jpeg:https://rosss.ca/wp-content/uploads/2024/12/Pickleball-ROSSS-events.jpg
END:VEVENT
BEGIN:VEVENT
DTSTART;TZID=America/Toronto:20250502T123000
DTEND;TZID=America/Toronto:20250502T143000
DTSTAMP:20260421T132408
CREATED:20241203T182242Z
LAST-MODIFIED:20250428T195601Z
UID:10002665-1746189000-1746196200@rosss.ca
SUMMARY:Pickleball
DESCRIPTION:Join ROSSS for an exciting pickleball event filled with fun\, friendly competition\, and community spirit! Don’t miss this chance to connect\, play\, and enjoy a great day on the court.
URL:https://rosss.ca/event/pickleball-6/2025-05-02/
LOCATION:ON
CATEGORIES:Community Events,ROSSS Fundraising Events,Social & Dining Programs
ATTACH;FMTTYPE=image/jpeg:https://rosss.ca/wp-content/uploads/2024/12/Pickleball-ROSSS-events.jpg
END:VEVENT
BEGIN:VEVENT
DTSTART;TZID=America/Toronto:20250502T100000
DTEND;TZID=America/Toronto:20250502T150000
DTSTAMP:20260421T132408
CREATED:20250326T151244Z
LAST-MODIFIED:20250828T004753Z
UID:10002335-1746180000-1746198000@rosss.ca
SUMMARY:Adult Day Program
DESCRIPTION:Adult Day Program is by referral only by the HCCSS.\nTuesday ADP group is from 10am-3pm and the Caregivers is 10am- 12pm.\n\n****FOR DAYS WITH INCLEMENT WEATHER PLEASE CALL TO VERIFY IF PROGRAMS ARE RUNNING**** \n*For information regarding any of the programs noted on the calendar\, please contact Lyn Rorke 613- 692-4697 ext 224. \n**For transportation requests to any of our programs please call Tina Brohart at 613-692-4697 ext 237
URL:https://rosss.ca/event/adult-day-program-4-2-2/2025-05-02/
LOCATION:ON
CATEGORIES:CAREGIVERS,Community Events,ROSSS Fundraising Events,Social & Dining Programs
ATTACH;FMTTYPE=image/jpeg:https://rosss.ca/wp-content/uploads/2024/01/NEW-LGBTQ2-Adult-Day-Program.jpg
END:VEVENT
BEGIN:VEVENT
DTSTART;TZID=America/Toronto:20250501T133000
DTEND;TZID=America/Toronto:20250501T153000
DTSTAMP:20260421T132408
CREATED:20241203T182242Z
LAST-MODIFIED:20250428T195601Z
UID:10002664-1746106200-1746113400@rosss.ca
SUMMARY:Pickleball
DESCRIPTION:Join ROSSS for an exciting pickleball event filled with fun\, friendly competition\, and community spirit! Don’t miss this chance to connect\, play\, and enjoy a great day on the court.
URL:https://rosss.ca/event/pickleball-6/2025-05-01/
LOCATION:ON
CATEGORIES:Community Events,ROSSS Fundraising Events,Social & Dining Programs
ATTACH;FMTTYPE=image/jpeg:https://rosss.ca/wp-content/uploads/2024/12/Pickleball-ROSSS-events.jpg
END:VEVENT
BEGIN:VEVENT
DTSTART;TZID=America/Toronto:20250501T100000
DTEND;TZID=America/Toronto:20250501T150000
DTSTAMP:20260421T132408
CREATED:20250326T151244Z
LAST-MODIFIED:20250828T004753Z
UID:10002034-1746093600-1746111600@rosss.ca
SUMMARY:Adult Day Program
DESCRIPTION:Adult Day Program is by referral only by the HCCSS.\nTuesday ADP group is from 10am-3pm and the Caregivers is 10am- 12pm.\n\n****FOR DAYS WITH INCLEMENT WEATHER PLEASE CALL TO VERIFY IF PROGRAMS ARE RUNNING**** \n*For information regarding any of the programs noted on the calendar\, please contact Lyn Rorke 613- 692-4697 ext 224. \n**For transportation requests to any of our programs please call Tina Brohart at 613-692-4697 ext 237
URL:https://rosss.ca/event/adult-day-program-4-2-2/2025-05-01/
LOCATION:ON
CATEGORIES:CAREGIVERS,Community Events,ROSSS Fundraising Events,Social & Dining Programs
ATTACH;FMTTYPE=image/jpeg:https://rosss.ca/wp-content/uploads/2024/01/NEW-LGBTQ2-Adult-Day-Program.jpg
END:VEVENT
BEGIN:VEVENT
DTSTART;TZID=America/Toronto:20250430T100000
DTEND;TZID=America/Toronto:20250430T120000
DTSTAMP:20260421T132408
CREATED:20230526T151837Z
LAST-MODIFIED:20250326T191521Z
UID:10002333-1746007200-1746014400@rosss.ca
SUMMARY:Osgoode Drop-in
DESCRIPTION:Drop-in for a sociable chat\, game of bingo and various fun topics and presenters.
URL:https://rosss.ca/event/osgoode-drop-in-2/2025-04-30/
LOCATION:ON
CATEGORIES:Community Events
ATTACH;FMTTYPE=image/jpeg:https://rosss.ca/wp-content/uploads/2023/05/Osgoode-Youth-Association-ROSSS-Events.jpg
END:VEVENT
BEGIN:VEVENT
DTSTART;TZID=America/Toronto:20250429T100000
DTEND;TZID=America/Toronto:20250429T150000
DTSTAMP:20260421T132408
CREATED:20250326T151244Z
LAST-MODIFIED:20250828T004753Z
UID:10002299-1745920800-1745938800@rosss.ca
SUMMARY:Adult Day Program
DESCRIPTION:Adult Day Program is by referral only by the HCCSS.\nTuesday ADP group is from 10am-3pm and the Caregivers is 10am- 12pm.\n\n****FOR DAYS WITH INCLEMENT WEATHER PLEASE CALL TO VERIFY IF PROGRAMS ARE RUNNING**** \n*For information regarding any of the programs noted on the calendar\, please contact Lyn Rorke 613- 692-4697 ext 224. \n**For transportation requests to any of our programs please call Tina Brohart at 613-692-4697 ext 237
URL:https://rosss.ca/event/adult-day-program-4-2-2/2025-04-29/
LOCATION:ON
CATEGORIES:CAREGIVERS,Community Events,ROSSS Fundraising Events,Social & Dining Programs
ATTACH;FMTTYPE=image/jpeg:https://rosss.ca/wp-content/uploads/2024/01/NEW-LGBTQ2-Adult-Day-Program.jpg
END:VEVENT
BEGIN:VEVENT
DTSTART;TZID=America/Toronto:20250428T123000
DTEND;TZID=America/Toronto:20250428T143000
DTSTAMP:20260421T132408
CREATED:20241203T182242Z
LAST-MODIFIED:20250428T195601Z
UID:10002317-1745843400-1745850600@rosss.ca
SUMMARY:Pickleball
DESCRIPTION:Join ROSSS for an exciting pickleball event filled with fun\, friendly competition\, and community spirit! Don’t miss this chance to connect\, play\, and enjoy a great day on the court.
URL:https://rosss.ca/event/pickleball-6/2025-04-28/
LOCATION:ON
CATEGORIES:Community Events,ROSSS Fundraising Events,Social & Dining Programs
ATTACH;FMTTYPE=image/jpeg:https://rosss.ca/wp-content/uploads/2024/12/Pickleball-ROSSS-events.jpg
END:VEVENT
BEGIN:VEVENT
DTSTART;TZID=America/Toronto:20250428T120000
DTEND;TZID=America/Toronto:20250428T140000
DTSTAMP:20260421T132408
CREATED:20250728T175519Z
LAST-MODIFIED:20251109T061047Z
UID:10003062-1745841600-1745848800@rosss.ca
SUMMARY:Connections Lunch: The Marlborough
DESCRIPTION:*For all connections lunches reservations ARE REQUIRED. Please call Lyn at least 3 business days before the lunch to reserve your spot. \n****FOR DAYS WITH INCLEMENT WEATHER PLEASE CALL TO VERIFY IF PROGRAMS ARE RUNNING**** \n*For information regarding any of the programs noted on the calendar\, please contact Lyn Rorke 613- 692-4697 ext 224. \n**For transportation requests to any of our programs please call Tina Brohart at 613-692-4697 ext 237
URL:https://rosss.ca/event/connections-lunch-the-marlborough-2/2025-04-28/
LOCATION:The Marlborough Pub and Eatery\, 2364 Roger Stevens Dr\, North Gower\, ON\, K0A 2T0\, Canada
CATEGORIES:Community Events,DINING PROGRAM,ROSSS Fundraising Events,Social & Dining Programs
ATTACH;FMTTYPE=image/jpeg:https://rosss.ca/wp-content/uploads/2024/12/The-Marlborough.jpg
END:VEVENT
BEGIN:VEVENT
DTSTART;TZID=America/Toronto:20250428T120000
DTEND;TZID=America/Toronto:20250428T140000
DTSTAMP:20260421T132408
CREATED:20241203T191321Z
LAST-MODIFIED:20250326T162226Z
UID:10002332-1745841600-1745848800@rosss.ca
SUMMARY:Connections Lunch: The Marlborough
DESCRIPTION:*For all connections lunches reservations ARE REQUIRED. Please call Lyn at least 3 business days before the lunch to reserve your spot. \n****FOR DAYS WITH INCLEMENT WEATHER PLEASE CALL TO VERIFY IF PROGRAMS ARE RUNNING**** \n*For information regarding any of the programs noted on the calendar\, please contact Lyn Rorke 613- 692-4697 ext 224.
URL:https://rosss.ca/event/connections-lunch-the-marlborough/2025-04-28/
LOCATION:The Marlborough Pub and Eatery\, 2364 Roger Stevens Dr\, North Gower\, ON\, K0A 2T0\, Canada
CATEGORIES:Community Events,ROSSS Fundraising Events,Social & Dining Programs
ATTACH;FMTTYPE=image/jpeg:https://rosss.ca/wp-content/uploads/2024/12/The-Marlborough.jpg
END:VEVENT
BEGIN:VEVENT
DTSTART;TZID=America/Toronto:20250425T123000
DTEND;TZID=America/Toronto:20250425T143000
DTSTAMP:20260421T132408
CREATED:20241203T182242Z
LAST-MODIFIED:20250428T195601Z
UID:10002316-1745584200-1745591400@rosss.ca
SUMMARY:Pickleball
DESCRIPTION:Join ROSSS for an exciting pickleball event filled with fun\, friendly competition\, and community spirit! Don’t miss this chance to connect\, play\, and enjoy a great day on the court.
URL:https://rosss.ca/event/pickleball-6/2025-04-25/
LOCATION:ON
CATEGORIES:Community Events,ROSSS Fundraising Events,Social & Dining Programs
ATTACH;FMTTYPE=image/jpeg:https://rosss.ca/wp-content/uploads/2024/12/Pickleball-ROSSS-events.jpg
END:VEVENT
BEGIN:VEVENT
DTSTART;TZID=America/Toronto:20250425T100000
DTEND;TZID=America/Toronto:20250425T120000
DTSTAMP:20260421T132408
CREATED:20250227T160207Z
LAST-MODIFIED:20250428T202347Z
UID:10002331-1745575200-1745582400@rosss.ca
SUMMARY:Cultured Purls
DESCRIPTION:Cultured Purls Knitting Group: Hyfield in Manotick at 5581 Dr Leach Drive\, Open to all. \n****FOR DAYS WITH INCLEMENT WEATHER PLEASE CALL TO VERIFY IF PROGRAMS ARE RUNNING**** \n*For information regarding any of the programs noted on the calendar\, please contact Lyn Rorke 613- 692-4697 ext 224.
URL:https://rosss.ca/event/cultured-purls-2-2-2/2025-04-25/
LOCATION:Hyfield in Manotick\, 5581 Dr Leach Drive\, Manotick\, ON\, K4M 1J6\, Canada
CATEGORIES:Community Events,ROSSS Fundraising Events,Social & Dining Programs
ATTACH;FMTTYPE=image/jpeg:https://rosss.ca/wp-content/uploads/2024/12/Knitting-Group-ROSSS.jpg
END:VEVENT
BEGIN:VEVENT
DTSTART;TZID=America/Toronto:20250425T090000
DTEND;TZID=America/Toronto:20250425T103000
DTSTAMP:20260421T132408
CREATED:20241203T193749Z
LAST-MODIFIED:20250428T203327Z
UID:10002328-1745571600-1745577000@rosss.ca
SUMMARY:Metcalfe Breakfast
DESCRIPTION:Metcalfe Breakfast: Lions Den at 2821 8th Line Rd. Registration is required. Breakfast is $12. \n****FOR DAYS WITH INCLEMENT WEATHER PLEASE CALL TO VERIFY IF PROGRAMS ARE RUNNING**** \n*For information regarding any of the programs noted on the calendar\, please contact Lyn Rorke 613- 692-4697 ext 224.
URL:https://rosss.ca/event/metcalfe-breakfast/2025-04-25/
LOCATION:Lions Den\, 2821 8th Line Rd\, Metcalfe\, ON\, K0A 2P0\, Canada
CATEGORIES:Community Events,ROSSS Fundraising Events,Social & Dining Programs
ATTACH;FMTTYPE=image/jpeg:https://rosss.ca/wp-content/uploads/2024/12/metcalfe-breakfast.jpg
END:VEVENT
BEGIN:VEVENT
DTSTART;TZID=America/Toronto:20250424T133000
DTEND;TZID=America/Toronto:20250424T153000
DTSTAMP:20260421T132408
CREATED:20241203T182242Z
LAST-MODIFIED:20250428T195601Z
UID:10002315-1745501400-1745508600@rosss.ca
SUMMARY:Pickleball
DESCRIPTION:Join ROSSS for an exciting pickleball event filled with fun\, friendly competition\, and community spirit! Don’t miss this chance to connect\, play\, and enjoy a great day on the court.
URL:https://rosss.ca/event/pickleball-6/2025-04-24/
LOCATION:ON
CATEGORIES:Community Events,ROSSS Fundraising Events,Social & Dining Programs
ATTACH;FMTTYPE=image/jpeg:https://rosss.ca/wp-content/uploads/2024/12/Pickleball-ROSSS-events.jpg
END:VEVENT
END:VCALENDAR