BEGIN:VCALENDAR
VERSION:2.0
PRODID:-//ROSSS - ECPv6.15.20//NONSGML v1.0//EN
CALSCALE:GREGORIAN
METHOD:PUBLISH
X-WR-CALNAME:ROSSS
X-ORIGINAL-URL:https://rosss.ca
X-WR-CALDESC:Events for ROSSS
REFRESH-INTERVAL;VALUE=DURATION:PT1H
X-Robots-Tag:noindex
X-PUBLISHED-TTL:PT1H
BEGIN:VTIMEZONE
TZID:America/Toronto
BEGIN:DAYLIGHT
TZOFFSETFROM:-0500
TZOFFSETTO:-0400
TZNAME:EDT
DTSTART:20220313T070000
END:DAYLIGHT
BEGIN:STANDARD
TZOFFSETFROM:-0400
TZOFFSETTO:-0500
TZNAME:EST
DTSTART:20221106T060000
END:STANDARD
BEGIN:DAYLIGHT
TZOFFSETFROM:-0500
TZOFFSETTO:-0400
TZNAME:EDT
DTSTART:20230312T070000
END:DAYLIGHT
BEGIN:STANDARD
TZOFFSETFROM:-0400
TZOFFSETTO:-0500
TZNAME:EST
DTSTART:20231105T060000
END:STANDARD
BEGIN:DAYLIGHT
TZOFFSETFROM:-0500
TZOFFSETTO:-0400
TZNAME:EDT
DTSTART:20240310T070000
END:DAYLIGHT
BEGIN:STANDARD
TZOFFSETFROM:-0400
TZOFFSETTO:-0500
TZNAME:EST
DTSTART:20241103T060000
END:STANDARD
END:VTIMEZONE
BEGIN:VEVENT
DTSTART;TZID=America/Toronto:20230504T100000
DTEND;TZID=America/Toronto:20230504T150000
DTSTAMP:20260422T121730
CREATED:20230131T193857Z
LAST-MODIFIED:20230209T154211Z
UID:10000476-1683194400-1683212400@rosss.ca
SUMMARY:Adult Day Program
DESCRIPTION:The Adult Day Program provides supervised individual programming in a group setting for older adults\, who may be physically frail\, cognitively impaired and/or socially isolated. Our program is designed to assist participants in achieving and maintaining their maximum level of functioning\, to prevent premature and inappropriate institutionalization and to provide respite and information for caregivers. Program elements include planned social\, recreational and physical activities\, snacks and lunch. Transportation is available upon request. NOTE: The Adult Day Program is open to registered clients only.
URL:https://rosss.ca/event/adult-day-program/2023-05-04/
END:VEVENT
BEGIN:VEVENT
DTSTART;TZID=America/Toronto:20230503T100000
DTEND;TZID=America/Toronto:20230503T120000
DTSTAMP:20260422T121730
CREATED:20230131T192810Z
LAST-MODIFIED:20230209T153921Z
UID:10000387-1683108000-1683115200@rosss.ca
SUMMARY:Manotick Drop-in
DESCRIPTION:Drop-in for a sociable chat\, game of bingo and various fun topics and presenters.
URL:https://rosss.ca/event/manotick-drop-in/2023-05-03/
END:VEVENT
BEGIN:VEVENT
DTSTART;TZID=America/Toronto:20230502T100000
DTEND;TZID=America/Toronto:20230502T120000
DTSTAMP:20260422T121730
CREATED:20230131T184331Z
LAST-MODIFIED:20230209T154935Z
UID:10000210-1683021600-1683028800@rosss.ca
SUMMARY:Osgoode Drop-in
DESCRIPTION:Drop-in for a sociable chat\, game of bingo and various fun topics and presenters.
URL:https://rosss.ca/event/osgoode-drop-in/2023-05-02/
END:VEVENT
BEGIN:VEVENT
DTSTART;TZID=America/Toronto:20230502T100000
DTEND;TZID=America/Toronto:20230502T110000
DTSTAMP:20260422T121730
CREATED:20230131T184648Z
LAST-MODIFIED:20230209T154902Z
UID:10000270-1683021600-1683025200@rosss.ca
SUMMARY:Hyfield Fitness
DESCRIPTION:Please join us for a fun\, active morning at Hyfield Place in Manotick.
URL:https://rosss.ca/event/hyfield-fitness/2023-05-02/
END:VEVENT
BEGIN:VEVENT
DTSTART;TZID=America/Toronto:20230501T120000
DTEND;TZID=America/Toronto:20230501T140000
DTSTAMP:20260422T121730
CREATED:20230127T180533Z
LAST-MODIFIED:20230203T170131Z
UID:10000042-1682942400-1682949600@rosss.ca
SUMMARY:Pickleball
DESCRIPTION:Please join us for a fun and active drop-in program playing pickleball. Please note there is a drop-in fee of $4.00 for this program.
URL:https://rosss.ca/event/pickleball/2023-05-01/
LOCATION:Greely Community Centre\, 1448 Meadow Dr\, Greely\, ON\, Canada
END:VEVENT
BEGIN:VEVENT
DTSTART;TZID=America/Toronto:20230501T120000
DTEND;TZID=America/Toronto:20230501T133000
DTSTAMP:20260422T121730
CREATED:20230131T183556Z
LAST-MODIFIED:20230209T155627Z
UID:10000150-1682942400-1682947800@rosss.ca
SUMMARY:Connections Lunch
DESCRIPTION:Enjoy good food and even better company at our favourite restaurants in Manotick\, Richmond\, Metcalfe\, and North Gower! Connections lunches provide an opportunity to connect with friends and meet new people in the community. Groups will be notified a week in advance to register for lunches.
URL:https://rosss.ca/event/connections-lunch/2023-05-01/
END:VEVENT
BEGIN:VEVENT
DTSTART;TZID=America/Toronto:20230428T120000
DTEND;TZID=America/Toronto:20230428T140000
DTSTAMP:20260422T121730
CREATED:20230127T180533Z
LAST-MODIFIED:20230203T170131Z
UID:10000041-1682683200-1682690400@rosss.ca
SUMMARY:Pickleball
DESCRIPTION:Please join us for a fun and active drop-in program playing pickleball. Please note there is a drop-in fee of $4.00 for this program.
URL:https://rosss.ca/event/pickleball/2023-04-28/
LOCATION:Greely Community Centre\, 1448 Meadow Dr\, Greely\, ON\, Canada
END:VEVENT
BEGIN:VEVENT
DTSTART;TZID=America/Toronto:20230428T100000
DTEND;TZID=America/Toronto:20230428T120000
DTSTAMP:20260422T121730
CREATED:20230131T194009Z
LAST-MODIFIED:20230209T154459Z
UID:10000536-1682676000-1682683200@rosss.ca
SUMMARY:Cultured Purls
DESCRIPTION:Calling all knitters! Join us for good conversation while you finish your latest projects.
URL:https://rosss.ca/event/cultured-purls/2023-04-28/
END:VEVENT
BEGIN:VEVENT
DTSTART;TZID=America/Toronto:20230427T100000
DTEND;TZID=America/Toronto:20230427T150000
DTSTAMP:20260422T121730
CREATED:20230131T193857Z
LAST-MODIFIED:20230209T154211Z
UID:10000475-1682589600-1682607600@rosss.ca
SUMMARY:Adult Day Program
DESCRIPTION:The Adult Day Program provides supervised individual programming in a group setting for older adults\, who may be physically frail\, cognitively impaired and/or socially isolated. Our program is designed to assist participants in achieving and maintaining their maximum level of functioning\, to prevent premature and inappropriate institutionalization and to provide respite and information for caregivers. Program elements include planned social\, recreational and physical activities\, snacks and lunch. Transportation is available upon request. NOTE: The Adult Day Program is open to registered clients only.
URL:https://rosss.ca/event/adult-day-program/2023-04-27/
END:VEVENT
BEGIN:VEVENT
DTSTART;TZID=America/Toronto:20230426T100000
DTEND;TZID=America/Toronto:20230426T120000
DTSTAMP:20260422T121730
CREATED:20230131T192810Z
LAST-MODIFIED:20230209T153921Z
UID:10000386-1682503200-1682510400@rosss.ca
SUMMARY:Manotick Drop-in
DESCRIPTION:Drop-in for a sociable chat\, game of bingo and various fun topics and presenters.
URL:https://rosss.ca/event/manotick-drop-in/2023-04-26/
END:VEVENT
BEGIN:VEVENT
DTSTART;TZID=America/Toronto:20230425T100000
DTEND;TZID=America/Toronto:20230425T120000
DTSTAMP:20260422T121730
CREATED:20230131T184331Z
LAST-MODIFIED:20230209T154935Z
UID:10000209-1682416800-1682424000@rosss.ca
SUMMARY:Osgoode Drop-in
DESCRIPTION:Drop-in for a sociable chat\, game of bingo and various fun topics and presenters.
URL:https://rosss.ca/event/osgoode-drop-in/2023-04-25/
END:VEVENT
BEGIN:VEVENT
DTSTART;TZID=America/Toronto:20230425T100000
DTEND;TZID=America/Toronto:20230425T110000
DTSTAMP:20260422T121730
CREATED:20230131T184648Z
LAST-MODIFIED:20230209T154902Z
UID:10000269-1682416800-1682420400@rosss.ca
SUMMARY:Hyfield Fitness
DESCRIPTION:Please join us for a fun\, active morning at Hyfield Place in Manotick.
URL:https://rosss.ca/event/hyfield-fitness/2023-04-25/
END:VEVENT
BEGIN:VEVENT
DTSTART;TZID=America/Toronto:20230424T120000
DTEND;TZID=America/Toronto:20230424T140000
DTSTAMP:20260422T121730
CREATED:20230127T180533Z
LAST-MODIFIED:20230203T170131Z
UID:10000040-1682337600-1682344800@rosss.ca
SUMMARY:Pickleball
DESCRIPTION:Please join us for a fun and active drop-in program playing pickleball. Please note there is a drop-in fee of $4.00 for this program.
URL:https://rosss.ca/event/pickleball/2023-04-24/
LOCATION:Greely Community Centre\, 1448 Meadow Dr\, Greely\, ON\, Canada
END:VEVENT
BEGIN:VEVENT
DTSTART;TZID=America/Toronto:20230424T120000
DTEND;TZID=America/Toronto:20230424T133000
DTSTAMP:20260422T121730
CREATED:20230131T183556Z
LAST-MODIFIED:20230209T155627Z
UID:10000149-1682337600-1682343000@rosss.ca
SUMMARY:Connections Lunch
DESCRIPTION:Enjoy good food and even better company at our favourite restaurants in Manotick\, Richmond\, Metcalfe\, and North Gower! Connections lunches provide an opportunity to connect with friends and meet new people in the community. Groups will be notified a week in advance to register for lunches.
URL:https://rosss.ca/event/connections-lunch/2023-04-24/
END:VEVENT
BEGIN:VEVENT
DTSTART;TZID=America/Toronto:20230421T120000
DTEND;TZID=America/Toronto:20230421T140000
DTSTAMP:20260422T121730
CREATED:20230127T180533Z
LAST-MODIFIED:20230203T170131Z
UID:10000039-1682078400-1682085600@rosss.ca
SUMMARY:Pickleball
DESCRIPTION:Please join us for a fun and active drop-in program playing pickleball. Please note there is a drop-in fee of $4.00 for this program.
URL:https://rosss.ca/event/pickleball/2023-04-21/
LOCATION:Greely Community Centre\, 1448 Meadow Dr\, Greely\, ON\, Canada
END:VEVENT
BEGIN:VEVENT
DTSTART;TZID=America/Toronto:20230421T100000
DTEND;TZID=America/Toronto:20230421T120000
DTSTAMP:20260422T121730
CREATED:20230131T194009Z
LAST-MODIFIED:20230209T154459Z
UID:10000535-1682071200-1682078400@rosss.ca
SUMMARY:Cultured Purls
DESCRIPTION:Calling all knitters! Join us for good conversation while you finish your latest projects.
URL:https://rosss.ca/event/cultured-purls/2023-04-21/
END:VEVENT
BEGIN:VEVENT
DTSTART;TZID=America/Toronto:20230420T100000
DTEND;TZID=America/Toronto:20230420T150000
DTSTAMP:20260422T121730
CREATED:20230131T193857Z
LAST-MODIFIED:20230209T154211Z
UID:10000474-1681984800-1682002800@rosss.ca
SUMMARY:Adult Day Program
DESCRIPTION:The Adult Day Program provides supervised individual programming in a group setting for older adults\, who may be physically frail\, cognitively impaired and/or socially isolated. Our program is designed to assist participants in achieving and maintaining their maximum level of functioning\, to prevent premature and inappropriate institutionalization and to provide respite and information for caregivers. Program elements include planned social\, recreational and physical activities\, snacks and lunch. Transportation is available upon request. NOTE: The Adult Day Program is open to registered clients only.
URL:https://rosss.ca/event/adult-day-program/2023-04-20/
END:VEVENT
BEGIN:VEVENT
DTSTART;TZID=America/Toronto:20230419T130000
DTEND;TZID=America/Toronto:20230419T143000
DTSTAMP:20260422T121730
CREATED:20230131T193323Z
LAST-MODIFIED:20231107T121238Z
UID:10000451-1681909200-1681914600@rosss.ca
SUMMARY:Goodwood Apartments Drop-in
DESCRIPTION:Drop-in for a sociable chat\, game of bingo and various fun topics and presenters.
URL:https://rosss.ca/event/goodwood-apartments-drop-in/2023-04-19/
END:VEVENT
BEGIN:VEVENT
DTSTART;TZID=America/Toronto:20230419T100000
DTEND;TZID=America/Toronto:20230419T120000
DTSTAMP:20260422T121730
CREATED:20230131T192810Z
LAST-MODIFIED:20230209T153921Z
UID:10000385-1681898400-1681905600@rosss.ca
SUMMARY:Manotick Drop-in
DESCRIPTION:Drop-in for a sociable chat\, game of bingo and various fun topics and presenters.
URL:https://rosss.ca/event/manotick-drop-in/2023-04-19/
END:VEVENT
BEGIN:VEVENT
DTSTART;TZID=America/Toronto:20230418T100000
DTEND;TZID=America/Toronto:20230418T120000
DTSTAMP:20260422T121730
CREATED:20230131T184331Z
LAST-MODIFIED:20230209T154935Z
UID:10000208-1681812000-1681819200@rosss.ca
SUMMARY:Osgoode Drop-in
DESCRIPTION:Drop-in for a sociable chat\, game of bingo and various fun topics and presenters.
URL:https://rosss.ca/event/osgoode-drop-in/2023-04-18/
END:VEVENT
BEGIN:VEVENT
DTSTART;TZID=America/Toronto:20230418T100000
DTEND;TZID=America/Toronto:20230418T110000
DTSTAMP:20260422T121730
CREATED:20230131T184648Z
LAST-MODIFIED:20230209T154902Z
UID:10000268-1681812000-1681815600@rosss.ca
SUMMARY:Hyfield Fitness
DESCRIPTION:Please join us for a fun\, active morning at Hyfield Place in Manotick.
URL:https://rosss.ca/event/hyfield-fitness/2023-04-18/
END:VEVENT
BEGIN:VEVENT
DTSTART;TZID=America/Toronto:20230417T120000
DTEND;TZID=America/Toronto:20230417T140000
DTSTAMP:20260422T121730
CREATED:20230127T180533Z
LAST-MODIFIED:20230203T170131Z
UID:10000038-1681732800-1681740000@rosss.ca
SUMMARY:Pickleball
DESCRIPTION:Please join us for a fun and active drop-in program playing pickleball. Please note there is a drop-in fee of $4.00 for this program.
URL:https://rosss.ca/event/pickleball/2023-04-17/
LOCATION:Greely Community Centre\, 1448 Meadow Dr\, Greely\, ON\, Canada
END:VEVENT
BEGIN:VEVENT
DTSTART;TZID=America/Toronto:20230417T120000
DTEND;TZID=America/Toronto:20230417T133000
DTSTAMP:20260422T121730
CREATED:20230131T183556Z
LAST-MODIFIED:20230209T155627Z
UID:10000148-1681732800-1681738200@rosss.ca
SUMMARY:Connections Lunch
DESCRIPTION:Enjoy good food and even better company at our favourite restaurants in Manotick\, Richmond\, Metcalfe\, and North Gower! Connections lunches provide an opportunity to connect with friends and meet new people in the community. Groups will be notified a week in advance to register for lunches.
URL:https://rosss.ca/event/connections-lunch/2023-04-17/
END:VEVENT
BEGIN:VEVENT
DTSTART;TZID=America/Toronto:20230414T120000
DTEND;TZID=America/Toronto:20230414T140000
DTSTAMP:20260422T121730
CREATED:20230127T180533Z
LAST-MODIFIED:20230203T170131Z
UID:10000037-1681473600-1681480800@rosss.ca
SUMMARY:Pickleball
DESCRIPTION:Please join us for a fun and active drop-in program playing pickleball. Please note there is a drop-in fee of $4.00 for this program.
URL:https://rosss.ca/event/pickleball/2023-04-14/
LOCATION:Greely Community Centre\, 1448 Meadow Dr\, Greely\, ON\, Canada
END:VEVENT
BEGIN:VEVENT
DTSTART;TZID=America/Toronto:20230414T100000
DTEND;TZID=America/Toronto:20230414T120000
DTSTAMP:20260422T121730
CREATED:20230131T194009Z
LAST-MODIFIED:20230209T154459Z
UID:10000534-1681466400-1681473600@rosss.ca
SUMMARY:Cultured Purls
DESCRIPTION:Calling all knitters! Join us for good conversation while you finish your latest projects.
URL:https://rosss.ca/event/cultured-purls/2023-04-14/
END:VEVENT
BEGIN:VEVENT
DTSTART;TZID=America/Toronto:20230414T083000
DTEND;TZID=America/Toronto:20230414T103000
DTSTAMP:20260422T121730
CREATED:20230321T120630Z
LAST-MODIFIED:20230321T120630Z
UID:10000622-1681461000-1681468200@rosss.ca
SUMMARY:Manotick Breakfast
DESCRIPTION:The Manotick Breakfast is back! The Breakfast will take place at the Manotick Legion on the second Friday of each month. Registration is required. Please contact Merry Parkinson at 613-692-4697 ext. 226.
URL:https://rosss.ca/event/manotick-breakfast/2023-04-14/
END:VEVENT
BEGIN:VEVENT
DTSTART;TZID=America/Toronto:20230413T100000
DTEND;TZID=America/Toronto:20230413T150000
DTSTAMP:20260422T121730
CREATED:20230131T193857Z
LAST-MODIFIED:20230209T154211Z
UID:10000473-1681380000-1681398000@rosss.ca
SUMMARY:Adult Day Program
DESCRIPTION:The Adult Day Program provides supervised individual programming in a group setting for older adults\, who may be physically frail\, cognitively impaired and/or socially isolated. Our program is designed to assist participants in achieving and maintaining their maximum level of functioning\, to prevent premature and inappropriate institutionalization and to provide respite and information for caregivers. Program elements include planned social\, recreational and physical activities\, snacks and lunch. Transportation is available upon request. NOTE: The Adult Day Program is open to registered clients only.
URL:https://rosss.ca/event/adult-day-program/2023-04-13/
END:VEVENT
BEGIN:VEVENT
DTSTART;TZID=America/Toronto:20230412T100000
DTEND;TZID=America/Toronto:20230412T120000
DTSTAMP:20260422T121730
CREATED:20230131T192810Z
LAST-MODIFIED:20230209T153921Z
UID:10000384-1681293600-1681300800@rosss.ca
SUMMARY:Manotick Drop-in
DESCRIPTION:Drop-in for a sociable chat\, game of bingo and various fun topics and presenters.
URL:https://rosss.ca/event/manotick-drop-in/2023-04-12/
END:VEVENT
BEGIN:VEVENT
DTSTART;TZID=America/Toronto:20230411T100000
DTEND;TZID=America/Toronto:20230411T120000
DTSTAMP:20260422T121730
CREATED:20230131T184331Z
LAST-MODIFIED:20230209T154935Z
UID:10000207-1681207200-1681214400@rosss.ca
SUMMARY:Osgoode Drop-in
DESCRIPTION:Drop-in for a sociable chat\, game of bingo and various fun topics and presenters.
URL:https://rosss.ca/event/osgoode-drop-in/2023-04-11/
END:VEVENT
BEGIN:VEVENT
DTSTART;TZID=America/Toronto:20230411T100000
DTEND;TZID=America/Toronto:20230411T110000
DTSTAMP:20260422T121730
CREATED:20230131T184648Z
LAST-MODIFIED:20230209T154902Z
UID:10000267-1681207200-1681210800@rosss.ca
SUMMARY:Hyfield Fitness
DESCRIPTION:Please join us for a fun\, active morning at Hyfield Place in Manotick.
URL:https://rosss.ca/event/hyfield-fitness/2023-04-11/
END:VEVENT
END:VCALENDAR