BEGIN:VCALENDAR
VERSION:2.0
PRODID:-//ROSSS - ECPv6.15.20//NONSGML v1.0//EN
CALSCALE:GREGORIAN
METHOD:PUBLISH
X-WR-CALNAME:ROSSS
X-ORIGINAL-URL:https://rosss.ca
X-WR-CALDESC:Events for ROSSS
REFRESH-INTERVAL;VALUE=DURATION:PT1H
X-Robots-Tag:noindex
X-PUBLISHED-TTL:PT1H
BEGIN:VTIMEZONE
TZID:America/Toronto
BEGIN:DAYLIGHT
TZOFFSETFROM:-0500
TZOFFSETTO:-0400
TZNAME:EDT
DTSTART:20220313T070000
END:DAYLIGHT
BEGIN:STANDARD
TZOFFSETFROM:-0400
TZOFFSETTO:-0500
TZNAME:EST
DTSTART:20221106T060000
END:STANDARD
BEGIN:DAYLIGHT
TZOFFSETFROM:-0500
TZOFFSETTO:-0400
TZNAME:EDT
DTSTART:20230312T070000
END:DAYLIGHT
BEGIN:STANDARD
TZOFFSETFROM:-0400
TZOFFSETTO:-0500
TZNAME:EST
DTSTART:20231105T060000
END:STANDARD
BEGIN:DAYLIGHT
TZOFFSETFROM:-0500
TZOFFSETTO:-0400
TZNAME:EDT
DTSTART:20240310T070000
END:DAYLIGHT
BEGIN:STANDARD
TZOFFSETFROM:-0400
TZOFFSETTO:-0500
TZNAME:EST
DTSTART:20241103T060000
END:STANDARD
BEGIN:DAYLIGHT
TZOFFSETFROM:-0500
TZOFFSETTO:-0400
TZNAME:EDT
DTSTART:20250309T070000
END:DAYLIGHT
BEGIN:STANDARD
TZOFFSETFROM:-0400
TZOFFSETTO:-0500
TZNAME:EST
DTSTART:20251102T060000
END:STANDARD
BEGIN:DAYLIGHT
TZOFFSETFROM:-0500
TZOFFSETTO:-0400
TZNAME:EDT
DTSTART:20260308T070000
END:DAYLIGHT
BEGIN:STANDARD
TZOFFSETFROM:-0400
TZOFFSETTO:-0500
TZNAME:EST
DTSTART:20261101T060000
END:STANDARD
BEGIN:DAYLIGHT
TZOFFSETFROM:-0500
TZOFFSETTO:-0400
TZNAME:EDT
DTSTART:20270314T070000
END:DAYLIGHT
BEGIN:STANDARD
TZOFFSETFROM:-0400
TZOFFSETTO:-0500
TZNAME:EST
DTSTART:20271107T060000
END:STANDARD
END:VTIMEZONE
BEGIN:VEVENT
DTSTART;TZID=America/Toronto:20260415T100000
DTEND;TZID=America/Toronto:20260415T120000
DTSTAMP:20260421T041542
CREATED:20260331T195844Z
LAST-MODIFIED:20260331T195844Z
UID:10003358-1776247200-1776254400@rosss.ca
SUMMARY:Mix and Mingle
DESCRIPTION:Drop-in for a sociable chat and mix & mingle. \n* Intergeneration Event will take place at O-YA\, 5479 Osgoode Main St. Contact for details and to register. \n****FOR DAYS WITH INCLEMENT WEATHER PLEASE CALL TO VERIFY IF PROGRAMS ARE RUNNING**** \n*For information regarding any of the programs noted on the calendar\, please contact Lyn Rorke 613- 692-4697 ext 224. \n**For transportation requests to any of our programs please call Tina Brohart at 613-692-4697 ext 237
URL:https://rosss.ca/event/mix-and-mingle/
LOCATION:O-YA\, 5479 Osgoode Main St\, Osgoode\, ON\, K0A 2W0\, Canada
CATEGORIES:Community Events,Social & Dining Programs
ATTACH;FMTTYPE=image/jpeg:https://rosss.ca/wp-content/uploads/2023/05/Osgoode-Youth-Association-ROSSS-Events.jpg
END:VEVENT
BEGIN:VEVENT
DTSTART;TZID=America/Toronto:20260325T100000
DTEND;TZID=America/Toronto:20260325T120000
DTSTAMP:20260421T041542
CREATED:20260304T192815Z
LAST-MODIFIED:20260304T192815Z
UID:10003334-1774432800-1774440000@rosss.ca
SUMMARY:Osgoode Coffee and Cards
DESCRIPTION:A relaxed\, fun-filled event where you can enjoy a warm cup of coffee while diving into your favorite card games! Whether you’re a seasoned pro or a beginner\, bring your friends and challenge them to exciting rounds of Euchre and more. \nCoffee and Cards will be held at the O-YA\, 5479 Osgoode Main St. Event is $6. Registration is appreciated. \n****FOR DAYS WITH INCLEMENT WEATHER PLEASE CALL TO VERIFY IF PROGRAMS ARE RUNNING**** \n*For information regarding any of the programs noted on the calendar\, please contact Lyn Rorke 613- 692-4697 ext 224. \n**For transportation requests to any of our programs please call Tina Brohart at 613-692-4697 ext 237
URL:https://rosss.ca/event/osgoode-coffee-and-cards-7/
LOCATION:O-YA\, 5479 Osgoode Main St\, Osgoode\, ON\, K0A 2W0\, Canada
CATEGORIES:Community Events,ROSSS Fundraising Events,Social & Dining Programs
ATTACH;FMTTYPE=image/jpeg:https://rosss.ca/wp-content/uploads/2025/01/coffee-and-cards-event-ROSSS.jpg
END:VEVENT
BEGIN:VEVENT
DTSTART;TZID=America/Toronto:20260318T100000
DTEND;TZID=America/Toronto:20260318T120000
DTSTAMP:20260421T041542
CREATED:20260304T191227Z
LAST-MODIFIED:20260304T191227Z
UID:10003331-1773828000-1773835200@rosss.ca
SUMMARY:Osgoode Mix and Mingle
DESCRIPTION:Drop-in for a sociable chat and mix & mingle. \n* Intergeneration Event will take place at O-YA\, 5479 Osgoode Main St. Contact for details and to register. \n****FOR DAYS WITH INCLEMENT WEATHER PLEASE CALL TO VERIFY IF PROGRAMS ARE RUNNING**** \n*For information regarding any of the programs noted on the calendar\, please contact Lyn Rorke 613- 692-4697 ext 224. \n**For transportation requests to any of our programs please call Tina Brohart at 613-692-4697 ext 237
URL:https://rosss.ca/event/osgoode-mix-and-mingle-3/
LOCATION:O-YA\, 5479 Osgoode Main St\, Osgoode\, ON\, K0A 2W0\, Canada
CATEGORIES:Community Events,Social & Dining Programs
ATTACH;FMTTYPE=image/jpeg:https://rosss.ca/wp-content/uploads/2023/05/Osgoode-Youth-Association-ROSSS-Events.jpg
END:VEVENT
BEGIN:VEVENT
DTSTART;TZID=America/Toronto:20260225T100000
DTEND;TZID=America/Toronto:20260225T120000
DTSTAMP:20260421T041542
CREATED:20260130T204341Z
LAST-MODIFIED:20260130T204341Z
UID:10003300-1772013600-1772020800@rosss.ca
SUMMARY:Osgoode Coffee and Cards
DESCRIPTION:A relaxed\, fun-filled event where you can enjoy a warm cup of coffee while diving into your favorite card games! Whether you’re a seasoned pro or a beginner\, bring your friends and challenge them to exciting rounds of Euchre and more. \nCoffee and Cards will be held at the O-YA\, 5479 Osgoode Main St. Event is $6. Registration is appreciated. \n****FOR DAYS WITH INCLEMENT WEATHER PLEASE CALL TO VERIFY IF PROGRAMS ARE RUNNING**** \n*For information regarding any of the programs noted on the calendar\, please contact Lyn Rorke 613- 692-4697 ext 224. \n**For transportation requests to any of our programs please call Tina Brohart at 613-692-4697 ext 237
URL:https://rosss.ca/event/osgoode-coffee-and-cards-6/
LOCATION:O-YA\, 5479 Osgoode Main St\, Osgoode\, ON\, K0A 2W0\, Canada
CATEGORIES:Community Events,ROSSS Fundraising Events,Social & Dining Programs
ATTACH;FMTTYPE=image/jpeg:https://rosss.ca/wp-content/uploads/2025/01/coffee-and-cards-event-ROSSS.jpg
END:VEVENT
BEGIN:VEVENT
DTSTART;TZID=America/Toronto:20260218T100000
DTEND;TZID=America/Toronto:20260218T120000
DTSTAMP:20260421T041542
CREATED:20260130T201442Z
LAST-MODIFIED:20260130T201442Z
UID:10003290-1771408800-1771416000@rosss.ca
SUMMARY:Osgoode Mix and Mingle
DESCRIPTION:Drop-in for a sociable chat and mix & mingle. \n* Intergeneration Event will take place at O-YA\, 5479 Osgoode Main St. Contact for details and to register. \n****FOR DAYS WITH INCLEMENT WEATHER PLEASE CALL TO VERIFY IF PROGRAMS ARE RUNNING**** \n*For information regarding any of the programs noted on the calendar\, please contact Lyn Rorke 613- 692-4697 ext 224. \n**For transportation requests to any of our programs please call Tina Brohart at 613-692-4697 ext 237
URL:https://rosss.ca/event/osgoode-mix-and-mingle-2/
LOCATION:O-YA\, 5479 Osgoode Main St\, Osgoode\, ON\, K0A 2W0\, Canada
CATEGORIES:Community Events,Social & Dining Programs
ATTACH;FMTTYPE=image/jpeg:https://rosss.ca/wp-content/uploads/2023/05/Osgoode-Youth-Association-ROSSS-Events.jpg
END:VEVENT
BEGIN:VEVENT
DTSTART;TZID=America/Toronto:20260128T100000
DTEND;TZID=America/Toronto:20260128T120000
DTSTAMP:20260421T041542
CREATED:20260107T185802Z
LAST-MODIFIED:20260107T185802Z
UID:10003264-1769594400-1769601600@rosss.ca
SUMMARY:Osgoode Coffee and Cards
DESCRIPTION:A relaxed\, fun-filled event where you can enjoy a warm cup of coffee while diving into your favorite card games! Whether you’re a seasoned pro or a beginner\, bring your friends and challenge them to exciting rounds of Euchre and more. \nCoffee and Cards will be held at the O-YA\, 5479 Osgoode Main St. Event is $6. Registration is appreciated. \n****FOR DAYS WITH INCLEMENT WEATHER PLEASE CALL TO VERIFY IF PROGRAMS ARE RUNNING**** \n*For information regarding any of the programs noted on the calendar\, please contact Lyn Rorke 613- 692-4697 ext 224. \n**For transportation requests to any of our programs please call Tina Brohart at 613-692-4697 ext 237
URL:https://rosss.ca/event/osgoode-coffee-and-cards-5/
LOCATION:O-YA\, 5479 Osgoode Main St\, Osgoode\, ON\, K0A 2W0\, Canada
CATEGORIES:Community Events,ROSSS Fundraising Events,Social & Dining Programs
ATTACH;FMTTYPE=image/jpeg:https://rosss.ca/wp-content/uploads/2025/01/coffee-and-cards-event-ROSSS.jpg
END:VEVENT
BEGIN:VEVENT
DTSTART;TZID=America/Toronto:20260121T100000
DTEND;TZID=America/Toronto:20260121T120000
DTSTAMP:20260421T041542
CREATED:20260107T182351Z
LAST-MODIFIED:20260107T182351Z
UID:10003253-1768989600-1768996800@rosss.ca
SUMMARY:Osgoode Mix and Mingle
DESCRIPTION:Drop-in for a sociable chat and mix & mingle. \n* Intergeneration Event will take place at O-YA\, 5479 Osgoode Main St. Contact for details and to register. \n****FOR DAYS WITH INCLEMENT WEATHER PLEASE CALL TO VERIFY IF PROGRAMS ARE RUNNING**** \n*For information regarding any of the programs noted on the calendar\, please contact Lyn Rorke 613- 692-4697 ext 224. \n**For transportation requests to any of our programs please call Tina Brohart at 613-692-4697 ext 237
URL:https://rosss.ca/event/osgoode-mix-and-mingle/
LOCATION:O-YA\, 5479 Osgoode Main St\, Osgoode\, ON\, K0A 2W0\, Canada
CATEGORIES:Community Events,Social & Dining Programs
ATTACH;FMTTYPE=image/jpeg:https://rosss.ca/wp-content/uploads/2023/05/Osgoode-Youth-Association-ROSSS-Events.jpg
END:VEVENT
BEGIN:VEVENT
DTSTART;TZID=America/Toronto:20250730T100000
DTEND;TZID=America/Toronto:20250730T120000
DTSTAMP:20260421T041542
CREATED:20250703T211714Z
LAST-MODIFIED:20250703T211715Z
UID:10003048-1753869600-1753876800@rosss.ca
SUMMARY:Osgoode Drop-in
DESCRIPTION:Drop-in for a sociable chat\, game of bingo and various fun topics and presenters. \n* Intergeneration Event will take place at O-YA\, 5479 Osgoode Main St. Contact for details and to register. \n****FOR DAYS WITH INCLEMENT WEATHER PLEASE CALL TO VERIFY IF PROGRAMS ARE RUNNING**** \n*For information regarding any of the programs noted on the calendar\, please contact Lyn Rorke 613- 692-4697 ext 224. \n**For transportation requests to any of our programs please call Tina Brohart at 613-692-4697 ext 237
URL:https://rosss.ca/event/osgoode-drop-in-3-2/
LOCATION:O-YA\, 5479 Osgoode Main St\, Osgoode\, ON\, K0A 2W0\, Canada
CATEGORIES:Community Events
ATTACH;FMTTYPE=image/jpeg:https://rosss.ca/wp-content/uploads/2023/05/Osgoode-Youth-Association-ROSSS-Events.jpg
END:VEVENT
BEGIN:VEVENT
DTSTART;TZID=America/Toronto:20241218T100000
DTEND;TZID=America/Toronto:20241218T120000
DTSTAMP:20260421T041542
CREATED:20241203T193109Z
LAST-MODIFIED:20241203T193109Z
UID:10001186-1734516000-1734523200@rosss.ca
SUMMARY:ROSSS Client Christmas Party
DESCRIPTION:ROSSS client Christmas party will be held at O-YA\, 5479 Osgoode Main St. Event fee is $6. Registration is appreciated. \n****FOR DAYS WITH INCLEMENT WEATHER PLEASE CALL TO VERIFY IF PROGRAMS ARE RUNNING**** \nFor information regarding any of the programs noted on the calendar\, please contact Lyn Rorke 613- 692-4697 ext 224.
URL:https://rosss.ca/event/rosss-client-christmas-party/
LOCATION:O-YA\, 5479 Osgoode Main St\, Osgoode\, ON\, K0A 2W0\, Canada
CATEGORIES:Social & Dining Programs
ATTACH;FMTTYPE=image/jpeg:https://rosss.ca/wp-content/uploads/2024/12/ROSSS-Christmas-party-event.jpg
END:VEVENT
BEGIN:VEVENT
DTSTART;TZID=America/Toronto:20230530T100000
DTEND;TZID=America/Toronto:20230530T120000
DTSTAMP:20260421T041542
CREATED:20250703T211450Z
LAST-MODIFIED:20250703T211450Z
UID:10003047-1685440800-1685448000@rosss.ca
SUMMARY:Osgoode Drop-in
DESCRIPTION:Drop-in for a sociable chat\, game of bingo and various fun topics and presenters. \n* Intergeneration Event will take place at O-YA\, 5479 Osgoode Main St. Contact for details and to register. \n****FOR DAYS WITH INCLEMENT WEATHER PLEASE CALL TO VERIFY IF PROGRAMS ARE RUNNING**** \n*For information regarding any of the programs noted on the calendar\, please contact Lyn Rorke 613- 692-4697 ext 224. \n**For transportation requests to any of our programs please call Tina Brohart at 613-692-4697 ext 237
URL:https://rosss.ca/event/osgoode-drop-in-3/
LOCATION:O-YA\, 5479 Osgoode Main St\, Osgoode\, ON\, K0A 2W0\, Canada
CATEGORIES:Community Events
ATTACH;FMTTYPE=image/jpeg:https://rosss.ca/wp-content/uploads/2023/05/Osgoode-Youth-Association-ROSSS-Events.jpg
END:VEVENT
END:VCALENDAR