BEGIN:VCALENDAR
VERSION:2.0
PRODID:-//ROSSS - ECPv6.15.20//NONSGML v1.0//EN
CALSCALE:GREGORIAN
METHOD:PUBLISH
X-WR-CALNAME:ROSSS
X-ORIGINAL-URL:https://rosss.ca
X-WR-CALDESC:Events for ROSSS
REFRESH-INTERVAL;VALUE=DURATION:PT1H
X-Robots-Tag:noindex
X-PUBLISHED-TTL:PT1H
BEGIN:VTIMEZONE
TZID:America/Toronto
BEGIN:DAYLIGHT
TZOFFSETFROM:-0500
TZOFFSETTO:-0400
TZNAME:EDT
DTSTART:20250309T070000
END:DAYLIGHT
BEGIN:STANDARD
TZOFFSETFROM:-0400
TZOFFSETTO:-0500
TZNAME:EST
DTSTART:20251102T060000
END:STANDARD
BEGIN:DAYLIGHT
TZOFFSETFROM:-0500
TZOFFSETTO:-0400
TZNAME:EDT
DTSTART:20260308T070000
END:DAYLIGHT
BEGIN:STANDARD
TZOFFSETFROM:-0400
TZOFFSETTO:-0500
TZNAME:EST
DTSTART:20261101T060000
END:STANDARD
BEGIN:DAYLIGHT
TZOFFSETFROM:-0500
TZOFFSETTO:-0400
TZNAME:EDT
DTSTART:20270314T070000
END:DAYLIGHT
BEGIN:STANDARD
TZOFFSETFROM:-0400
TZOFFSETTO:-0500
TZNAME:EST
DTSTART:20271107T060000
END:STANDARD
END:VTIMEZONE
BEGIN:VEVENT
DTSTART;TZID=America/Toronto:20260420T123000
DTEND;TZID=America/Toronto:20260420T143000
DTSTAMP:20260421T071708
CREATED:20260331T200700Z
LAST-MODIFIED:20260331T200700Z
UID:10003364-1776688200-1776695400@rosss.ca
SUMMARY:Big Bingo in Metcalfe
DESCRIPTION:Test your luck and have fun with your friends while playing bingo and winning great prizes! Free Admission! \nBig bingo is a free event\, by registration only.  Held at St. Andrews United Church in Metcalfe located at 2677 8th Line Road. \n****FOR DAYS WITH INCLEMENT WEATHER PLEASE CALL TO VERIFY IF PROGRAMS ARE RUNNING**** \n*For information regarding any of the programs noted on the calendar\, please contact Lyn Rorke 613- 692-4697 ext 224. \n**For transportation requests to any of our programs please call Tina Brohart at 613-692-4697 ext 237.
URL:https://rosss.ca/event/big-bingo-in-metcalfe-3/
LOCATION:St. Andrews United Church in Metcalfe\, 2677 8th Line Road\, Metcalfe\, ON\, K0A 2P0\, Canada
CATEGORIES:Community Events,ROSSS Fundraising Events,Social & Dining Programs
ATTACH;FMTTYPE=image/jpeg:https://rosss.ca/wp-content/uploads/2026/01/St-Andrews.jpg
END:VEVENT
BEGIN:VEVENT
DTSTART;TZID=America/Toronto:20260119T123000
DTEND;TZID=America/Toronto:20260119T143000
DTSTAMP:20260421T071708
CREATED:20260107T180800Z
LAST-MODIFIED:20260107T180949Z
UID:10003248-1768825800-1768833000@rosss.ca
SUMMARY:Big Bingo in Metcalfe
DESCRIPTION:Test your luck and have fun with your friends while playing bingo and winning great prizes! Free Admission! \nBig bingo is a free event\, by registration only.  Held at St. Andrews United Church in Metcalfe located at 2677 8th Line Road. \n****FOR DAYS WITH INCLEMENT WEATHER PLEASE CALL TO VERIFY IF PROGRAMS ARE RUNNING**** \n*For information regarding any of the programs noted on the calendar\, please contact Lyn Rorke 613- 692-4697 ext 224. \n**For transportation requests to any of our programs please call Tina Brohart at 613-692-4697 ext 237
URL:https://rosss.ca/event/big-bingo-in-metcalfe-2/
LOCATION:St. Andrews United Church in Metcalfe\, 2677 8th Line Road\, Metcalfe\, ON\, K0A 2P0\, Canada
CATEGORIES:Community Events,ROSSS Fundraising Events,Social & Dining Programs
ATTACH;FMTTYPE=image/jpeg:https://rosss.ca/wp-content/uploads/2026/01/St-Andrews.jpg
END:VEVENT
END:VCALENDAR